BEGIN:VCALENDAR
VERSION:2.0
PRODID:-//ICCIE - ECPv6.15.20//NONSGML v1.0//EN
CALSCALE:GREGORIAN
METHOD:PUBLISH
X-WR-CALNAME:ICCIE
X-ORIGINAL-URL:https://iccie.org
X-WR-CALDESC:Events for ICCIE
REFRESH-INTERVAL;VALUE=DURATION:PT1H
X-Robots-Tag:noindex
X-PUBLISHED-TTL:PT1H
BEGIN:VTIMEZONE
TZID:America/New_York
BEGIN:DAYLIGHT
TZOFFSETFROM:-0500
TZOFFSETTO:-0400
TZNAME:EDT
DTSTART:20240310T070000
END:DAYLIGHT
BEGIN:STANDARD
TZOFFSETFROM:-0400
TZOFFSETTO:-0500
TZNAME:EST
DTSTART:20241103T060000
END:STANDARD
BEGIN:DAYLIGHT
TZOFFSETFROM:-0500
TZOFFSETTO:-0400
TZNAME:EDT
DTSTART:20250309T070000
END:DAYLIGHT
BEGIN:STANDARD
TZOFFSETFROM:-0400
TZOFFSETTO:-0500
TZNAME:EST
DTSTART:20251102T060000
END:STANDARD
BEGIN:DAYLIGHT
TZOFFSETFROM:-0500
TZOFFSETTO:-0400
TZNAME:EDT
DTSTART:20260308T070000
END:DAYLIGHT
BEGIN:STANDARD
TZOFFSETFROM:-0400
TZOFFSETTO:-0500
TZNAME:EST
DTSTART:20261101T060000
END:STANDARD
END:VTIMEZONE
BEGIN:VEVENT
DTSTART;TZID=America/New_York:20250204T120000
DTEND;TZID=America/New_York:20250204T131500
DTSTAMP:20260425T093625
CREATED:20241021T181825Z
LAST-MODIFIED:20241217T184617Z
UID:10002716-1738670400-1738674900@iccie.org
SUMMARY:Understanding Risk and Risk Retention Mechanisms - *FULL*
DESCRIPTION:see course details
URL:https://iccie.org/course/understanding-risk-and-risk-retention-mechanisms-18/2025-02-04/
CATEGORIES:Core Courses
END:VEVENT
BEGIN:VEVENT
DTSTART;TZID=America/New_York:20250205T120000
DTEND;TZID=America/New_York:20250205T131500
DTSTAMP:20260425T093625
CREATED:20241119T153228Z
LAST-MODIFIED:20241119T153228Z
UID:10002803-1738756800-1738761300@iccie.org
SUMMARY:Understanding the Intricacies of Cell Captives
DESCRIPTION:see course details
URL:https://iccie.org/course/understanding-the-intricacies-of-cell-captives-6/2025-02-05/
CATEGORIES:Elective Courses
END:VEVENT
BEGIN:VEVENT
DTSTART;TZID=America/New_York:20250211T120000
DTEND;TZID=America/New_York:20250211T131500
DTSTAMP:20260425T093625
CREATED:20241021T182528Z
LAST-MODIFIED:20241021T182643Z
UID:10002721-1739275200-1739279700@iccie.org
SUMMARY:Business Ethics in the Captive Insurance Industry
DESCRIPTION:see course details
URL:https://iccie.org/course/business-ethics-in-the-captive-insurance-industry-13/2025-02-11/
CATEGORIES:Core Courses
END:VEVENT
BEGIN:VEVENT
DTSTART;TZID=America/New_York:20250212T120000
DTEND;TZID=America/New_York:20250212T131500
DTSTAMP:20260425T093625
CREATED:20241119T153228Z
LAST-MODIFIED:20241119T153228Z
UID:10002804-1739361600-1739366100@iccie.org
SUMMARY:Understanding the Intricacies of Cell Captives
DESCRIPTION:see course details
URL:https://iccie.org/course/understanding-the-intricacies-of-cell-captives-6/2025-02-12/
CATEGORIES:Elective Courses
END:VEVENT
BEGIN:VEVENT
DTSTART;TZID=America/New_York:20250213T120000
DTEND;TZID=America/New_York:20250213T131500
DTSTAMP:20260425T093625
CREATED:20241021T183014Z
LAST-MODIFIED:20241021T183014Z
UID:10002776-1739448000-1739452500@iccie.org
SUMMARY:Accounting for Captives:  Financial Reporting and Analysis
DESCRIPTION:see course details
URL:https://iccie.org/course/accounting-for-captives-financial-reporting-and-analysis-7/2025-02-13/
CATEGORIES:Elective Courses
END:VEVENT
BEGIN:VEVENT
DTSTART;TZID=America/New_York:20250218T120000
DTEND;TZID=America/New_York:20250218T131500
DTSTAMP:20260425T093625
CREATED:20241021T182528Z
LAST-MODIFIED:20241021T182643Z
UID:10002722-1739880000-1739884500@iccie.org
SUMMARY:Business Ethics in the Captive Insurance Industry
DESCRIPTION:see course details
URL:https://iccie.org/course/business-ethics-in-the-captive-insurance-industry-13/2025-02-18/
CATEGORIES:Core Courses
END:VEVENT
BEGIN:VEVENT
DTSTART;TZID=America/New_York:20250219T120000
DTEND;TZID=America/New_York:20250219T131500
DTSTAMP:20260425T093625
CREATED:20241119T153228Z
LAST-MODIFIED:20241119T153228Z
UID:10002805-1739966400-1739970900@iccie.org
SUMMARY:Understanding the Intricacies of Cell Captives
DESCRIPTION:see course details
URL:https://iccie.org/course/understanding-the-intricacies-of-cell-captives-6/2025-02-19/
CATEGORIES:Elective Courses
END:VEVENT
BEGIN:VEVENT
DTSTART;TZID=America/New_York:20250220T120000
DTEND;TZID=America/New_York:20250220T131500
DTSTAMP:20260425T093625
CREATED:20241021T183014Z
LAST-MODIFIED:20241021T183014Z
UID:10002777-1740052800-1740057300@iccie.org
SUMMARY:Accounting for Captives:  Financial Reporting and Analysis
DESCRIPTION:see course details
URL:https://iccie.org/course/accounting-for-captives-financial-reporting-and-analysis-7/2025-02-20/
CATEGORIES:Elective Courses
END:VEVENT
BEGIN:VEVENT
DTSTART;TZID=America/New_York:20250225T120000
DTEND;TZID=America/New_York:20250225T131500
DTSTAMP:20260425T093625
CREATED:20241021T182528Z
LAST-MODIFIED:20241021T182643Z
UID:10002723-1740484800-1740489300@iccie.org
SUMMARY:Business Ethics in the Captive Insurance Industry
DESCRIPTION:see course details
URL:https://iccie.org/course/business-ethics-in-the-captive-insurance-industry-13/2025-02-25/
CATEGORIES:Core Courses
END:VEVENT
BEGIN:VEVENT
DTSTART;TZID=America/New_York:20250226T120000
DTEND;TZID=America/New_York:20250226T131500
DTSTAMP:20260425T093625
CREATED:20241119T153228Z
LAST-MODIFIED:20241119T153228Z
UID:10002806-1740571200-1740575700@iccie.org
SUMMARY:Understanding the Intricacies of Cell Captives
DESCRIPTION:see course details
URL:https://iccie.org/course/understanding-the-intricacies-of-cell-captives-6/2025-02-26/
CATEGORIES:Elective Courses
END:VEVENT
BEGIN:VEVENT
DTSTART;TZID=America/New_York:20250227T120000
DTEND;TZID=America/New_York:20250227T131500
DTSTAMP:20260425T093625
CREATED:20241021T183014Z
LAST-MODIFIED:20241021T183014Z
UID:10002778-1740657600-1740662100@iccie.org
SUMMARY:Accounting for Captives:  Financial Reporting and Analysis
DESCRIPTION:see course details
URL:https://iccie.org/course/accounting-for-captives-financial-reporting-and-analysis-7/2025-02-27/
CATEGORIES:Elective Courses
END:VEVENT
END:VCALENDAR