BEGIN:VCALENDAR
VERSION:2.0
PRODID:-//ICCIE - ECPv6.15.20//NONSGML v1.0//EN
CALSCALE:GREGORIAN
METHOD:PUBLISH
X-WR-CALNAME:ICCIE
X-ORIGINAL-URL:https://iccie.org
X-WR-CALDESC:Events for ICCIE
REFRESH-INTERVAL;VALUE=DURATION:PT1H
X-Robots-Tag:noindex
X-PUBLISHED-TTL:PT1H
BEGIN:VTIMEZONE
TZID:America/New_York
BEGIN:DAYLIGHT
TZOFFSETFROM:-0500
TZOFFSETTO:-0400
TZNAME:EDT
DTSTART:20230312T070000
END:DAYLIGHT
BEGIN:STANDARD
TZOFFSETFROM:-0400
TZOFFSETTO:-0500
TZNAME:EST
DTSTART:20231105T060000
END:STANDARD
BEGIN:DAYLIGHT
TZOFFSETFROM:-0500
TZOFFSETTO:-0400
TZNAME:EDT
DTSTART:20240310T070000
END:DAYLIGHT
BEGIN:STANDARD
TZOFFSETFROM:-0400
TZOFFSETTO:-0500
TZNAME:EST
DTSTART:20241103T060000
END:STANDARD
BEGIN:DAYLIGHT
TZOFFSETFROM:-0500
TZOFFSETTO:-0400
TZNAME:EDT
DTSTART:20250309T070000
END:DAYLIGHT
BEGIN:STANDARD
TZOFFSETFROM:-0400
TZOFFSETTO:-0500
TZNAME:EST
DTSTART:20251102T060000
END:STANDARD
BEGIN:DAYLIGHT
TZOFFSETFROM:-0500
TZOFFSETTO:-0400
TZNAME:EDT
DTSTART:20260308T070000
END:DAYLIGHT
BEGIN:STANDARD
TZOFFSETFROM:-0400
TZOFFSETTO:-0500
TZNAME:EST
DTSTART:20261101T060000
END:STANDARD
END:VTIMEZONE
BEGIN:VEVENT
DTSTART;VALUE=DATE:20241231
DTEND;VALUE=DATE:20250102
DTSTAMP:20260425T093544
CREATED:20241209T181523Z
LAST-MODIFIED:20241209T181523Z
UID:10002818-1735603200-1735775999@iccie.org
SUMMARY:ICCIE Office Closed
DESCRIPTION:
URL:https://iccie.org/course/iccie-office-closed-3/
END:VEVENT
BEGIN:VEVENT
DTSTART;TZID=America/New_York:20250107T120000
DTEND;TZID=America/New_York:20250107T131500
DTSTAMP:20260425T093544
CREATED:20241021T181825Z
LAST-MODIFIED:20241217T184617Z
UID:10002712-1736251200-1736255700@iccie.org
SUMMARY:Understanding Risk and Risk Retention Mechanisms - *FULL*
DESCRIPTION:see course details
URL:https://iccie.org/course/understanding-risk-and-risk-retention-mechanisms-18/2025-01-07/
CATEGORIES:Core Courses
END:VEVENT
BEGIN:VEVENT
DTSTART;TZID=America/New_York:20250108T120000
DTEND;TZID=America/New_York:20250108T131500
DTSTAMP:20260425T093544
CREATED:20241021T182203Z
LAST-MODIFIED:20241021T182203Z
UID:10002717-1736337600-1736342100@iccie.org
SUMMARY:An Introduction to Alternative Risk Financing Mechanisms
DESCRIPTION:see course details
URL:https://iccie.org/course/an-introduction-to-alternative-risk-financing-mechanisms-15/2025-01-08/
CATEGORIES:Core Courses
END:VEVENT
BEGIN:VEVENT
DTSTART;TZID=America/New_York:20250114T120000
DTEND;TZID=America/New_York:20250114T131500
DTSTAMP:20260425T093544
CREATED:20241021T181825Z
LAST-MODIFIED:20241217T184617Z
UID:10002713-1736856000-1736860500@iccie.org
SUMMARY:Understanding Risk and Risk Retention Mechanisms - *FULL*
DESCRIPTION:see course details
URL:https://iccie.org/course/understanding-risk-and-risk-retention-mechanisms-18/2025-01-14/
CATEGORIES:Core Courses
END:VEVENT
BEGIN:VEVENT
DTSTART;TZID=America/New_York:20250115T120000
DTEND;TZID=America/New_York:20250115T131500
DTSTAMP:20260425T093544
CREATED:20241021T182203Z
LAST-MODIFIED:20241021T182203Z
UID:10002718-1736942400-1736946900@iccie.org
SUMMARY:An Introduction to Alternative Risk Financing Mechanisms
DESCRIPTION:see course details
URL:https://iccie.org/course/an-introduction-to-alternative-risk-financing-mechanisms-15/2025-01-15/
CATEGORIES:Core Courses
END:VEVENT
BEGIN:VEVENT
DTSTART;VALUE=DATE:20250120
DTEND;VALUE=DATE:20250121
DTSTAMP:20260425T093544
CREATED:20250106T165037Z
LAST-MODIFIED:20250106T165037Z
UID:10002820-1737331200-1737417599@iccie.org
SUMMARY:ICCIE Office Closed
DESCRIPTION:
URL:https://iccie.org/course/iccie-office-closed-4/
END:VEVENT
BEGIN:VEVENT
DTSTART;TZID=America/New_York:20250121T120000
DTEND;TZID=America/New_York:20250121T131500
DTSTAMP:20260425T093544
CREATED:20241021T181825Z
LAST-MODIFIED:20241217T184617Z
UID:10002714-1737460800-1737465300@iccie.org
SUMMARY:Understanding Risk and Risk Retention Mechanisms - *FULL*
DESCRIPTION:see course details
URL:https://iccie.org/course/understanding-risk-and-risk-retention-mechanisms-18/2025-01-21/
CATEGORIES:Core Courses
END:VEVENT
BEGIN:VEVENT
DTSTART;TZID=America/New_York:20250122T120000
DTEND;TZID=America/New_York:20250122T131500
DTSTAMP:20260425T093544
CREATED:20241021T182203Z
LAST-MODIFIED:20241021T182203Z
UID:10002719-1737547200-1737551700@iccie.org
SUMMARY:An Introduction to Alternative Risk Financing Mechanisms
DESCRIPTION:see course details
URL:https://iccie.org/course/an-introduction-to-alternative-risk-financing-mechanisms-15/2025-01-22/
CATEGORIES:Core Courses
END:VEVENT
BEGIN:VEVENT
DTSTART;TZID=America/New_York:20250128T120000
DTEND;TZID=America/New_York:20250128T131500
DTSTAMP:20260425T093544
CREATED:20241021T181825Z
LAST-MODIFIED:20241217T184617Z
UID:10002715-1738065600-1738070100@iccie.org
SUMMARY:Understanding Risk and Risk Retention Mechanisms - *FULL*
DESCRIPTION:see course details
URL:https://iccie.org/course/understanding-risk-and-risk-retention-mechanisms-18/2025-01-28/
CATEGORIES:Core Courses
END:VEVENT
BEGIN:VEVENT
DTSTART;TZID=America/New_York:20250129T120000
DTEND;TZID=America/New_York:20250129T131500
DTSTAMP:20260425T093544
CREATED:20241021T182203Z
LAST-MODIFIED:20241021T182203Z
UID:10002720-1738152000-1738156500@iccie.org
SUMMARY:An Introduction to Alternative Risk Financing Mechanisms
DESCRIPTION:see course details
URL:https://iccie.org/course/an-introduction-to-alternative-risk-financing-mechanisms-15/2025-01-29/
CATEGORIES:Core Courses
END:VEVENT
END:VCALENDAR