BEGIN:VCALENDAR
VERSION:2.0
PRODID:-//ICCIE - ECPv6.15.20//NONSGML v1.0//EN
CALSCALE:GREGORIAN
METHOD:PUBLISH
X-WR-CALNAME:ICCIE
X-ORIGINAL-URL:https://iccie.org
X-WR-CALDESC:Events for ICCIE
REFRESH-INTERVAL;VALUE=DURATION:PT1H
X-Robots-Tag:noindex
X-PUBLISHED-TTL:PT1H
BEGIN:VTIMEZONE
TZID:America/New_York
BEGIN:DAYLIGHT
TZOFFSETFROM:-0500
TZOFFSETTO:-0400
TZNAME:EDT
DTSTART:20220313T070000
END:DAYLIGHT
BEGIN:STANDARD
TZOFFSETFROM:-0400
TZOFFSETTO:-0500
TZNAME:EST
DTSTART:20221106T060000
END:STANDARD
BEGIN:DAYLIGHT
TZOFFSETFROM:-0500
TZOFFSETTO:-0400
TZNAME:EDT
DTSTART:20230312T070000
END:DAYLIGHT
BEGIN:STANDARD
TZOFFSETFROM:-0400
TZOFFSETTO:-0500
TZNAME:EST
DTSTART:20231105T060000
END:STANDARD
BEGIN:DAYLIGHT
TZOFFSETFROM:-0500
TZOFFSETTO:-0400
TZNAME:EDT
DTSTART:20240310T070000
END:DAYLIGHT
BEGIN:STANDARD
TZOFFSETFROM:-0400
TZOFFSETTO:-0500
TZNAME:EST
DTSTART:20241103T060000
END:STANDARD
END:VTIMEZONE
BEGIN:VEVENT
DTSTART;TZID=America/New_York:20231205T120000
DTEND;TZID=America/New_York:20231205T131500
DTSTAMP:20260424T015432
CREATED:20230721T135459Z
LAST-MODIFIED:20230721T140039Z
UID:10002544-1701777600-1701782100@iccie.org
SUMMARY:Predicting Risk and an Introduction to Actuarial Science
DESCRIPTION:See Course Details
URL:https://iccie.org/course/predicting-risk-and-an-introduction-to-actuarial-science-9/2023-12-05/
CATEGORIES:Core Courses
END:VEVENT
BEGIN:VEVENT
DTSTART;TZID=America/New_York:20231206T120000
DTEND;TZID=America/New_York:20231206T131500
DTSTAMP:20260424T015432
CREATED:20230721T135754Z
LAST-MODIFIED:20230721T140128Z
UID:10002547-1701864000-1701868500@iccie.org
SUMMARY:Reinsurance and Other Risk Transfer Mechanisms
DESCRIPTION:See Course Details
URL:https://iccie.org/course/reinsurance-and-other-risk-transfer-mechanisms-11/2023-12-06/
CATEGORIES:Core Courses
END:VEVENT
BEGIN:VEVENT
DTSTART;TZID=America/New_York:20231207T120000
DTEND;TZID=America/New_York:20231207T131500
DTSTAMP:20260424T015432
CREATED:20230721T141041Z
LAST-MODIFIED:20230721T141041Z
UID:10002553-1701950400-1701954900@iccie.org
SUMMARY:Captive Board Governance
DESCRIPTION:See Course Details
URL:https://iccie.org/course/captive-board-governance-9/2023-12-07/
CATEGORIES:Elective Courses
END:VEVENT
BEGIN:VEVENT
DTSTART;TZID=America/New_York:20231212T120000
DTEND;TZID=America/New_York:20231212T131500
DTSTAMP:20260424T015432
CREATED:20230721T135459Z
LAST-MODIFIED:20230721T140039Z
UID:10002545-1702382400-1702386900@iccie.org
SUMMARY:Predicting Risk and an Introduction to Actuarial Science
DESCRIPTION:See Course Details
URL:https://iccie.org/course/predicting-risk-and-an-introduction-to-actuarial-science-9/2023-12-12/
CATEGORIES:Core Courses
END:VEVENT
BEGIN:VEVENT
DTSTART;TZID=America/New_York:20231213T120000
DTEND;TZID=America/New_York:20231213T131500
DTSTAMP:20260424T015432
CREATED:20230721T135754Z
LAST-MODIFIED:20230721T140128Z
UID:10002548-1702468800-1702473300@iccie.org
SUMMARY:Reinsurance and Other Risk Transfer Mechanisms
DESCRIPTION:See Course Details
URL:https://iccie.org/course/reinsurance-and-other-risk-transfer-mechanisms-11/2023-12-13/
CATEGORIES:Core Courses
END:VEVENT
BEGIN:VEVENT
DTSTART;TZID=America/New_York:20231214T120000
DTEND;TZID=America/New_York:20231214T131500
DTSTAMP:20260424T015432
CREATED:20230721T141041Z
LAST-MODIFIED:20230721T141041Z
UID:10002554-1702555200-1702559700@iccie.org
SUMMARY:Captive Board Governance
DESCRIPTION:See Course Details
URL:https://iccie.org/course/captive-board-governance-9/2023-12-14/
CATEGORIES:Elective Courses
END:VEVENT
END:VCALENDAR