BEGIN:VCALENDAR
VERSION:2.0
PRODID:-//ICCIE - ECPv6.15.20//NONSGML v1.0//EN
CALSCALE:GREGORIAN
METHOD:PUBLISH
X-ORIGINAL-URL:https://iccie.org
X-WR-CALDESC:Events for ICCIE
REFRESH-INTERVAL;VALUE=DURATION:PT1H
X-Robots-Tag:noindex
X-PUBLISHED-TTL:PT1H
BEGIN:VTIMEZONE
TZID:America/New_York
BEGIN:DAYLIGHT
TZOFFSETFROM:-0500
TZOFFSETTO:-0400
TZNAME:EDT
DTSTART:20220313T070000
END:DAYLIGHT
BEGIN:STANDARD
TZOFFSETFROM:-0400
TZOFFSETTO:-0500
TZNAME:EST
DTSTART:20221106T060000
END:STANDARD
BEGIN:DAYLIGHT
TZOFFSETFROM:-0500
TZOFFSETTO:-0400
TZNAME:EDT
DTSTART:20230312T070000
END:DAYLIGHT
BEGIN:STANDARD
TZOFFSETFROM:-0400
TZOFFSETTO:-0500
TZNAME:EST
DTSTART:20231105T060000
END:STANDARD
BEGIN:DAYLIGHT
TZOFFSETFROM:-0500
TZOFFSETTO:-0400
TZNAME:EDT
DTSTART:20240310T070000
END:DAYLIGHT
BEGIN:STANDARD
TZOFFSETFROM:-0400
TZOFFSETTO:-0500
TZNAME:EST
DTSTART:20241103T060000
END:STANDARD
END:VTIMEZONE
BEGIN:VEVENT
DTSTART;TZID=America/New_York:20230905T120000
DTEND;TZID=America/New_York:20230905T131500
DTSTAMP:20260424T080902
CREATED:20230720T201258Z
LAST-MODIFIED:20230720T201258Z
UID:10002513-1693915200-1693919700@iccie.org
SUMMARY:Forming and Operating a Captive
DESCRIPTION:See Course Details
URL:https://iccie.org/course/forming-and-operating-a-captive-11/2023-09-05/
CATEGORIES:Core Courses
END:VEVENT
BEGIN:VEVENT
DTSTART;TZID=America/New_York:20230906T120000
DTEND;TZID=America/New_York:20230906T131500
DTSTAMP:20260424T080902
CREATED:20230720T201523Z
LAST-MODIFIED:20230720T201523Z
UID:10002519-1694001600-1694006100@iccie.org
SUMMARY:Understanding Risk and Risk Retention Mechanisms
DESCRIPTION:See Course Details
URL:https://iccie.org/course/understanding-risk-and-risk-retention-mechanisms-15/2023-09-06/
CATEGORIES:Core Courses
END:VEVENT
BEGIN:VEVENT
DTSTART;TZID=America/New_York:20230907T120000
DTEND;TZID=America/New_York:20230907T131500
DTSTAMP:20260424T080902
CREATED:20230720T201822Z
LAST-MODIFIED:20230720T201904Z
UID:10002524-1694088000-1694092500@iccie.org
SUMMARY:Accounting for Captives: Interpretation and Management Perspecitves
DESCRIPTION:See Course Details
URL:https://iccie.org/course/accounting-for-captives-interpretation-and-management-perspecitves-2/2023-09-07/
CATEGORIES:Elective Courses
END:VEVENT
BEGIN:VEVENT
DTSTART;TZID=America/New_York:20230912T120000
DTEND;TZID=America/New_York:20230912T131500
DTSTAMP:20260424T080902
CREATED:20230720T201258Z
LAST-MODIFIED:20230720T201258Z
UID:10002514-1694520000-1694524500@iccie.org
SUMMARY:Forming and Operating a Captive
DESCRIPTION:See Course Details
URL:https://iccie.org/course/forming-and-operating-a-captive-11/2023-09-12/
CATEGORIES:Core Courses
END:VEVENT
BEGIN:VEVENT
DTSTART;TZID=America/New_York:20230913T120000
DTEND;TZID=America/New_York:20230913T131500
DTSTAMP:20260424T080902
CREATED:20230720T201523Z
LAST-MODIFIED:20230720T201523Z
UID:10002520-1694606400-1694610900@iccie.org
SUMMARY:Understanding Risk and Risk Retention Mechanisms
DESCRIPTION:See Course Details
URL:https://iccie.org/course/understanding-risk-and-risk-retention-mechanisms-15/2023-09-13/
CATEGORIES:Core Courses
END:VEVENT
BEGIN:VEVENT
DTSTART;TZID=America/New_York:20230914T120000
DTEND;TZID=America/New_York:20230914T131500
DTSTAMP:20260424T080902
CREATED:20230720T201822Z
LAST-MODIFIED:20230720T201904Z
UID:10002525-1694692800-1694697300@iccie.org
SUMMARY:Accounting for Captives: Interpretation and Management Perspecitves
DESCRIPTION:See Course Details
URL:https://iccie.org/course/accounting-for-captives-interpretation-and-management-perspecitves-2/2023-09-14/
CATEGORIES:Elective Courses
END:VEVENT
BEGIN:VEVENT
DTSTART;TZID=America/New_York:20230919T120000
DTEND;TZID=America/New_York:20230919T131500
DTSTAMP:20260424T080902
CREATED:20230720T201258Z
LAST-MODIFIED:20230720T201258Z
UID:10002515-1695124800-1695129300@iccie.org
SUMMARY:Forming and Operating a Captive
DESCRIPTION:See Course Details
URL:https://iccie.org/course/forming-and-operating-a-captive-11/2023-09-19/
CATEGORIES:Core Courses
END:VEVENT
BEGIN:VEVENT
DTSTART;TZID=America/New_York:20230920T120000
DTEND;TZID=America/New_York:20230920T131500
DTSTAMP:20260424T080902
CREATED:20230720T201523Z
LAST-MODIFIED:20230720T201523Z
UID:10002521-1695211200-1695215700@iccie.org
SUMMARY:Understanding Risk and Risk Retention Mechanisms
DESCRIPTION:See Course Details
URL:https://iccie.org/course/understanding-risk-and-risk-retention-mechanisms-15/2023-09-20/
CATEGORIES:Core Courses
END:VEVENT
BEGIN:VEVENT
DTSTART;TZID=America/New_York:20230921T120000
DTEND;TZID=America/New_York:20230921T131500
DTSTAMP:20260424T080902
CREATED:20230720T201822Z
LAST-MODIFIED:20230720T201904Z
UID:10002526-1695297600-1695302100@iccie.org
SUMMARY:Accounting for Captives: Interpretation and Management Perspecitves
DESCRIPTION:See Course Details
URL:https://iccie.org/course/accounting-for-captives-interpretation-and-management-perspecitves-2/2023-09-21/
CATEGORIES:Elective Courses
END:VEVENT
BEGIN:VEVENT
DTSTART;TZID=America/New_York:20230926T120000
DTEND;TZID=America/New_York:20230926T131500
DTSTAMP:20260424T080902
CREATED:20230720T201258Z
LAST-MODIFIED:20230720T201258Z
UID:10002516-1695729600-1695734100@iccie.org
SUMMARY:Forming and Operating a Captive
DESCRIPTION:See Course Details
URL:https://iccie.org/course/forming-and-operating-a-captive-11/2023-09-26/
CATEGORIES:Core Courses
END:VEVENT
BEGIN:VEVENT
DTSTART;TZID=America/New_York:20230927T120000
DTEND;TZID=America/New_York:20230927T131500
DTSTAMP:20260424T080902
CREATED:20230720T201523Z
LAST-MODIFIED:20230720T201523Z
UID:10002522-1695816000-1695820500@iccie.org
SUMMARY:Understanding Risk and Risk Retention Mechanisms
DESCRIPTION:See Course Details
URL:https://iccie.org/course/understanding-risk-and-risk-retention-mechanisms-15/2023-09-27/
CATEGORIES:Core Courses
END:VEVENT
BEGIN:VEVENT
DTSTART;TZID=America/New_York:20230927T160000
DTEND;TZID=America/New_York:20230927T170000
DTSTAMP:20260424T080902
CREATED:20230922T154925Z
LAST-MODIFIED:20230922T154925Z
UID:10002555-1695830400-1695834000@iccie.org
SUMMARY:Hot Topic Webinar - Should Captive Managers be Regulated?
DESCRIPTION:See Webinar Details
URL:https://iccie.org/course/hot-topic-webinar-should-captive-managers-be-regulated/
CATEGORIES:Webinars
END:VEVENT
BEGIN:VEVENT
DTSTART;TZID=America/New_York:20230928T120000
DTEND;TZID=America/New_York:20230928T131500
DTSTAMP:20260424T080902
CREATED:20230721T134433Z
LAST-MODIFIED:20230721T134433Z
UID:10002528-1695902400-1695906900@iccie.org
SUMMARY:Business Ethics in the Captive Insurance Industry
DESCRIPTION:See Course Details
URL:https://iccie.org/course/business-ethics-in-the-captive-insurance-industry-10/2023-09-28/
CATEGORIES:Core Courses
END:VEVENT
END:VCALENDAR