BEGIN:VCALENDAR
VERSION:2.0
PRODID:-//ICCIE - ECPv6.15.20//NONSGML v1.0//EN
CALSCALE:GREGORIAN
METHOD:PUBLISH
X-WR-CALNAME:ICCIE
X-ORIGINAL-URL:https://iccie.org
X-WR-CALDESC:Events for ICCIE
REFRESH-INTERVAL;VALUE=DURATION:PT1H
X-Robots-Tag:noindex
X-PUBLISHED-TTL:PT1H
BEGIN:VTIMEZONE
TZID:America/New_York
BEGIN:DAYLIGHT
TZOFFSETFROM:-0500
TZOFFSETTO:-0400
TZNAME:EDT
DTSTART:20220313T070000
END:DAYLIGHT
BEGIN:STANDARD
TZOFFSETFROM:-0400
TZOFFSETTO:-0500
TZNAME:EST
DTSTART:20221106T060000
END:STANDARD
BEGIN:DAYLIGHT
TZOFFSETFROM:-0500
TZOFFSETTO:-0400
TZNAME:EDT
DTSTART:20230312T070000
END:DAYLIGHT
BEGIN:STANDARD
TZOFFSETFROM:-0400
TZOFFSETTO:-0500
TZNAME:EST
DTSTART:20231105T060000
END:STANDARD
BEGIN:DAYLIGHT
TZOFFSETFROM:-0500
TZOFFSETTO:-0400
TZNAME:EDT
DTSTART:20240310T070000
END:DAYLIGHT
BEGIN:STANDARD
TZOFFSETFROM:-0400
TZOFFSETTO:-0500
TZNAME:EST
DTSTART:20241103T060000
END:STANDARD
END:VTIMEZONE
BEGIN:VEVENT
DTSTART;TZID=America/New_York:20230510T120000
DTEND;TZID=America/New_York:20230510T131500
DTSTAMP:20260424T131510
CREATED:20221025T181513Z
LAST-MODIFIED:20221025T181513Z
UID:10002158-1683720000-1683724500@iccie.org
SUMMARY:Predicting Risk and An Introduction to Actuarial Science
DESCRIPTION:See Course Details
URL:https://iccie.org/course/predicting-risk-and-an-introduction-to-actuarial-science-8/2023-05-10/
CATEGORIES:Core Courses
END:VEVENT
BEGIN:VEVENT
DTSTART;TZID=America/New_York:20230509T120000
DTEND;TZID=America/New_York:20230509T131500
DTSTAMP:20260424T131510
CREATED:20221025T181739Z
LAST-MODIFIED:20221025T181739Z
UID:10002164-1683633600-1683638100@iccie.org
SUMMARY:Business Ethics in the Captive Insurance Industry
DESCRIPTION:See Course Details
URL:https://iccie.org/course/business-ethics-in-the-captive-insurance-industry-9/2023-05-09/
CATEGORIES:Core Courses
END:VEVENT
BEGIN:VEVENT
DTSTART;TZID=America/New_York:20230504T120000
DTEND;TZID=America/New_York:20230504T131500
DTSTAMP:20260424T131510
CREATED:20221025T181214Z
LAST-MODIFIED:20221025T181235Z
UID:10002150-1683201600-1683206100@iccie.org
SUMMARY:Captive Claims Management: Best Practices and Reinsurance
DESCRIPTION:See Course Details
URL:https://iccie.org/course/captive-claims-management-best-practices-and-reinsurance-5/2023-05-04/
CATEGORIES:Elective Courses
END:VEVENT
BEGIN:VEVENT
DTSTART;TZID=America/New_York:20230503T120000
DTEND;TZID=America/New_York:20230503T131500
DTSTAMP:20260424T131510
CREATED:20221025T181513Z
LAST-MODIFIED:20221025T181513Z
UID:10002157-1683115200-1683119700@iccie.org
SUMMARY:Predicting Risk and An Introduction to Actuarial Science
DESCRIPTION:See Course Details
URL:https://iccie.org/course/predicting-risk-and-an-introduction-to-actuarial-science-8/2023-05-03/
CATEGORIES:Core Courses
END:VEVENT
BEGIN:VEVENT
DTSTART;TZID=America/New_York:20230502T120000
DTEND;TZID=America/New_York:20230502T131500
DTSTAMP:20260424T131510
CREATED:20221025T181739Z
LAST-MODIFIED:20221025T181739Z
UID:10002163-1683028800-1683033300@iccie.org
SUMMARY:Business Ethics in the Captive Insurance Industry
DESCRIPTION:See Course Details
URL:https://iccie.org/course/business-ethics-in-the-captive-insurance-industry-9/2023-05-02/
CATEGORIES:Core Courses
END:VEVENT
BEGIN:VEVENT
DTSTART;TZID=America/New_York:20230427T120000
DTEND;TZID=America/New_York:20230427T131500
DTSTAMP:20260424T131510
CREATED:20221025T181214Z
LAST-MODIFIED:20221025T181235Z
UID:10002149-1682596800-1682601300@iccie.org
SUMMARY:Captive Claims Management: Best Practices and Reinsurance
DESCRIPTION:See Course Details
URL:https://iccie.org/course/captive-claims-management-best-practices-and-reinsurance-5/2023-04-27/
CATEGORIES:Elective Courses
END:VEVENT
BEGIN:VEVENT
DTSTART;TZID=America/New_York:20230426T120000
DTEND;TZID=America/New_York:20230426T131500
DTSTAMP:20260424T131510
CREATED:20221025T181513Z
LAST-MODIFIED:20221025T181513Z
UID:10002156-1682510400-1682514900@iccie.org
SUMMARY:Predicting Risk and An Introduction to Actuarial Science
DESCRIPTION:See Course Details
URL:https://iccie.org/course/predicting-risk-and-an-introduction-to-actuarial-science-8/2023-04-26/
CATEGORIES:Core Courses
END:VEVENT
BEGIN:VEVENT
DTSTART;TZID=America/New_York:20230425T120000
DTEND;TZID=America/New_York:20230425T131500
DTSTAMP:20260424T131510
CREATED:20221025T180701Z
LAST-MODIFIED:20221025T180701Z
UID:10002140-1682424000-1682428500@iccie.org
SUMMARY:Forming and Operating a Captive
DESCRIPTION:See Course Details
URL:https://iccie.org/course/forming-and-operating-a-captive-10/2023-04-25/
CATEGORIES:Core Courses
END:VEVENT
BEGIN:VEVENT
DTSTART;TZID=America/New_York:20230420T120000
DTEND;TZID=America/New_York:20230420T131500
DTSTAMP:20260424T131510
CREATED:20221025T181214Z
LAST-MODIFIED:20221025T181235Z
UID:10002148-1681992000-1681996500@iccie.org
SUMMARY:Captive Claims Management: Best Practices and Reinsurance
DESCRIPTION:See Course Details
URL:https://iccie.org/course/captive-claims-management-best-practices-and-reinsurance-5/2023-04-20/
CATEGORIES:Elective Courses
END:VEVENT
BEGIN:VEVENT
DTSTART;TZID=America/New_York:20230418T120000
DTEND;TZID=America/New_York:20230418T131500
DTSTAMP:20260424T131510
CREATED:20221025T180701Z
LAST-MODIFIED:20221025T180701Z
UID:10002139-1681819200-1681823700@iccie.org
SUMMARY:Forming and Operating a Captive
DESCRIPTION:See Course Details
URL:https://iccie.org/course/forming-and-operating-a-captive-10/2023-04-18/
CATEGORIES:Core Courses
END:VEVENT
BEGIN:VEVENT
DTSTART;TZID=America/New_York:20230413T120000
DTEND;TZID=America/New_York:20230413T131500
DTSTAMP:20260424T131510
CREATED:20221025T180918Z
LAST-MODIFIED:20221025T180952Z
UID:10002146-1681387200-1681391700@iccie.org
SUMMARY:Understanding the Intricacies of Cell Captives
DESCRIPTION:See Course Details
URL:https://iccie.org/course/understanding-the-intricacies-of-cell-captives-4/2023-04-13/
CATEGORIES:Elective Courses
END:VEVENT
BEGIN:VEVENT
DTSTART;TZID=America/New_York:20230411T120000
DTEND;TZID=America/New_York:20230411T131500
DTSTAMP:20260424T131510
CREATED:20221025T180701Z
LAST-MODIFIED:20221025T180701Z
UID:10002138-1681214400-1681218900@iccie.org
SUMMARY:Forming and Operating a Captive
DESCRIPTION:See Course Details
URL:https://iccie.org/course/forming-and-operating-a-captive-10/2023-04-11/
CATEGORIES:Core Courses
END:VEVENT
BEGIN:VEVENT
DTSTART;TZID=America/New_York:20230406T120000
DTEND;TZID=America/New_York:20230406T131500
DTSTAMP:20260424T131510
CREATED:20221025T180918Z
LAST-MODIFIED:20221025T180952Z
UID:10002145-1680782400-1680786900@iccie.org
SUMMARY:Understanding the Intricacies of Cell Captives
DESCRIPTION:See Course Details
URL:https://iccie.org/course/understanding-the-intricacies-of-cell-captives-4/2023-04-06/
CATEGORIES:Elective Courses
END:VEVENT
BEGIN:VEVENT
DTSTART;TZID=America/New_York:20230404T120000
DTEND;TZID=America/New_York:20230404T131500
DTSTAMP:20260424T131510
CREATED:20221025T180701Z
LAST-MODIFIED:20221025T180701Z
UID:10002137-1680609600-1680614100@iccie.org
SUMMARY:Forming and Operating a Captive
DESCRIPTION:See Course Details
URL:https://iccie.org/course/forming-and-operating-a-captive-10/2023-04-04/
CATEGORIES:Core Courses
END:VEVENT
BEGIN:VEVENT
DTSTART;TZID=America/New_York:20230330T120000
DTEND;TZID=America/New_York:20230330T131500
DTSTAMP:20260424T131510
CREATED:20221025T180918Z
LAST-MODIFIED:20221025T180952Z
UID:10002144-1680177600-1680182100@iccie.org
SUMMARY:Understanding the Intricacies of Cell Captives
DESCRIPTION:See Course Details
URL:https://iccie.org/course/understanding-the-intricacies-of-cell-captives-4/2023-03-30/
CATEGORIES:Elective Courses
END:VEVENT
BEGIN:VEVENT
DTSTART;TZID=America/New_York:20230328T120000
DTEND;TZID=America/New_York:20230328T131500
DTSTAMP:20260424T131510
CREATED:20221025T180701Z
LAST-MODIFIED:20221025T180701Z
UID:10002136-1680004800-1680009300@iccie.org
SUMMARY:Forming and Operating a Captive
DESCRIPTION:See Course Details
URL:https://iccie.org/course/forming-and-operating-a-captive-10/2023-03-28/
CATEGORIES:Core Courses
END:VEVENT
BEGIN:VEVENT
DTSTART;TZID=America/New_York:20230323T120000
DTEND;TZID=America/New_York:20230323T131500
DTSTAMP:20260424T131510
CREATED:20221025T180918Z
LAST-MODIFIED:20221025T180952Z
UID:10002143-1679572800-1679577300@iccie.org
SUMMARY:Understanding the Intricacies of Cell Captives
DESCRIPTION:See Course Details
URL:https://iccie.org/course/understanding-the-intricacies-of-cell-captives-4/2023-03-23/
CATEGORIES:Elective Courses
END:VEVENT
BEGIN:VEVENT
DTSTART;TZID=America/New_York:20230321T120000
DTEND;TZID=America/New_York:20230321T131500
DTSTAMP:20260424T131510
CREATED:20221025T180701Z
LAST-MODIFIED:20221025T180701Z
UID:10002135-1679400000-1679404500@iccie.org
SUMMARY:Forming and Operating a Captive
DESCRIPTION:See Course Details
URL:https://iccie.org/course/forming-and-operating-a-captive-10/2023-03-21/
CATEGORIES:Core Courses
END:VEVENT
BEGIN:VEVENT
DTSTART;TZID=America/New_York:20230307T153000
DTEND;TZID=America/New_York:20230307T163000
DTSTAMP:20260424T131510
CREATED:20230217T170614Z
LAST-MODIFIED:20230217T170614Z
UID:10002512-1678203000-1678206600@iccie.org
SUMMARY:Parametric Risk Transfer – Alternative Capital for the Captive Industry
DESCRIPTION:See Webinar Details
URL:https://iccie.org/course/parametric-risk-transfer-alternative-capital-for-the-captive-industry/
CATEGORIES:Webinars
END:VEVENT
BEGIN:VEVENT
DTSTART;TZID=America/New_York:20230302T120000
DTEND;TZID=America/New_York:20230302T131500
DTSTAMP:20260424T131510
CREATED:20221025T175524Z
LAST-MODIFIED:20221025T180359Z
UID:10002118-1677758400-1677762900@iccie.org
SUMMARY:Understanding Risk and Risk Retention Mechanisms
DESCRIPTION:See Course Details
URL:https://iccie.org/course/understanding-risk-and-risk-retention-mechanisms-14/2023-03-02/
CATEGORIES:Core Courses
END:VEVENT
BEGIN:VEVENT
DTSTART;TZID=America/New_York:20230301T120000
DTEND;TZID=America/New_York:20230301T131500
DTSTAMP:20260424T131510
CREATED:20221025T180121Z
LAST-MODIFIED:20221025T180121Z
UID:10002133-1677672000-1677676500@iccie.org
SUMMARY:Healthcare Captives Overview
DESCRIPTION:See Course Details
URL:https://iccie.org/course/healthcare-captives-overview-6/2023-03-01/
CATEGORIES:Elective Courses
END:VEVENT
BEGIN:VEVENT
DTSTART;TZID=America/New_York:20230228T120000
DTEND;TZID=America/New_York:20230228T131500
DTSTAMP:20260424T131510
CREATED:20221025T175910Z
LAST-MODIFIED:20221025T180257Z
UID:10002125-1677585600-1677590100@iccie.org
SUMMARY:Reinsurance and Other Risk Transfer Mechanisms
DESCRIPTION:See Course Details
URL:https://iccie.org/course/reinsurance-and-other-risk-transfer-mechanisms-10/2023-02-28/
CATEGORIES:Core Courses
END:VEVENT
BEGIN:VEVENT
DTSTART;TZID=America/New_York:20230223T120000
DTEND;TZID=America/New_York:20230223T131500
DTSTAMP:20260424T131510
CREATED:20221025T175524Z
LAST-MODIFIED:20221025T180359Z
UID:10002117-1677153600-1677158100@iccie.org
SUMMARY:Understanding Risk and Risk Retention Mechanisms
DESCRIPTION:See Course Details
URL:https://iccie.org/course/understanding-risk-and-risk-retention-mechanisms-14/2023-02-23/
CATEGORIES:Core Courses
END:VEVENT
BEGIN:VEVENT
DTSTART;TZID=America/New_York:20230222T120000
DTEND;TZID=America/New_York:20230222T131500
DTSTAMP:20260424T131510
CREATED:20221025T180121Z
LAST-MODIFIED:20221025T180121Z
UID:10002132-1677067200-1677071700@iccie.org
SUMMARY:Healthcare Captives Overview
DESCRIPTION:See Course Details
URL:https://iccie.org/course/healthcare-captives-overview-6/2023-02-22/
CATEGORIES:Elective Courses
END:VEVENT
BEGIN:VEVENT
DTSTART;TZID=America/New_York:20230221T120000
DTEND;TZID=America/New_York:20230221T131500
DTSTAMP:20260424T131510
CREATED:20221025T175910Z
LAST-MODIFIED:20221025T180257Z
UID:10002124-1676980800-1676985300@iccie.org
SUMMARY:Reinsurance and Other Risk Transfer Mechanisms
DESCRIPTION:See Course Details
URL:https://iccie.org/course/reinsurance-and-other-risk-transfer-mechanisms-10/2023-02-21/
CATEGORIES:Core Courses
END:VEVENT
BEGIN:VEVENT
DTSTART;TZID=America/New_York:20230216T120000
DTEND;TZID=America/New_York:20230216T131500
DTSTAMP:20260424T131510
CREATED:20221025T175524Z
LAST-MODIFIED:20221025T180359Z
UID:10002116-1676548800-1676553300@iccie.org
SUMMARY:Understanding Risk and Risk Retention Mechanisms
DESCRIPTION:See Course Details
URL:https://iccie.org/course/understanding-risk-and-risk-retention-mechanisms-14/2023-02-16/
CATEGORIES:Core Courses
END:VEVENT
BEGIN:VEVENT
DTSTART;TZID=America/New_York:20230215T120000
DTEND;TZID=America/New_York:20230215T131500
DTSTAMP:20260424T131510
CREATED:20221025T180121Z
LAST-MODIFIED:20221025T180121Z
UID:10002131-1676462400-1676466900@iccie.org
SUMMARY:Healthcare Captives Overview
DESCRIPTION:See Course Details
URL:https://iccie.org/course/healthcare-captives-overview-6/2023-02-15/
CATEGORIES:Elective Courses
END:VEVENT
BEGIN:VEVENT
DTSTART;TZID=America/New_York:20230209T120000
DTEND;TZID=America/New_York:20230209T131500
DTSTAMP:20260424T131510
CREATED:20221025T175524Z
LAST-MODIFIED:20221025T180359Z
UID:10002115-1675944000-1675948500@iccie.org
SUMMARY:Understanding Risk and Risk Retention Mechanisms
DESCRIPTION:See Course Details
URL:https://iccie.org/course/understanding-risk-and-risk-retention-mechanisms-14/2023-02-09/
CATEGORIES:Core Courses
END:VEVENT
BEGIN:VEVENT
DTSTART;TZID=America/New_York:20230208T120000
DTEND;TZID=America/New_York:20230208T131500
DTSTAMP:20260424T131510
CREATED:20221025T180121Z
LAST-MODIFIED:20221025T180121Z
UID:10002130-1675857600-1675862100@iccie.org
SUMMARY:Healthcare Captives Overview
DESCRIPTION:See Course Details
URL:https://iccie.org/course/healthcare-captives-overview-6/2023-02-08/
CATEGORIES:Elective Courses
END:VEVENT
BEGIN:VEVENT
DTSTART;TZID=America/New_York:20230207T120000
DTEND;TZID=America/New_York:20230207T131500
DTSTAMP:20260424T131510
CREATED:20221025T175910Z
LAST-MODIFIED:20221025T180257Z
UID:10002123-1675771200-1675775700@iccie.org
SUMMARY:Reinsurance and Other Risk Transfer Mechanisms
DESCRIPTION:See Course Details
URL:https://iccie.org/course/reinsurance-and-other-risk-transfer-mechanisms-10/2023-02-07/
CATEGORIES:Core Courses
END:VEVENT
END:VCALENDAR