BEGIN:VCALENDAR
VERSION:2.0
PRODID:-//ICCIE - ECPv6.15.20//NONSGML v1.0//EN
CALSCALE:GREGORIAN
METHOD:PUBLISH
X-WR-CALNAME:ICCIE
X-ORIGINAL-URL:https://iccie.org
X-WR-CALDESC:Events for ICCIE
REFRESH-INTERVAL;VALUE=DURATION:PT1H
X-Robots-Tag:noindex
X-PUBLISHED-TTL:PT1H
BEGIN:VTIMEZONE
TZID:America/New_York
BEGIN:DAYLIGHT
TZOFFSETFROM:-0500
TZOFFSETTO:-0400
TZNAME:EDT
DTSTART:20220313T070000
END:DAYLIGHT
BEGIN:STANDARD
TZOFFSETFROM:-0400
TZOFFSETTO:-0500
TZNAME:EST
DTSTART:20221106T060000
END:STANDARD
BEGIN:DAYLIGHT
TZOFFSETFROM:-0500
TZOFFSETTO:-0400
TZNAME:EDT
DTSTART:20230312T070000
END:DAYLIGHT
BEGIN:STANDARD
TZOFFSETFROM:-0400
TZOFFSETTO:-0500
TZNAME:EST
DTSTART:20231105T060000
END:STANDARD
BEGIN:DAYLIGHT
TZOFFSETFROM:-0500
TZOFFSETTO:-0400
TZNAME:EDT
DTSTART:20240310T070000
END:DAYLIGHT
BEGIN:STANDARD
TZOFFSETFROM:-0400
TZOFFSETTO:-0500
TZNAME:EST
DTSTART:20241103T060000
END:STANDARD
END:VTIMEZONE
BEGIN:VEVENT
DTSTART;TZID=America/New_York:20231213T120000
DTEND;TZID=America/New_York:20231213T131500
DTSTAMP:20260422T003002
CREATED:20230721T135754Z
LAST-MODIFIED:20230721T140128Z
UID:10002548-1702468800-1702473300@iccie.org
SUMMARY:Reinsurance and Other Risk Transfer Mechanisms
DESCRIPTION:See Course Details
URL:https://iccie.org/course/reinsurance-and-other-risk-transfer-mechanisms-11/2023-12-13/
CATEGORIES:Core Courses
END:VEVENT
BEGIN:VEVENT
DTSTART;TZID=America/New_York:20231212T120000
DTEND;TZID=America/New_York:20231212T131500
DTSTAMP:20260422T003002
CREATED:20230721T135459Z
LAST-MODIFIED:20230721T140039Z
UID:10002545-1702382400-1702386900@iccie.org
SUMMARY:Predicting Risk and an Introduction to Actuarial Science
DESCRIPTION:See Course Details
URL:https://iccie.org/course/predicting-risk-and-an-introduction-to-actuarial-science-9/2023-12-12/
CATEGORIES:Core Courses
END:VEVENT
BEGIN:VEVENT
DTSTART;TZID=America/New_York:20231207T120000
DTEND;TZID=America/New_York:20231207T131500
DTSTAMP:20260422T003002
CREATED:20230721T141041Z
LAST-MODIFIED:20230721T141041Z
UID:10002553-1701950400-1701954900@iccie.org
SUMMARY:Captive Board Governance
DESCRIPTION:See Course Details
URL:https://iccie.org/course/captive-board-governance-9/2023-12-07/
CATEGORIES:Elective Courses
END:VEVENT
BEGIN:VEVENT
DTSTART;TZID=America/New_York:20231206T120000
DTEND;TZID=America/New_York:20231206T131500
DTSTAMP:20260422T003002
CREATED:20230721T135754Z
LAST-MODIFIED:20230721T140128Z
UID:10002547-1701864000-1701868500@iccie.org
SUMMARY:Reinsurance and Other Risk Transfer Mechanisms
DESCRIPTION:See Course Details
URL:https://iccie.org/course/reinsurance-and-other-risk-transfer-mechanisms-11/2023-12-06/
CATEGORIES:Core Courses
END:VEVENT
BEGIN:VEVENT
DTSTART;TZID=America/New_York:20231205T120000
DTEND;TZID=America/New_York:20231205T131500
DTSTAMP:20260422T003002
CREATED:20230721T135459Z
LAST-MODIFIED:20230721T140039Z
UID:10002544-1701777600-1701782100@iccie.org
SUMMARY:Predicting Risk and an Introduction to Actuarial Science
DESCRIPTION:See Course Details
URL:https://iccie.org/course/predicting-risk-and-an-introduction-to-actuarial-science-9/2023-12-05/
CATEGORIES:Core Courses
END:VEVENT
BEGIN:VEVENT
DTSTART;TZID=America/New_York:20231130T120000
DTEND;TZID=America/New_York:20231130T131500
DTSTAMP:20260422T003002
CREATED:20230721T141041Z
LAST-MODIFIED:20230721T141041Z
UID:10002552-1701345600-1701350100@iccie.org
SUMMARY:Captive Board Governance
DESCRIPTION:See Course Details
URL:https://iccie.org/course/captive-board-governance-9/2023-11-30/
CATEGORIES:Elective Courses
END:VEVENT
BEGIN:VEVENT
DTSTART;TZID=America/New_York:20231129T120000
DTEND;TZID=America/New_York:20231129T131500
DTSTAMP:20260422T003002
CREATED:20230721T135754Z
LAST-MODIFIED:20230721T140128Z
UID:10002546-1701259200-1701263700@iccie.org
SUMMARY:Reinsurance and Other Risk Transfer Mechanisms
DESCRIPTION:See Course Details
URL:https://iccie.org/course/reinsurance-and-other-risk-transfer-mechanisms-11/2023-11-29/
CATEGORIES:Core Courses
END:VEVENT
BEGIN:VEVENT
DTSTART;TZID=America/New_York:20231128T120000
DTEND;TZID=America/New_York:20231128T131500
DTSTAMP:20260422T003002
CREATED:20230721T135459Z
LAST-MODIFIED:20230721T140039Z
UID:10002543-1701172800-1701177300@iccie.org
SUMMARY:Predicting Risk and an Introduction to Actuarial Science
DESCRIPTION:See Course Details
URL:https://iccie.org/course/predicting-risk-and-an-introduction-to-actuarial-science-9/2023-11-28/
CATEGORIES:Core Courses
END:VEVENT
BEGIN:VEVENT
DTSTART;TZID=America/New_York:20231124T080000
DTEND;TZID=America/New_York:20231124T170000
DTSTAMP:20260422T003002
CREATED:20230721T140321Z
LAST-MODIFIED:20230721T140330Z
UID:10002550-1700812800-1700845200@iccie.org
SUMMARY:ICCIE Office Closed
DESCRIPTION:
URL:https://iccie.org/course/iccie-office-closes/
CATEGORIES:Holidays
END:VEVENT
BEGIN:VEVENT
DTSTART;VALUE=DATE:20231123
DTEND;VALUE=DATE:20231124
DTSTAMP:20260422T003002
CREATED:20230721T140235Z
LAST-MODIFIED:20230721T140235Z
UID:10002549-1700697600-1700783999@iccie.org
SUMMARY:Thanksgiving - United States
DESCRIPTION:
URL:https://iccie.org/course/thanksgiving-united-states-2/
CATEGORIES:Holidays
END:VEVENT
BEGIN:VEVENT
DTSTART;TZID=America/New_York:20231116T120000
DTEND;TZID=America/New_York:20231116T131500
DTSTAMP:20260422T003002
CREATED:20230721T135200Z
LAST-MODIFIED:20230721T135924Z
UID:10002542-1700136000-1700140500@iccie.org
SUMMARY:An Introduction to Alternative Risk Financing Mechanisims
DESCRIPTION:See Course Details
URL:https://iccie.org/course/an-introduction-to-alternative-risk-financing-mechanisims/2023-11-16/
CATEGORIES:Core Courses
END:VEVENT
BEGIN:VEVENT
DTSTART;TZID=America/New_York:20231115T120000
DTEND;TZID=America/New_York:20231115T131500
DTSTAMP:20260422T003002
CREATED:20230721T134925Z
LAST-MODIFIED:20230721T134925Z
UID:10002538-1700049600-1700054100@iccie.org
SUMMARY:Regulation of Captives
DESCRIPTION:See Course Details
URL:https://iccie.org/course/regulation-of-captives-8/2023-11-15/
CATEGORIES:Elective Courses
END:VEVENT
BEGIN:VEVENT
DTSTART;TZID=America/New_York:20231109T140000
DTEND;TZID=America/New_York:20231109T150000
DTSTAMP:20260422T003002
CREATED:20230922T161326Z
LAST-MODIFIED:20230922T161326Z
UID:10002557-1699538400-1699542000@iccie.org
SUMMARY:Hot Topic Webinar - Understanding Actuarial Reports
DESCRIPTION:See Webinar Details
URL:https://iccie.org/course/hot-topic-webinar-understanding-actuarial-reports/
CATEGORIES:Webinars
END:VEVENT
BEGIN:VEVENT
DTSTART;TZID=America/New_York:20231109T120000
DTEND;TZID=America/New_York:20231109T131500
DTSTAMP:20260422T003002
CREATED:20230721T135200Z
LAST-MODIFIED:20230721T135924Z
UID:10002541-1699531200-1699535700@iccie.org
SUMMARY:An Introduction to Alternative Risk Financing Mechanisims
DESCRIPTION:See Course Details
URL:https://iccie.org/course/an-introduction-to-alternative-risk-financing-mechanisims/2023-11-09/
CATEGORIES:Core Courses
END:VEVENT
BEGIN:VEVENT
DTSTART;TZID=America/New_York:20231108T120000
DTEND;TZID=America/New_York:20231108T131500
DTSTAMP:20260422T003002
CREATED:20230721T134925Z
LAST-MODIFIED:20230721T134925Z
UID:10002537-1699444800-1699449300@iccie.org
SUMMARY:Regulation of Captives
DESCRIPTION:See Course Details
URL:https://iccie.org/course/regulation-of-captives-8/2023-11-08/
CATEGORIES:Elective Courses
END:VEVENT
BEGIN:VEVENT
DTSTART;TZID=America/New_York:20231102T120000
DTEND;TZID=America/New_York:20231102T131500
DTSTAMP:20260422T003002
CREATED:20230721T135200Z
LAST-MODIFIED:20230721T135924Z
UID:10002540-1698926400-1698930900@iccie.org
SUMMARY:An Introduction to Alternative Risk Financing Mechanisims
DESCRIPTION:See Course Details
URL:https://iccie.org/course/an-introduction-to-alternative-risk-financing-mechanisims/2023-11-02/
CATEGORIES:Core Courses
END:VEVENT
BEGIN:VEVENT
DTSTART;TZID=America/New_York:20231101T120000
DTEND;TZID=America/New_York:20231101T131500
DTSTAMP:20260422T003002
CREATED:20230721T134925Z
LAST-MODIFIED:20230721T134925Z
UID:10002536-1698840000-1698844500@iccie.org
SUMMARY:Regulation of Captives
DESCRIPTION:See Course Details
URL:https://iccie.org/course/regulation-of-captives-8/2023-11-01/
CATEGORIES:Elective Courses
END:VEVENT
BEGIN:VEVENT
DTSTART;TZID=America/New_York:20231026T120000
DTEND;TZID=America/New_York:20231026T131500
DTSTAMP:20260422T003002
CREATED:20230721T135200Z
LAST-MODIFIED:20230721T135924Z
UID:10002539-1698321600-1698326100@iccie.org
SUMMARY:An Introduction to Alternative Risk Financing Mechanisims
DESCRIPTION:See Course Details
URL:https://iccie.org/course/an-introduction-to-alternative-risk-financing-mechanisims/2023-10-26/
CATEGORIES:Core Courses
END:VEVENT
BEGIN:VEVENT
DTSTART;TZID=America/New_York:20231025T120000
DTEND;TZID=America/New_York:20231025T131500
DTSTAMP:20260422T003002
CREATED:20230721T134925Z
LAST-MODIFIED:20230721T134925Z
UID:10002535-1698235200-1698239700@iccie.org
SUMMARY:Regulation of Captives
DESCRIPTION:See Course Details
URL:https://iccie.org/course/regulation-of-captives-8/2023-10-25/
CATEGORIES:Elective Courses
END:VEVENT
BEGIN:VEVENT
DTSTART;TZID=America/New_York:20231024T151500
DTEND;TZID=America/New_York:20231024T161500
DTSTAMP:20260422T003002
CREATED:20230922T155131Z
LAST-MODIFIED:20230922T155131Z
UID:10002556-1698160500-1698164100@iccie.org
SUMMARY:Hot Topic Webinar - Update on Cyber Program Innovation Through the Use of Technology
DESCRIPTION:See Webinar details
URL:https://iccie.org/course/hot-topic-webinar-update-on-cyber-program-innovation-through-the-use-of-technology/
CATEGORIES:Webinars
END:VEVENT
BEGIN:VEVENT
DTSTART;TZID=America/New_York:20231023T120000
DTEND;TZID=America/New_York:20231023T131500
DTSTAMP:20260422T003002
CREATED:20230721T134656Z
LAST-MODIFIED:20230721T134656Z
UID:10002534-1698062400-1698066900@iccie.org
SUMMARY:Investment Basics in Captive Insurance
DESCRIPTION:See Course Details
URL:https://iccie.org/course/investment-basics-in-captive-insurance-5/2023-10-23/
CATEGORIES:Core Courses
END:VEVENT
BEGIN:VEVENT
DTSTART;TZID=America/New_York:20231016T120000
DTEND;TZID=America/New_York:20231016T131500
DTSTAMP:20260422T003002
CREATED:20230721T134656Z
LAST-MODIFIED:20230721T134656Z
UID:10002533-1697457600-1697462100@iccie.org
SUMMARY:Investment Basics in Captive Insurance
DESCRIPTION:See Course Details
URL:https://iccie.org/course/investment-basics-in-captive-insurance-5/2023-10-16/
CATEGORIES:Core Courses
END:VEVENT
BEGIN:VEVENT
DTSTART;TZID=America/New_York:20231012T120000
DTEND;TZID=America/New_York:20231012T131500
DTSTAMP:20260422T003002
CREATED:20230721T134433Z
LAST-MODIFIED:20230721T134433Z
UID:10002530-1697112000-1697116500@iccie.org
SUMMARY:Business Ethics in the Captive Insurance Industry
DESCRIPTION:See Course Details
URL:https://iccie.org/course/business-ethics-in-the-captive-insurance-industry-10/2023-10-12/
CATEGORIES:Core Courses
END:VEVENT
BEGIN:VEVENT
DTSTART;TZID=America/New_York:20231010T120000
DTEND;TZID=America/New_York:20231010T131500
DTSTAMP:20260422T003002
CREATED:20230720T201258Z
LAST-MODIFIED:20230720T201258Z
UID:10002518-1696939200-1696943700@iccie.org
SUMMARY:Forming and Operating a Captive
DESCRIPTION:See Course Details
URL:https://iccie.org/course/forming-and-operating-a-captive-11/2023-10-10/
CATEGORIES:Core Courses
END:VEVENT
BEGIN:VEVENT
DTSTART;TZID=America/New_York:20231009T120000
DTEND;TZID=America/New_York:20231009T131500
DTSTAMP:20260422T003002
CREATED:20230721T134656Z
LAST-MODIFIED:20230721T134656Z
UID:10002532-1696852800-1696857300@iccie.org
SUMMARY:Investment Basics in Captive Insurance
DESCRIPTION:See Course Details
URL:https://iccie.org/course/investment-basics-in-captive-insurance-5/2023-10-09/
CATEGORIES:Core Courses
END:VEVENT
BEGIN:VEVENT
DTSTART;TZID=America/New_York:20231005T120000
DTEND;TZID=America/New_York:20231005T131500
DTSTAMP:20260422T003002
CREATED:20230721T134433Z
LAST-MODIFIED:20230721T134433Z
UID:10002529-1696507200-1696511700@iccie.org
SUMMARY:Business Ethics in the Captive Insurance Industry
DESCRIPTION:See Course Details
URL:https://iccie.org/course/business-ethics-in-the-captive-insurance-industry-10/2023-10-05/
CATEGORIES:Core Courses
END:VEVENT
BEGIN:VEVENT
DTSTART;TZID=America/New_York:20231004T120000
DTEND;TZID=America/New_York:20231004T131500
DTSTAMP:20260422T003002
CREATED:20230720T201523Z
LAST-MODIFIED:20230720T201523Z
UID:10002523-1696420800-1696425300@iccie.org
SUMMARY:Understanding Risk and Risk Retention Mechanisms
DESCRIPTION:See Course Details
URL:https://iccie.org/course/understanding-risk-and-risk-retention-mechanisms-15/2023-10-04/
CATEGORIES:Core Courses
END:VEVENT
BEGIN:VEVENT
DTSTART;TZID=America/New_York:20231003T120000
DTEND;TZID=America/New_York:20231003T131500
DTSTAMP:20260422T003002
CREATED:20230720T201258Z
LAST-MODIFIED:20230720T201258Z
UID:10002517-1696334400-1696338900@iccie.org
SUMMARY:Forming and Operating a Captive
DESCRIPTION:See Course Details
URL:https://iccie.org/course/forming-and-operating-a-captive-11/2023-10-03/
CATEGORIES:Core Courses
END:VEVENT
BEGIN:VEVENT
DTSTART;TZID=America/New_York:20231002T120000
DTEND;TZID=America/New_York:20231002T131500
DTSTAMP:20260422T003002
CREATED:20230721T134656Z
LAST-MODIFIED:20230721T134656Z
UID:10002531-1696248000-1696252500@iccie.org
SUMMARY:Investment Basics in Captive Insurance
DESCRIPTION:See Course Details
URL:https://iccie.org/course/investment-basics-in-captive-insurance-5/2023-10-02/
CATEGORIES:Core Courses
END:VEVENT
BEGIN:VEVENT
DTSTART;TZID=America/New_York:20230928T120000
DTEND;TZID=America/New_York:20230928T131500
DTSTAMP:20260422T003002
CREATED:20230721T134433Z
LAST-MODIFIED:20230721T134433Z
UID:10002528-1695902400-1695906900@iccie.org
SUMMARY:Business Ethics in the Captive Insurance Industry
DESCRIPTION:See Course Details
URL:https://iccie.org/course/business-ethics-in-the-captive-insurance-industry-10/2023-09-28/
CATEGORIES:Core Courses
END:VEVENT
END:VCALENDAR