BEGIN:VCALENDAR
VERSION:2.0
PRODID:-//ICCIE - ECPv6.15.20//NONSGML v1.0//EN
CALSCALE:GREGORIAN
METHOD:PUBLISH
X-ORIGINAL-URL:https://iccie.org
X-WR-CALDESC:Events for ICCIE
REFRESH-INTERVAL;VALUE=DURATION:PT1H
X-Robots-Tag:noindex
X-PUBLISHED-TTL:PT1H
BEGIN:VTIMEZONE
TZID:America/New_York
BEGIN:DAYLIGHT
TZOFFSETFROM:-0500
TZOFFSETTO:-0400
TZNAME:EDT
DTSTART:20240310T070000
END:DAYLIGHT
BEGIN:STANDARD
TZOFFSETFROM:-0400
TZOFFSETTO:-0500
TZNAME:EST
DTSTART:20241103T060000
END:STANDARD
BEGIN:DAYLIGHT
TZOFFSETFROM:-0500
TZOFFSETTO:-0400
TZNAME:EDT
DTSTART:20250309T070000
END:DAYLIGHT
BEGIN:STANDARD
TZOFFSETFROM:-0400
TZOFFSETTO:-0500
TZNAME:EST
DTSTART:20251102T060000
END:STANDARD
BEGIN:DAYLIGHT
TZOFFSETFROM:-0500
TZOFFSETTO:-0400
TZNAME:EDT
DTSTART:20260308T070000
END:DAYLIGHT
BEGIN:STANDARD
TZOFFSETFROM:-0400
TZOFFSETTO:-0500
TZNAME:EST
DTSTART:20261101T060000
END:STANDARD
END:VTIMEZONE
BEGIN:VEVENT
DTSTART;TZID=America/New_York:20250327T120000
DTEND;TZID=America/New_York:20250327T131500
DTSTAMP:20260421T173432
CREATED:20241021T183702Z
LAST-MODIFIED:20241021T183702Z
UID:10002786-1743076800-1743081300@iccie.org
SUMMARY:Healthcare Captives Overview
DESCRIPTION:see course details
URL:https://iccie.org/course/healthcare-captives-overview-8/2025-03-27/
CATEGORIES:Elective Courses
END:VEVENT
BEGIN:VEVENT
DTSTART;TZID=America/New_York:20250331T120000
DTEND;TZID=America/New_York:20250331T131500
DTSTAMP:20260421T173432
CREATED:20241202T142307Z
LAST-MODIFIED:20241202T142307Z
UID:10002809-1743422400-1743426900@iccie.org
SUMMARY:Investment Basics for Captives
DESCRIPTION:see course details
URL:https://iccie.org/course/investment-basics-for-captives-9/2025-03-31/
CATEGORIES:Core Courses
END:VEVENT
BEGIN:VEVENT
DTSTART;TZID=America/New_York:20250401T120000
DTEND;TZID=America/New_York:20250401T131500
DTSTAMP:20260421T173432
CREATED:20241021T183327Z
LAST-MODIFIED:20250203T191714Z
UID:10002781-1743508800-1743513300@iccie.org
SUMMARY:Forming and Operating a Captive - *FULL*
DESCRIPTION:see course details
URL:https://iccie.org/course/forming-and-operating-a-captive-14/2025-04-01/
CATEGORIES:Core Courses
END:VEVENT
BEGIN:VEVENT
DTSTART;TZID=America/New_York:20250402T120000
DTEND;TZID=America/New_York:20250402T131500
DTSTAMP:20260421T173432
CREATED:20241024T174934Z
LAST-MODIFIED:20250218T173725Z
UID:10002795-1743595200-1743599700@iccie.org
SUMMARY:Reinsurance and Other Risk Transfer Mechanisms - *FULL*
DESCRIPTION:see course details
URL:https://iccie.org/course/reinsurance-and-other-risk-transfer-mechanisms-14/2025-04-02/
CATEGORIES:Core Courses
END:VEVENT
BEGIN:VEVENT
DTSTART;TZID=America/New_York:20250403T120000
DTEND;TZID=America/New_York:20250403T131500
DTSTAMP:20260421T173432
CREATED:20241021T183702Z
LAST-MODIFIED:20241021T183702Z
UID:10002787-1743681600-1743686100@iccie.org
SUMMARY:Healthcare Captives Overview
DESCRIPTION:see course details
URL:https://iccie.org/course/healthcare-captives-overview-8/2025-04-03/
CATEGORIES:Elective Courses
END:VEVENT
BEGIN:VEVENT
DTSTART;TZID=America/New_York:20250407T120000
DTEND;TZID=America/New_York:20250407T131500
DTSTAMP:20260421T173432
CREATED:20241202T142307Z
LAST-MODIFIED:20241202T142307Z
UID:10002810-1744027200-1744031700@iccie.org
SUMMARY:Investment Basics for Captives
DESCRIPTION:see course details
URL:https://iccie.org/course/investment-basics-for-captives-9/2025-04-07/
CATEGORIES:Core Courses
END:VEVENT
BEGIN:VEVENT
DTSTART;TZID=America/New_York:20250408T120000
DTEND;TZID=America/New_York:20250408T131500
DTSTAMP:20260421T173432
CREATED:20241021T183327Z
LAST-MODIFIED:20250203T191714Z
UID:10002782-1744113600-1744118100@iccie.org
SUMMARY:Forming and Operating a Captive - *FULL*
DESCRIPTION:see course details
URL:https://iccie.org/course/forming-and-operating-a-captive-14/2025-04-08/
CATEGORIES:Core Courses
END:VEVENT
BEGIN:VEVENT
DTSTART;TZID=America/New_York:20250409T120000
DTEND;TZID=America/New_York:20250409T131500
DTSTAMP:20260421T173432
CREATED:20241105T163355Z
LAST-MODIFIED:20241105T163355Z
UID:10002799-1744200000-1744204500@iccie.org
SUMMARY:Risk Retention Groups
DESCRIPTION:see course details
URL:https://iccie.org/course/risk-retention-groups-9/2025-04-09/
CATEGORIES:Elective Courses
END:VEVENT
BEGIN:VEVENT
DTSTART;TZID=America/New_York:20250410T120000
DTEND;TZID=America/New_York:20250410T131500
DTSTAMP:20260421T173432
CREATED:20241021T183702Z
LAST-MODIFIED:20241021T183702Z
UID:10002788-1744286400-1744290900@iccie.org
SUMMARY:Healthcare Captives Overview
DESCRIPTION:see course details
URL:https://iccie.org/course/healthcare-captives-overview-8/2025-04-10/
CATEGORIES:Elective Courses
END:VEVENT
BEGIN:VEVENT
DTSTART;TZID=America/New_York:20250415T120000
DTEND;TZID=America/New_York:20250415T131500
DTSTAMP:20260421T173432
CREATED:20241021T183327Z
LAST-MODIFIED:20250203T191714Z
UID:10002783-1744718400-1744722900@iccie.org
SUMMARY:Forming and Operating a Captive - *FULL*
DESCRIPTION:see course details
URL:https://iccie.org/course/forming-and-operating-a-captive-14/2025-04-15/
CATEGORIES:Core Courses
END:VEVENT
BEGIN:VEVENT
DTSTART;TZID=America/New_York:20250416T120000
DTEND;TZID=America/New_York:20250416T131500
DTSTAMP:20260421T173432
CREATED:20241105T163355Z
LAST-MODIFIED:20241105T163355Z
UID:10002800-1744804800-1744809300@iccie.org
SUMMARY:Risk Retention Groups
DESCRIPTION:see course details
URL:https://iccie.org/course/risk-retention-groups-9/2025-04-16/
CATEGORIES:Elective Courses
END:VEVENT
BEGIN:VEVENT
DTSTART;TZID=America/New_York:20250417T120000
DTEND;TZID=America/New_York:20250417T131500
DTSTAMP:20260421T173432
CREATED:20241202T142705Z
LAST-MODIFIED:20241202T142705Z
UID:10002811-1744891200-1744895700@iccie.org
SUMMARY:Employee Benefits and Captives
DESCRIPTION:see course details
URL:https://iccie.org/course/employee-benefits-and-captives-5/2025-04-17/
CATEGORIES:Elective Courses
END:VEVENT
BEGIN:VEVENT
DTSTART;TZID=America/New_York:20250422T120000
DTEND;TZID=America/New_York:20250422T131500
DTSTAMP:20260421T173432
CREATED:20241021T183327Z
LAST-MODIFIED:20250203T191714Z
UID:10002784-1745323200-1745327700@iccie.org
SUMMARY:Forming and Operating a Captive - *FULL*
DESCRIPTION:see course details
URL:https://iccie.org/course/forming-and-operating-a-captive-14/2025-04-22/
CATEGORIES:Core Courses
END:VEVENT
BEGIN:VEVENT
DTSTART;TZID=America/New_York:20250423T120000
DTEND;TZID=America/New_York:20250423T131500
DTSTAMP:20260421T173432
CREATED:20241105T163355Z
LAST-MODIFIED:20241105T163355Z
UID:10002801-1745409600-1745414100@iccie.org
SUMMARY:Risk Retention Groups
DESCRIPTION:see course details
URL:https://iccie.org/course/risk-retention-groups-9/2025-04-23/
CATEGORIES:Elective Courses
END:VEVENT
BEGIN:VEVENT
DTSTART;TZID=America/New_York:20250424T120000
DTEND;TZID=America/New_York:20250424T131500
DTSTAMP:20260421T173432
CREATED:20241202T142705Z
LAST-MODIFIED:20241202T142705Z
UID:10002812-1745496000-1745500500@iccie.org
SUMMARY:Employee Benefits and Captives
DESCRIPTION:see course details
URL:https://iccie.org/course/employee-benefits-and-captives-5/2025-04-24/
CATEGORIES:Elective Courses
END:VEVENT
BEGIN:VEVENT
DTSTART;TZID=America/New_York:20250429T120000
DTEND;TZID=America/New_York:20250429T131500
DTSTAMP:20260421T173432
CREATED:20250303T212241Z
LAST-MODIFIED:20250303T212241Z
UID:10002826-1745928000-1745932500@iccie.org
SUMMARY:Taxation of Captive Insurance Arrangements - NEW COURSE!
DESCRIPTION:see course details
URL:https://iccie.org/course/taxation-of-captive-insurance-arrangements-new-course/2025-04-29/
CATEGORIES:Elective Courses
END:VEVENT
BEGIN:VEVENT
DTSTART;TZID=America/New_York:20250430T120000
DTEND;TZID=America/New_York:20250430T131500
DTSTAMP:20260421T173432
CREATED:20241105T163355Z
LAST-MODIFIED:20241105T163355Z
UID:10002802-1746014400-1746018900@iccie.org
SUMMARY:Risk Retention Groups
DESCRIPTION:see course details
URL:https://iccie.org/course/risk-retention-groups-9/2025-04-30/
CATEGORIES:Elective Courses
END:VEVENT
BEGIN:VEVENT
DTSTART;TZID=America/New_York:20250501T120000
DTEND;TZID=America/New_York:20250501T131500
DTSTAMP:20260421T173432
CREATED:20241202T142705Z
LAST-MODIFIED:20241202T142705Z
UID:10002813-1746100800-1746105300@iccie.org
SUMMARY:Employee Benefits and Captives
DESCRIPTION:see course details
URL:https://iccie.org/course/employee-benefits-and-captives-5/2025-05-01/
CATEGORIES:Elective Courses
END:VEVENT
BEGIN:VEVENT
DTSTART;TZID=America/New_York:20250506T120000
DTEND;TZID=America/New_York:20250506T131500
DTSTAMP:20260421T173432
CREATED:20250303T212241Z
LAST-MODIFIED:20250303T212241Z
UID:10002827-1746532800-1746537300@iccie.org
SUMMARY:Taxation of Captive Insurance Arrangements - NEW COURSE!
DESCRIPTION:see course details
URL:https://iccie.org/course/taxation-of-captive-insurance-arrangements-new-course/2025-05-06/
CATEGORIES:Elective Courses
END:VEVENT
BEGIN:VEVENT
DTSTART;TZID=America/New_York:20250507T120000
DTEND;TZID=America/New_York:20250507T131500
DTSTAMP:20260421T173432
CREATED:20241024T175157Z
LAST-MODIFIED:20250218T173916Z
UID:10002796-1746619200-1746623700@iccie.org
SUMMARY:Predicting Risk and an Introduction to Actuarial Science - *FULL*
DESCRIPTION:see course details
URL:https://iccie.org/course/predicting-risk-and-an-introduction-to-actuarial-science-12/2025-05-07/
CATEGORIES:Core Courses
END:VEVENT
BEGIN:VEVENT
DTSTART;TZID=America/New_York:20250508T120000
DTEND;TZID=America/New_York:20250508T131500
DTSTAMP:20260421T173432
CREATED:20241202T142705Z
LAST-MODIFIED:20241202T142705Z
UID:10002814-1746705600-1746710100@iccie.org
SUMMARY:Employee Benefits and Captives
DESCRIPTION:see course details
URL:https://iccie.org/course/employee-benefits-and-captives-5/2025-05-08/
CATEGORIES:Elective Courses
END:VEVENT
BEGIN:VEVENT
DTSTART;TZID=America/New_York:20250513T120000
DTEND;TZID=America/New_York:20250513T131500
DTSTAMP:20260421T173432
CREATED:20250303T212241Z
LAST-MODIFIED:20250303T212241Z
UID:10002828-1747137600-1747142100@iccie.org
SUMMARY:Taxation of Captive Insurance Arrangements - NEW COURSE!
DESCRIPTION:see course details
URL:https://iccie.org/course/taxation-of-captive-insurance-arrangements-new-course/2025-05-13/
CATEGORIES:Elective Courses
END:VEVENT
BEGIN:VEVENT
DTSTART;TZID=America/New_York:20250514T120000
DTEND;TZID=America/New_York:20250514T131500
DTSTAMP:20260421T173432
CREATED:20241024T175157Z
LAST-MODIFIED:20250218T173916Z
UID:10002797-1747224000-1747228500@iccie.org
SUMMARY:Predicting Risk and an Introduction to Actuarial Science - *FULL*
DESCRIPTION:see course details
URL:https://iccie.org/course/predicting-risk-and-an-introduction-to-actuarial-science-12/2025-05-14/
CATEGORIES:Core Courses
END:VEVENT
BEGIN:VEVENT
DTSTART;TZID=America/New_York:20250515T120000
DTEND;TZID=America/New_York:20250515T131500
DTSTAMP:20260421T173432
CREATED:20241021T184103Z
LAST-MODIFIED:20241021T184103Z
UID:10002789-1747310400-1747314900@iccie.org
SUMMARY:Captive Claims Management Best Practices and Reinsurance
DESCRIPTION:see course details
URL:https://iccie.org/course/captive-claims-management-best-practices-and-reinsurance-7/2025-05-15/
CATEGORIES:Elective Courses
END:VEVENT
BEGIN:VEVENT
DTSTART;TZID=America/New_York:20250520T120000
DTEND;TZID=America/New_York:20250520T131500
DTSTAMP:20260421T173432
CREATED:20250303T212241Z
LAST-MODIFIED:20250303T212241Z
UID:10002829-1747742400-1747746900@iccie.org
SUMMARY:Taxation of Captive Insurance Arrangements - NEW COURSE!
DESCRIPTION:see course details
URL:https://iccie.org/course/taxation-of-captive-insurance-arrangements-new-course/2025-05-20/
CATEGORIES:Elective Courses
END:VEVENT
BEGIN:VEVENT
DTSTART;TZID=America/New_York:20250521T120000
DTEND;TZID=America/New_York:20250521T131500
DTSTAMP:20260421T173432
CREATED:20241024T175157Z
LAST-MODIFIED:20250218T173916Z
UID:10002798-1747828800-1747833300@iccie.org
SUMMARY:Predicting Risk and an Introduction to Actuarial Science - *FULL*
DESCRIPTION:see course details
URL:https://iccie.org/course/predicting-risk-and-an-introduction-to-actuarial-science-12/2025-05-21/
CATEGORIES:Core Courses
END:VEVENT
BEGIN:VEVENT
DTSTART;TZID=America/New_York:20250522T120000
DTEND;TZID=America/New_York:20250522T131500
DTSTAMP:20260421T173432
CREATED:20241021T184103Z
LAST-MODIFIED:20241021T184103Z
UID:10002790-1747915200-1747919700@iccie.org
SUMMARY:Captive Claims Management Best Practices and Reinsurance
DESCRIPTION:see course details
URL:https://iccie.org/course/captive-claims-management-best-practices-and-reinsurance-7/2025-05-22/
CATEGORIES:Elective Courses
END:VEVENT
BEGIN:VEVENT
DTSTART;TZID=America/New_York:20250528T120000
DTEND;TZID=America/New_York:20250528T131500
DTSTAMP:20260421T173432
CREATED:20250115T154049Z
LAST-MODIFIED:20250115T154049Z
UID:10002821-1748433600-1748438100@iccie.org
SUMMARY:An Introduction to Alternative Risk Financing Mechanisms
DESCRIPTION:see course details
URL:https://iccie.org/course/an-introduction-to-alternative-risk-financing-mechanisms-16/2025-05-28/
CATEGORIES:Core Courses
END:VEVENT
BEGIN:VEVENT
DTSTART;TZID=America/New_York:20250529T120000
DTEND;TZID=America/New_York:20250529T131500
DTSTAMP:20260421T173432
CREATED:20241021T184103Z
LAST-MODIFIED:20241021T184103Z
UID:10002791-1748520000-1748524500@iccie.org
SUMMARY:Captive Claims Management Best Practices and Reinsurance
DESCRIPTION:see course details
URL:https://iccie.org/course/captive-claims-management-best-practices-and-reinsurance-7/2025-05-29/
CATEGORIES:Elective Courses
END:VEVENT
BEGIN:VEVENT
DTSTART;TZID=America/New_York:20250604T120000
DTEND;TZID=America/New_York:20250604T131500
DTSTAMP:20260421T173432
CREATED:20250115T154049Z
LAST-MODIFIED:20250115T154049Z
UID:10002822-1749038400-1749042900@iccie.org
SUMMARY:An Introduction to Alternative Risk Financing Mechanisms
DESCRIPTION:see course details
URL:https://iccie.org/course/an-introduction-to-alternative-risk-financing-mechanisms-16/2025-06-04/
CATEGORIES:Core Courses
END:VEVENT
END:VCALENDAR