BEGIN:VCALENDAR
VERSION:2.0
PRODID:-//ICCIE - ECPv6.15.20//NONSGML v1.0//EN
CALSCALE:GREGORIAN
METHOD:PUBLISH
X-WR-CALNAME:ICCIE
X-ORIGINAL-URL:https://iccie.org
X-WR-CALDESC:Events for ICCIE
REFRESH-INTERVAL;VALUE=DURATION:PT1H
X-Robots-Tag:noindex
X-PUBLISHED-TTL:PT1H
BEGIN:VTIMEZONE
TZID:America/New_York
BEGIN:DAYLIGHT
TZOFFSETFROM:-0500
TZOFFSETTO:-0400
TZNAME:EDT
DTSTART:20220313T070000
END:DAYLIGHT
BEGIN:STANDARD
TZOFFSETFROM:-0400
TZOFFSETTO:-0500
TZNAME:EST
DTSTART:20221106T060000
END:STANDARD
BEGIN:DAYLIGHT
TZOFFSETFROM:-0500
TZOFFSETTO:-0400
TZNAME:EDT
DTSTART:20230312T070000
END:DAYLIGHT
BEGIN:STANDARD
TZOFFSETFROM:-0400
TZOFFSETTO:-0500
TZNAME:EST
DTSTART:20231105T060000
END:STANDARD
BEGIN:DAYLIGHT
TZOFFSETFROM:-0500
TZOFFSETTO:-0400
TZNAME:EDT
DTSTART:20240310T070000
END:DAYLIGHT
BEGIN:STANDARD
TZOFFSETFROM:-0400
TZOFFSETTO:-0500
TZNAME:EST
DTSTART:20241103T060000
END:STANDARD
BEGIN:DAYLIGHT
TZOFFSETFROM:-0500
TZOFFSETTO:-0400
TZNAME:EDT
DTSTART:20250309T070000
END:DAYLIGHT
BEGIN:STANDARD
TZOFFSETFROM:-0400
TZOFFSETTO:-0500
TZNAME:EST
DTSTART:20251102T060000
END:STANDARD
END:VTIMEZONE
BEGIN:VEVENT
DTSTART;TZID=America/New_York:20240326T120000
DTEND;TZID=America/New_York:20240326T131500
DTSTAMP:20260421T173356
CREATED:20231016T135911Z
LAST-MODIFIED:20231016T135911Z
UID:10002587-1711454400-1711458900@iccie.org
SUMMARY:Reinsurance and Other Risk Transfer Mechanisms
DESCRIPTION:see course details
URL:https://iccie.org/course/reinsurance-and-other-risk-transfer-mechanisms-12/2024-03-26/
CATEGORIES:Core Courses
END:VEVENT
BEGIN:VEVENT
DTSTART;TZID=America/New_York:20240325T120000
DTEND;TZID=America/New_York:20240325T131500
DTSTAMP:20260421T173356
CREATED:20231211T165723Z
LAST-MODIFIED:20231211T165723Z
UID:10002606-1711368000-1711372500@iccie.org
SUMMARY:Investment Basics for Captives
DESCRIPTION:see course details
URL:https://iccie.org/course/investment-basics-for-captives-7/2024-03-25/
CATEGORIES:Core Courses
END:VEVENT
BEGIN:VEVENT
DTSTART;TZID=America/New_York:20240321T120000
DTEND;TZID=America/New_York:20240321T131500
DTSTAMP:20260421T173356
CREATED:20231024T202735Z
LAST-MODIFIED:20231024T202735Z
UID:10002600-1711022400-1711026900@iccie.org
SUMMARY:Forming and Operating a Captive
DESCRIPTION:see course details
URL:https://iccie.org/course/forming-and-operating-a-captive-12/2024-03-21/
CATEGORIES:Core Courses
END:VEVENT
BEGIN:VEVENT
DTSTART;TZID=America/New_York:20240320T120000
DTEND;TZID=America/New_York:20240320T131500
DTSTAMP:20260421T173356
CREATED:20231010T161431Z
LAST-MODIFIED:20231010T161431Z
UID:10002578-1710936000-1710940500@iccie.org
SUMMARY:Healthcare Captives Overview
DESCRIPTION:see course details
URL:https://iccie.org/course/healthcare-captives-overview-7/2024-03-20/
CATEGORIES:Elective Courses
END:VEVENT
BEGIN:VEVENT
DTSTART;TZID=America/New_York:20240319T120000
DTEND;TZID=America/New_York:20240319T131500
DTSTAMP:20260421T173356
CREATED:20231016T135911Z
LAST-MODIFIED:20231016T135911Z
UID:10002586-1710849600-1710854100@iccie.org
SUMMARY:Reinsurance and Other Risk Transfer Mechanisms
DESCRIPTION:see course details
URL:https://iccie.org/course/reinsurance-and-other-risk-transfer-mechanisms-12/2024-03-19/
CATEGORIES:Core Courses
END:VEVENT
BEGIN:VEVENT
DTSTART;TZID=America/New_York:20240229T120000
DTEND;TZID=America/New_York:20240229T131500
DTSTAMP:20260421T173356
CREATED:20231004T172425Z
LAST-MODIFIED:20231004T172425Z
UID:10002566-1709208000-1709212500@iccie.org
SUMMARY:Understanding Risk and Risk Retention Mechanisms
DESCRIPTION:see course details
URL:https://iccie.org/course/understanding-risk-and-risk-retention-mechanisms-16/2024-02-29/
CATEGORIES:Core Courses
END:VEVENT
BEGIN:VEVENT
DTSTART;TZID=America/New_York:20240228T120000
DTEND;TZID=America/New_York:20240228T131500
DTSTAMP:20260421T173356
CREATED:20231011T123036Z
LAST-MODIFIED:20231011T123036Z
UID:10002585-1709121600-1709126100@iccie.org
SUMMARY:Understanding the Intricacies of Cell Captives
DESCRIPTION:see course details
URL:https://iccie.org/course/understanding-the-intricacies-of-cell-captives-5/2024-02-28/
CATEGORIES:Elective Courses
END:VEVENT
BEGIN:VEVENT
DTSTART;TZID=America/New_York:20240222T120000
DTEND;TZID=America/New_York:20240222T131500
DTSTAMP:20260421T173356
CREATED:20231004T172425Z
LAST-MODIFIED:20231004T172425Z
UID:10002565-1708603200-1708607700@iccie.org
SUMMARY:Understanding Risk and Risk Retention Mechanisms
DESCRIPTION:see course details
URL:https://iccie.org/course/understanding-risk-and-risk-retention-mechanisms-16/2024-02-22/
CATEGORIES:Core Courses
END:VEVENT
BEGIN:VEVENT
DTSTART;TZID=America/New_York:20240221T120000
DTEND;TZID=America/New_York:20240221T131500
DTSTAMP:20260421T173356
CREATED:20231011T123036Z
LAST-MODIFIED:20231011T123036Z
UID:10002584-1708516800-1708521300@iccie.org
SUMMARY:Understanding the Intricacies of Cell Captives
DESCRIPTION:see course details
URL:https://iccie.org/course/understanding-the-intricacies-of-cell-captives-5/2024-02-21/
CATEGORIES:Elective Courses
END:VEVENT
BEGIN:VEVENT
DTSTART;TZID=America/New_York:20240220T120000
DTEND;TZID=America/New_York:20240220T131500
DTSTAMP:20260421T173356
CREATED:20231004T171835Z
LAST-MODIFIED:20231004T171835Z
UID:10002561-1708430400-1708434900@iccie.org
SUMMARY:Accounting for Captives:  Financial Reporting and Analysis
DESCRIPTION:see course details
URL:https://iccie.org/course/accounting-for-captives-financial-reporting-and-analysis-6/2024-02-20/
CATEGORIES:Elective Courses
END:VEVENT
BEGIN:VEVENT
DTSTART;TZID=America/New_York:20240215T120000
DTEND;TZID=America/New_York:20240215T131500
DTSTAMP:20260421T173356
CREATED:20231004T172425Z
LAST-MODIFIED:20231004T172425Z
UID:10002564-1707998400-1708002900@iccie.org
SUMMARY:Understanding Risk and Risk Retention Mechanisms
DESCRIPTION:see course details
URL:https://iccie.org/course/understanding-risk-and-risk-retention-mechanisms-16/2024-02-15/
CATEGORIES:Core Courses
END:VEVENT
BEGIN:VEVENT
DTSTART;TZID=America/New_York:20240214T120000
DTEND;TZID=America/New_York:20240214T131500
DTSTAMP:20260421T173356
CREATED:20231011T123036Z
LAST-MODIFIED:20231011T123036Z
UID:10002583-1707912000-1707916500@iccie.org
SUMMARY:Understanding the Intricacies of Cell Captives
DESCRIPTION:see course details
URL:https://iccie.org/course/understanding-the-intricacies-of-cell-captives-5/2024-02-14/
CATEGORIES:Elective Courses
END:VEVENT
BEGIN:VEVENT
DTSTART;TZID=America/New_York:20240213T120000
DTEND;TZID=America/New_York:20240213T131500
DTSTAMP:20260421T173356
CREATED:20231004T171835Z
LAST-MODIFIED:20231004T171835Z
UID:10002560-1707825600-1707830100@iccie.org
SUMMARY:Accounting for Captives:  Financial Reporting and Analysis
DESCRIPTION:see course details
URL:https://iccie.org/course/accounting-for-captives-financial-reporting-and-analysis-6/2024-02-13/
CATEGORIES:Elective Courses
END:VEVENT
BEGIN:VEVENT
DTSTART;TZID=America/New_York:20240208T120000
DTEND;TZID=America/New_York:20240208T131500
DTSTAMP:20260421T173356
CREATED:20231004T172425Z
LAST-MODIFIED:20231004T172425Z
UID:10002563-1707393600-1707398100@iccie.org
SUMMARY:Understanding Risk and Risk Retention Mechanisms
DESCRIPTION:see course details
URL:https://iccie.org/course/understanding-risk-and-risk-retention-mechanisms-16/2024-02-08/
CATEGORIES:Core Courses
END:VEVENT
BEGIN:VEVENT
DTSTART;TZID=America/New_York:20240207T120000
DTEND;TZID=America/New_York:20240207T131500
DTSTAMP:20260421T173356
CREATED:20231011T123036Z
LAST-MODIFIED:20231011T123036Z
UID:10002582-1707307200-1707311700@iccie.org
SUMMARY:Understanding the Intricacies of Cell Captives
DESCRIPTION:see course details
URL:https://iccie.org/course/understanding-the-intricacies-of-cell-captives-5/2024-02-07/
CATEGORIES:Elective Courses
END:VEVENT
BEGIN:VEVENT
DTSTART;TZID=America/New_York:20240206T120000
DTEND;TZID=America/New_York:20240206T131500
DTSTAMP:20260421T173356
CREATED:20231004T171835Z
LAST-MODIFIED:20231004T171835Z
UID:10002559-1707220800-1707225300@iccie.org
SUMMARY:Accounting for Captives:  Financial Reporting and Analysis
DESCRIPTION:see course details
URL:https://iccie.org/course/accounting-for-captives-financial-reporting-and-analysis-6/2024-02-06/
CATEGORIES:Elective Courses
END:VEVENT
BEGIN:VEVENT
DTSTART;TZID=America/New_York:20240205T120000
DTEND;TZID=America/New_York:20240205T131500
DTSTAMP:20260421T173356
CREATED:20231023T175406Z
LAST-MODIFIED:20231023T175406Z
UID:10002591-1707134400-1707138900@iccie.org
SUMMARY:Business Ethics in the Captive Insurance Industry
DESCRIPTION:see course details
URL:https://iccie.org/course/business-ethics-in-the-captive-insurance-industry-11/2024-02-05/
CATEGORIES:Core Courses
END:VEVENT
BEGIN:VEVENT
DTSTART;TZID=America/New_York:20240201T120000
DTEND;TZID=America/New_York:20240201T131500
DTSTAMP:20260421T173356
CREATED:20231004T172425Z
LAST-MODIFIED:20231004T172425Z
UID:10002562-1706788800-1706793300@iccie.org
SUMMARY:Understanding Risk and Risk Retention Mechanisms
DESCRIPTION:see course details
URL:https://iccie.org/course/understanding-risk-and-risk-retention-mechanisms-16/2024-02-01/
CATEGORIES:Core Courses
END:VEVENT
BEGIN:VEVENT
DTSTART;TZID=America/New_York:20240131T120000
DTEND;TZID=America/New_York:20240131T131500
DTSTAMP:20260421T173356
CREATED:20231023T181334Z
LAST-MODIFIED:20231023T181334Z
UID:10002595-1706702400-1706706900@iccie.org
SUMMARY:Employee Benefits and Captives
DESCRIPTION:see course details
URL:https://iccie.org/course/employee-benefits-and-captives-4/2024-01-31/
CATEGORIES:Elective Courses
END:VEVENT
BEGIN:VEVENT
DTSTART;TZID=America/New_York:20240130T120000
DTEND;TZID=America/New_York:20240130T131500
DTSTAMP:20260421T173356
CREATED:20231004T171835Z
LAST-MODIFIED:20231004T171835Z
UID:10002558-1706616000-1706620500@iccie.org
SUMMARY:Accounting for Captives:  Financial Reporting and Analysis
DESCRIPTION:see course details
URL:https://iccie.org/course/accounting-for-captives-financial-reporting-and-analysis-6/2024-01-30/
CATEGORIES:Elective Courses
END:VEVENT
BEGIN:VEVENT
DTSTART;TZID=America/New_York:20240129T120000
DTEND;TZID=America/New_York:20240129T131500
DTSTAMP:20260421T173356
CREATED:20231023T175406Z
LAST-MODIFIED:20231023T175406Z
UID:10002590-1706529600-1706534100@iccie.org
SUMMARY:Business Ethics in the Captive Insurance Industry
DESCRIPTION:see course details
URL:https://iccie.org/course/business-ethics-in-the-captive-insurance-industry-11/2024-01-29/
CATEGORIES:Core Courses
END:VEVENT
BEGIN:VEVENT
DTSTART;TZID=America/New_York:20240125T120000
DTEND;TZID=America/New_York:20240125T131500
DTSTAMP:20260421T173356
CREATED:20231023T190318Z
LAST-MODIFIED:20231023T190318Z
UID:10002599-1706184000-1706188500@iccie.org
SUMMARY:An Introduction to Alternative Risk Financing Mechanisms
DESCRIPTION:see course details
URL:https://iccie.org/course/an-introduction-to-alternative-risk-financing-mechanisms-12/2024-01-25/
CATEGORIES:Core Courses
END:VEVENT
BEGIN:VEVENT
DTSTART;TZID=America/New_York:20240124T120000
DTEND;TZID=America/New_York:20240124T131500
DTSTAMP:20260421T173356
CREATED:20231023T181334Z
LAST-MODIFIED:20231023T181334Z
UID:10002594-1706097600-1706102100@iccie.org
SUMMARY:Employee Benefits and Captives
DESCRIPTION:see course details
URL:https://iccie.org/course/employee-benefits-and-captives-4/2024-01-24/
CATEGORIES:Elective Courses
END:VEVENT
BEGIN:VEVENT
DTSTART;TZID=America/New_York:20240122T120000
DTEND;TZID=America/New_York:20240122T131500
DTSTAMP:20260421T173356
CREATED:20231023T175406Z
LAST-MODIFIED:20231023T175406Z
UID:10002589-1705924800-1705929300@iccie.org
SUMMARY:Business Ethics in the Captive Insurance Industry
DESCRIPTION:see course details
URL:https://iccie.org/course/business-ethics-in-the-captive-insurance-industry-11/2024-01-22/
CATEGORIES:Core Courses
END:VEVENT
BEGIN:VEVENT
DTSTART;TZID=America/New_York:20240118T120000
DTEND;TZID=America/New_York:20240118T131500
DTSTAMP:20260421T173356
CREATED:20231023T190318Z
LAST-MODIFIED:20231023T190318Z
UID:10002598-1705579200-1705583700@iccie.org
SUMMARY:An Introduction to Alternative Risk Financing Mechanisms
DESCRIPTION:see course details
URL:https://iccie.org/course/an-introduction-to-alternative-risk-financing-mechanisms-12/2024-01-18/
CATEGORIES:Core Courses
END:VEVENT
BEGIN:VEVENT
DTSTART;TZID=America/New_York:20240117T120000
DTEND;TZID=America/New_York:20240117T131500
DTSTAMP:20260421T173356
CREATED:20231023T181334Z
LAST-MODIFIED:20231023T181334Z
UID:10002593-1705492800-1705497300@iccie.org
SUMMARY:Employee Benefits and Captives
DESCRIPTION:see course details
URL:https://iccie.org/course/employee-benefits-and-captives-4/2024-01-17/
CATEGORIES:Elective Courses
END:VEVENT
BEGIN:VEVENT
DTSTART;TZID=America/New_York:20240111T120000
DTEND;TZID=America/New_York:20240111T131500
DTSTAMP:20260421T173357
CREATED:20231023T190318Z
LAST-MODIFIED:20231023T190318Z
UID:10002597-1704974400-1704978900@iccie.org
SUMMARY:An Introduction to Alternative Risk Financing Mechanisms
DESCRIPTION:see course details
URL:https://iccie.org/course/an-introduction-to-alternative-risk-financing-mechanisms-12/2024-01-11/
CATEGORIES:Core Courses
END:VEVENT
BEGIN:VEVENT
DTSTART;TZID=America/New_York:20240110T120000
DTEND;TZID=America/New_York:20240110T131500
DTSTAMP:20260421T173357
CREATED:20231023T181334Z
LAST-MODIFIED:20231023T181334Z
UID:10002592-1704888000-1704892500@iccie.org
SUMMARY:Employee Benefits and Captives
DESCRIPTION:see course details
URL:https://iccie.org/course/employee-benefits-and-captives-4/2024-01-10/
CATEGORIES:Elective Courses
END:VEVENT
BEGIN:VEVENT
DTSTART;TZID=America/New_York:20240104T120000
DTEND;TZID=America/New_York:20240104T131500
DTSTAMP:20260421T173357
CREATED:20231023T190318Z
LAST-MODIFIED:20231023T190318Z
UID:10002596-1704369600-1704374100@iccie.org
SUMMARY:An Introduction to Alternative Risk Financing Mechanisms
DESCRIPTION:see course details
URL:https://iccie.org/course/an-introduction-to-alternative-risk-financing-mechanisms-12/2024-01-04/
CATEGORIES:Core Courses
END:VEVENT
BEGIN:VEVENT
DTSTART;TZID=America/New_York:20231214T120000
DTEND;TZID=America/New_York:20231214T131500
DTSTAMP:20260421T173357
CREATED:20230721T141041Z
LAST-MODIFIED:20230721T141041Z
UID:10002554-1702555200-1702559700@iccie.org
SUMMARY:Captive Board Governance
DESCRIPTION:See Course Details
URL:https://iccie.org/course/captive-board-governance-9/2023-12-14/
CATEGORIES:Elective Courses
END:VEVENT
END:VCALENDAR