BEGIN:VCALENDAR
VERSION:2.0
PRODID:-//ICCIE - ECPv6.15.20//NONSGML v1.0//EN
CALSCALE:GREGORIAN
METHOD:PUBLISH
X-ORIGINAL-URL:https://iccie.org
X-WR-CALDESC:Events for ICCIE
REFRESH-INTERVAL;VALUE=DURATION:PT1H
X-Robots-Tag:noindex
X-PUBLISHED-TTL:PT1H
BEGIN:VTIMEZONE
TZID:America/New_York
BEGIN:DAYLIGHT
TZOFFSETFROM:-0500
TZOFFSETTO:-0400
TZNAME:EDT
DTSTART:20250309T070000
END:DAYLIGHT
BEGIN:STANDARD
TZOFFSETFROM:-0400
TZOFFSETTO:-0500
TZNAME:EST
DTSTART:20251102T060000
END:STANDARD
BEGIN:DAYLIGHT
TZOFFSETFROM:-0500
TZOFFSETTO:-0400
TZNAME:EDT
DTSTART:20260308T070000
END:DAYLIGHT
BEGIN:STANDARD
TZOFFSETFROM:-0400
TZOFFSETTO:-0500
TZNAME:EST
DTSTART:20261101T060000
END:STANDARD
BEGIN:DAYLIGHT
TZOFFSETFROM:-0500
TZOFFSETTO:-0400
TZNAME:EDT
DTSTART:20270314T070000
END:DAYLIGHT
BEGIN:STANDARD
TZOFFSETFROM:-0400
TZOFFSETTO:-0500
TZNAME:EST
DTSTART:20271107T060000
END:STANDARD
END:VTIMEZONE
BEGIN:VEVENT
DTSTART;TZID=America/New_York:20260218T120000
DTEND;TZID=America/New_York:20260218T131500
DTSTAMP:20260425T112912
CREATED:20251215T180609Z
LAST-MODIFIED:20251215T185912Z
UID:10002979-1771416000-1771420500@iccie.org
SUMMARY:Understanding the Intricacies of Cell Captives
DESCRIPTION:see course details
URL:https://iccie.org/course/understanding-the-intricacies-of-cell-captives-7/2026-02-18/
CATEGORIES:Elective Courses
END:VEVENT
BEGIN:VEVENT
DTSTART;TZID=America/New_York:20260219T120000
DTEND;TZID=America/New_York:20260219T131500
DTSTAMP:20260425T112912
CREATED:20251215T180851Z
LAST-MODIFIED:20251215T184504Z
UID:10002966-1771502400-1771506900@iccie.org
SUMMARY:Accounting for Captives:  Financial Reporting and Analysis
DESCRIPTION:see course details
URL:https://iccie.org/course/accounting-for-captives-financial-reporting-and-analysis-8/2026-02-19/
CATEGORIES:Elective Courses
END:VEVENT
BEGIN:VEVENT
DTSTART;TZID=America/New_York:20260224T120000
DTEND;TZID=America/New_York:20260224T131500
DTSTAMP:20260425T112912
CREATED:20251215T175944Z
LAST-MODIFIED:20251215T184826Z
UID:10002971-1771934400-1771938900@iccie.org
SUMMARY:Understanding Risk and Risk Retention Mechanisms
DESCRIPTION:see course details
URL:https://iccie.org/course/understanding-risk-and-risk-retention-mechanisms-20/2026-02-24/
CATEGORIES:Core Courses
END:VEVENT
BEGIN:VEVENT
DTSTART;TZID=America/New_York:20260225T120000
DTEND;TZID=America/New_York:20260225T131500
DTSTAMP:20260425T112912
CREATED:20251215T180609Z
LAST-MODIFIED:20251215T185912Z
UID:10002980-1772020800-1772025300@iccie.org
SUMMARY:Understanding the Intricacies of Cell Captives
DESCRIPTION:see course details
URL:https://iccie.org/course/understanding-the-intricacies-of-cell-captives-7/2026-02-25/
CATEGORIES:Elective Courses
END:VEVENT
BEGIN:VEVENT
DTSTART;TZID=America/New_York:20260226T120000
DTEND;TZID=America/New_York:20260226T131500
DTSTAMP:20260425T112912
CREATED:20251215T180851Z
LAST-MODIFIED:20251215T184504Z
UID:10002967-1772107200-1772111700@iccie.org
SUMMARY:Accounting for Captives:  Financial Reporting and Analysis
DESCRIPTION:see course details
URL:https://iccie.org/course/accounting-for-captives-financial-reporting-and-analysis-8/2026-02-26/
CATEGORIES:Elective Courses
END:VEVENT
BEGIN:VEVENT
DTSTART;TZID=America/New_York:20260316T120000
DTEND;TZID=America/New_York:20260316T131500
DTSTAMP:20260425T112912
CREATED:20251215T181036Z
LAST-MODIFIED:20251215T184356Z
UID:10002897-1773662400-1773666900@iccie.org
SUMMARY:Investment Basics for Captives
DESCRIPTION:see course details
URL:https://iccie.org/course/investment-basics-for-captives-11/2026-03-16/
CATEGORIES:Core Courses
END:VEVENT
BEGIN:VEVENT
DTSTART;TZID=America/New_York:20260317T120000
DTEND;TZID=America/New_York:20260317T131500
DTSTAMP:20260425T112912
CREATED:20251215T181353Z
LAST-MODIFIED:20260223T161836Z
UID:10002904-1773748800-1773753300@iccie.org
SUMMARY:Forming and Operating a Captive - **FULL**
DESCRIPTION:see course details
URL:https://iccie.org/course/forming-and-operating-a-captive-16/2026-03-17/
CATEGORIES:Core Courses
END:VEVENT
BEGIN:VEVENT
DTSTART;TZID=America/New_York:20260319T120000
DTEND;TZID=America/New_York:20260319T131500
DTSTAMP:20260425T112912
CREATED:20251215T181523Z
LAST-MODIFIED:20251215T184153Z
UID:10002909-1773921600-1773926100@iccie.org
SUMMARY:Healthcare Captives Overview
DESCRIPTION:see course details
URL:https://iccie.org/course/healthcare-captives-overview-9/2026-03-19/
CATEGORIES:Elective Courses
END:VEVENT
BEGIN:VEVENT
DTSTART;TZID=America/New_York:20260323T120000
DTEND;TZID=America/New_York:20260323T131500
DTSTAMP:20260425T112912
CREATED:20251215T181036Z
LAST-MODIFIED:20251215T184356Z
UID:10002962-1774267200-1774271700@iccie.org
SUMMARY:Investment Basics for Captives
DESCRIPTION:see course details
URL:https://iccie.org/course/investment-basics-for-captives-11/2026-03-23/
CATEGORIES:Core Courses
END:VEVENT
BEGIN:VEVENT
DTSTART;TZID=America/New_York:20260324T120000
DTEND;TZID=America/New_York:20260324T131500
DTSTAMP:20260425T112912
CREATED:20251215T181353Z
LAST-MODIFIED:20260223T161836Z
UID:10002957-1774353600-1774358100@iccie.org
SUMMARY:Forming and Operating a Captive - **FULL**
DESCRIPTION:see course details
URL:https://iccie.org/course/forming-and-operating-a-captive-16/2026-03-24/
CATEGORIES:Core Courses
END:VEVENT
BEGIN:VEVENT
DTSTART;TZID=America/New_York:20260326T120000
DTEND;TZID=America/New_York:20260326T131500
DTSTAMP:20260425T112912
CREATED:20251215T181523Z
LAST-MODIFIED:20251215T184153Z
UID:10002954-1774526400-1774530900@iccie.org
SUMMARY:Healthcare Captives Overview
DESCRIPTION:see course details
URL:https://iccie.org/course/healthcare-captives-overview-9/2026-03-26/
CATEGORIES:Elective Courses
END:VEVENT
BEGIN:VEVENT
DTSTART;TZID=America/New_York:20260330T120000
DTEND;TZID=America/New_York:20260330T131500
DTSTAMP:20260425T112912
CREATED:20251215T181036Z
LAST-MODIFIED:20251215T184356Z
UID:10002963-1774872000-1774876500@iccie.org
SUMMARY:Investment Basics for Captives
DESCRIPTION:see course details
URL:https://iccie.org/course/investment-basics-for-captives-11/2026-03-30/
CATEGORIES:Core Courses
END:VEVENT
BEGIN:VEVENT
DTSTART;TZID=America/New_York:20260331T120000
DTEND;TZID=America/New_York:20260331T131500
DTSTAMP:20260425T112912
CREATED:20251215T181353Z
LAST-MODIFIED:20260223T161836Z
UID:10002958-1774958400-1774962900@iccie.org
SUMMARY:Forming and Operating a Captive - **FULL**
DESCRIPTION:see course details
URL:https://iccie.org/course/forming-and-operating-a-captive-16/2026-03-31/
CATEGORIES:Core Courses
END:VEVENT
BEGIN:VEVENT
DTSTART;TZID=America/New_York:20260401T120000
DTEND;TZID=America/New_York:20260401T131500
DTSTAMP:20260425T112912
CREATED:20251215T181707Z
LAST-MODIFIED:20251215T184135Z
UID:10002914-1775044800-1775049300@iccie.org
SUMMARY:Employee Benefits and Captives
DESCRIPTION:see course details
URL:https://iccie.org/course/employee-benefits-and-captives-6/2026-04-01/
CATEGORIES:Elective Courses
END:VEVENT
BEGIN:VEVENT
DTSTART;TZID=America/New_York:20260402T120000
DTEND;TZID=America/New_York:20260402T131500
DTSTAMP:20260425T112912
CREATED:20251215T181523Z
LAST-MODIFIED:20251215T184153Z
UID:10002955-1775131200-1775135700@iccie.org
SUMMARY:Healthcare Captives Overview
DESCRIPTION:see course details
URL:https://iccie.org/course/healthcare-captives-overview-9/2026-04-02/
CATEGORIES:Elective Courses
END:VEVENT
BEGIN:VEVENT
DTSTART;TZID=America/New_York:20260406T120000
DTEND;TZID=America/New_York:20260406T131500
DTSTAMP:20260425T112912
CREATED:20251215T181036Z
LAST-MODIFIED:20251215T184356Z
UID:10002964-1775476800-1775481300@iccie.org
SUMMARY:Investment Basics for Captives
DESCRIPTION:see course details
URL:https://iccie.org/course/investment-basics-for-captives-11/2026-04-06/
CATEGORIES:Core Courses
END:VEVENT
BEGIN:VEVENT
DTSTART;TZID=America/New_York:20260407T120000
DTEND;TZID=America/New_York:20260407T131500
DTSTAMP:20260425T112912
CREATED:20251215T181353Z
LAST-MODIFIED:20260223T161836Z
UID:10002959-1775563200-1775567700@iccie.org
SUMMARY:Forming and Operating a Captive - **FULL**
DESCRIPTION:see course details
URL:https://iccie.org/course/forming-and-operating-a-captive-16/2026-04-07/
CATEGORIES:Core Courses
END:VEVENT
BEGIN:VEVENT
DTSTART;TZID=America/New_York:20260408T120000
DTEND;TZID=America/New_York:20260408T131500
DTSTAMP:20260425T112912
CREATED:20251215T181707Z
LAST-MODIFIED:20251215T184135Z
UID:10002951-1775649600-1775654100@iccie.org
SUMMARY:Employee Benefits and Captives
DESCRIPTION:see course details
URL:https://iccie.org/course/employee-benefits-and-captives-6/2026-04-08/
CATEGORIES:Elective Courses
END:VEVENT
BEGIN:VEVENT
DTSTART;TZID=America/New_York:20260409T120000
DTEND;TZID=America/New_York:20260409T131500
DTSTAMP:20260425T112912
CREATED:20251215T181523Z
LAST-MODIFIED:20251215T184153Z
UID:10002956-1775736000-1775740500@iccie.org
SUMMARY:Healthcare Captives Overview
DESCRIPTION:see course details
URL:https://iccie.org/course/healthcare-captives-overview-9/2026-04-09/
CATEGORIES:Elective Courses
END:VEVENT
BEGIN:VEVENT
DTSTART;TZID=America/New_York:20260414T120000
DTEND;TZID=America/New_York:20260414T131500
DTSTAMP:20260425T112912
CREATED:20251215T181353Z
LAST-MODIFIED:20260223T161836Z
UID:10002960-1776168000-1776172500@iccie.org
SUMMARY:Forming and Operating a Captive - **FULL**
DESCRIPTION:see course details
URL:https://iccie.org/course/forming-and-operating-a-captive-16/2026-04-14/
CATEGORIES:Core Courses
END:VEVENT
BEGIN:VEVENT
DTSTART;TZID=America/New_York:20260415T120000
DTEND;TZID=America/New_York:20260415T131500
DTSTAMP:20260425T112912
CREATED:20251215T181707Z
LAST-MODIFIED:20251215T184135Z
UID:10002952-1776254400-1776258900@iccie.org
SUMMARY:Employee Benefits and Captives
DESCRIPTION:see course details
URL:https://iccie.org/course/employee-benefits-and-captives-6/2026-04-15/
CATEGORIES:Elective Courses
END:VEVENT
BEGIN:VEVENT
DTSTART;TZID=America/New_York:20260416T120000
DTEND;TZID=America/New_York:20260416T131500
DTSTAMP:20260425T112912
CREATED:20251215T182059Z
LAST-MODIFIED:20260406T152001Z
UID:10002918-1776340800-1776345300@iccie.org
SUMMARY:Reinsurance and Other Risk Transfer Mechanisms - *FULL*
DESCRIPTION:see course details
URL:https://iccie.org/course/reinsurance-and-other-risk-transfer-mechanisms-16/2026-04-16/
CATEGORIES:Core Courses
END:VEVENT
BEGIN:VEVENT
DTSTART;TZID=America/New_York:20260421T120000
DTEND;TZID=America/New_York:20260421T131500
DTSTAMP:20260425T112912
CREATED:20251215T181353Z
LAST-MODIFIED:20260223T161836Z
UID:10002961-1776772800-1776777300@iccie.org
SUMMARY:Forming and Operating a Captive - **FULL**
DESCRIPTION:see course details
URL:https://iccie.org/course/forming-and-operating-a-captive-16/2026-04-21/
CATEGORIES:Core Courses
END:VEVENT
BEGIN:VEVENT
DTSTART;TZID=America/New_York:20260422T120000
DTEND;TZID=America/New_York:20260422T131500
DTSTAMP:20260425T112912
CREATED:20251215T181707Z
LAST-MODIFIED:20251215T184135Z
UID:10002953-1776859200-1776863700@iccie.org
SUMMARY:Employee Benefits and Captives
DESCRIPTION:see course details
URL:https://iccie.org/course/employee-benefits-and-captives-6/2026-04-22/
CATEGORIES:Elective Courses
END:VEVENT
BEGIN:VEVENT
DTSTART;TZID=America/New_York:20260423T120000
DTEND;TZID=America/New_York:20260423T131500
DTSTAMP:20260425T112912
CREATED:20251215T182059Z
LAST-MODIFIED:20260406T152001Z
UID:10002949-1776945600-1776950100@iccie.org
SUMMARY:Reinsurance and Other Risk Transfer Mechanisms - *FULL*
DESCRIPTION:see course details
URL:https://iccie.org/course/reinsurance-and-other-risk-transfer-mechanisms-16/2026-04-23/
CATEGORIES:Core Courses
END:VEVENT
BEGIN:VEVENT
DTSTART;TZID=America/New_York:20260428T120000
DTEND;TZID=America/New_York:20260428T131500
DTSTAMP:20260425T112912
CREATED:20251215T182212Z
LAST-MODIFIED:20260406T151816Z
UID:10002946-1777377600-1777382100@iccie.org
SUMMARY:Business Ethics in the Captive Insurance Industry - *FULL*
DESCRIPTION:see course details
URL:https://iccie.org/course/business-ethics-in-the-captive-insurance-industry-15/2026-04-28/
CATEGORIES:Core Courses
END:VEVENT
BEGIN:VEVENT
DTSTART;TZID=America/New_York:20260429T120000
DTEND;TZID=America/New_York:20260429T131500
DTSTAMP:20260425T112912
CREATED:20251215T182329Z
LAST-MODIFIED:20251215T183722Z
UID:10002943-1777464000-1777468500@iccie.org
SUMMARY:Predicting Risk and an Introduction to Actuarial Science
DESCRIPTION:see course details
URL:https://iccie.org/course/predicting-risk-and-an-introduction-to-actuarial-science-14/2026-04-29/
CATEGORIES:Core Courses
END:VEVENT
BEGIN:VEVENT
DTSTART;TZID=America/New_York:20260430T120000
DTEND;TZID=America/New_York:20260430T131500
DTSTAMP:20260425T112912
CREATED:20251215T182059Z
LAST-MODIFIED:20260406T152001Z
UID:10002950-1777550400-1777554900@iccie.org
SUMMARY:Reinsurance and Other Risk Transfer Mechanisms - *FULL*
DESCRIPTION:see course details
URL:https://iccie.org/course/reinsurance-and-other-risk-transfer-mechanisms-16/2026-04-30/
CATEGORIES:Core Courses
END:VEVENT
BEGIN:VEVENT
DTSTART;TZID=America/New_York:20260505T120000
DTEND;TZID=America/New_York:20260505T131500
DTSTAMP:20260425T112912
CREATED:20251215T182212Z
LAST-MODIFIED:20260406T151816Z
UID:10002947-1777982400-1777986900@iccie.org
SUMMARY:Business Ethics in the Captive Insurance Industry - *FULL*
DESCRIPTION:see course details
URL:https://iccie.org/course/business-ethics-in-the-captive-insurance-industry-15/2026-05-05/
CATEGORIES:Core Courses
END:VEVENT
BEGIN:VEVENT
DTSTART;TZID=America/New_York:20260506T120000
DTEND;TZID=America/New_York:20260506T131500
DTSTAMP:20260425T112912
CREATED:20251215T182329Z
LAST-MODIFIED:20251215T183722Z
UID:10002944-1778068800-1778073300@iccie.org
SUMMARY:Predicting Risk and an Introduction to Actuarial Science
DESCRIPTION:see course details
URL:https://iccie.org/course/predicting-risk-and-an-introduction-to-actuarial-science-14/2026-05-06/
CATEGORIES:Core Courses
END:VEVENT
END:VCALENDAR