BEGIN:VCALENDAR
VERSION:2.0
PRODID:-//ICCIE - ECPv6.15.20//NONSGML v1.0//EN
CALSCALE:GREGORIAN
METHOD:PUBLISH
X-WR-CALNAME:ICCIE
X-ORIGINAL-URL:https://iccie.org
X-WR-CALDESC:Events for ICCIE
REFRESH-INTERVAL;VALUE=DURATION:PT1H
X-Robots-Tag:noindex
X-PUBLISHED-TTL:PT1H
BEGIN:VTIMEZONE
TZID:America/New_York
BEGIN:DAYLIGHT
TZOFFSETFROM:-0500
TZOFFSETTO:-0400
TZNAME:EDT
DTSTART:20230312T070000
END:DAYLIGHT
BEGIN:STANDARD
TZOFFSETFROM:-0400
TZOFFSETTO:-0500
TZNAME:EST
DTSTART:20231105T060000
END:STANDARD
BEGIN:DAYLIGHT
TZOFFSETFROM:-0500
TZOFFSETTO:-0400
TZNAME:EDT
DTSTART:20240310T070000
END:DAYLIGHT
BEGIN:STANDARD
TZOFFSETFROM:-0400
TZOFFSETTO:-0500
TZNAME:EST
DTSTART:20241103T060000
END:STANDARD
BEGIN:DAYLIGHT
TZOFFSETFROM:-0500
TZOFFSETTO:-0400
TZNAME:EDT
DTSTART:20250309T070000
END:DAYLIGHT
BEGIN:STANDARD
TZOFFSETFROM:-0400
TZOFFSETTO:-0500
TZNAME:EST
DTSTART:20251102T060000
END:STANDARD
END:VTIMEZONE
BEGIN:VEVENT
DTSTART;TZID=America/New_York:20240905T120000
DTEND;TZID=America/New_York:20240905T131500
DTSTAMP:20260421T092219
CREATED:20240429T190625Z
LAST-MODIFIED:20240429T190625Z
UID:10002682-1725537600-1725542100@iccie.org
SUMMARY:Accounting for Captives: Interpretation and Management Perspectives
DESCRIPTION:see course description for details
URL:https://iccie.org/course/accounting-for-captives-interpretation-and-management-perspectives/2024-09-05/
CATEGORIES:Elective Courses
END:VEVENT
BEGIN:VEVENT
DTSTART;TZID=America/New_York:20240904T120000
DTEND;TZID=America/New_York:20240904T131500
DTSTAMP:20260421T092219
CREATED:20240429T180758Z
LAST-MODIFIED:20240709T125458Z
UID:10002614-1725451200-1725455700@iccie.org
SUMMARY:Forming and Operating a Captive - *FULL*
DESCRIPTION:The Fall 2024 offering of this course is *FULL*.  We are no longer accepting registrations. \nThe course will be offered again in Spring 2025.
URL:https://iccie.org/course/forming-and-operating-a-captive-13/2024-09-04/
CATEGORIES:Core Courses
END:VEVENT
BEGIN:VEVENT
DTSTART;TZID=America/New_York:20240903T120000
DTEND;TZID=America/New_York:20240903T131500
DTSTAMP:20260421T092219
CREATED:20240429T185918Z
LAST-MODIFIED:20240731T163317Z
UID:10002625-1725364800-1725369300@iccie.org
SUMMARY:Understanding Risk and Risk Retention Mechanisms - *FULL*
DESCRIPTION:see course description for details
URL:https://iccie.org/course/understanding-risk-and-risk-retention-mechanisms-17/2024-09-03/
CATEGORIES:Core Courses
END:VEVENT
BEGIN:VEVENT
DTSTART;TZID=America/New_York:20240613T120000
DTEND;TZID=America/New_York:20240613T131500
DTSTAMP:20260421T092219
CREATED:20240227T195446Z
LAST-MODIFIED:20240311T123125Z
UID:10002613-1718280000-1718284500@iccie.org
SUMMARY:An Introduction to Alternative Risk Financing Mechanisms
DESCRIPTION:see course details
URL:https://iccie.org/course/an-introduction-to-alternative-risk-financing-mechanisms-13/2024-06-13/
CATEGORIES:Core Courses
END:VEVENT
BEGIN:VEVENT
DTSTART;TZID=America/New_York:20240612T120000
DTEND;TZID=America/New_York:20240612T131500
DTSTAMP:20260421T092219
CREATED:20231004T173132Z
LAST-MODIFIED:20231004T173132Z
UID:10002574-1718193600-1718198100@iccie.org
SUMMARY:Captive Claims Management Best Practices and Reinsurance
DESCRIPTION:see course details
URL:https://iccie.org/course/captive-claims-management-best-practices-and-reinsurance-6/2024-06-12/
CATEGORIES:Elective Courses
END:VEVENT
BEGIN:VEVENT
DTSTART;TZID=America/New_York:20240606T120000
DTEND;TZID=America/New_York:20240606T131500
DTSTAMP:20260421T092219
CREATED:20240227T195446Z
LAST-MODIFIED:20240311T123125Z
UID:10002612-1717675200-1717679700@iccie.org
SUMMARY:An Introduction to Alternative Risk Financing Mechanisms
DESCRIPTION:see course details
URL:https://iccie.org/course/an-introduction-to-alternative-risk-financing-mechanisms-13/2024-06-06/
CATEGORIES:Core Courses
END:VEVENT
BEGIN:VEVENT
DTSTART;TZID=America/New_York:20240605T120000
DTEND;TZID=America/New_York:20240605T131500
DTSTAMP:20260421T092219
CREATED:20231004T173132Z
LAST-MODIFIED:20231004T173132Z
UID:10002573-1717588800-1717593300@iccie.org
SUMMARY:Captive Claims Management Best Practices and Reinsurance
DESCRIPTION:see course details
URL:https://iccie.org/course/captive-claims-management-best-practices-and-reinsurance-6/2024-06-05/
CATEGORIES:Elective Courses
END:VEVENT
BEGIN:VEVENT
DTSTART;TZID=America/New_York:20240530T120000
DTEND;TZID=America/New_York:20240530T131500
DTSTAMP:20260421T092219
CREATED:20240227T195446Z
LAST-MODIFIED:20240311T123125Z
UID:10002611-1717070400-1717074900@iccie.org
SUMMARY:An Introduction to Alternative Risk Financing Mechanisms
DESCRIPTION:see course details
URL:https://iccie.org/course/an-introduction-to-alternative-risk-financing-mechanisms-13/2024-05-30/
CATEGORIES:Core Courses
END:VEVENT
BEGIN:VEVENT
DTSTART;TZID=America/New_York:20240529T120000
DTEND;TZID=America/New_York:20240529T131500
DTSTAMP:20260421T092219
CREATED:20231004T173132Z
LAST-MODIFIED:20231004T173132Z
UID:10002572-1716984000-1716988500@iccie.org
SUMMARY:Captive Claims Management Best Practices and Reinsurance
DESCRIPTION:see course details
URL:https://iccie.org/course/captive-claims-management-best-practices-and-reinsurance-6/2024-05-29/
CATEGORIES:Elective Courses
END:VEVENT
BEGIN:VEVENT
DTSTART;TZID=America/New_York:20240523T120000
DTEND;TZID=America/New_York:20240523T131500
DTSTAMP:20260421T092219
CREATED:20240227T195446Z
LAST-MODIFIED:20240311T123125Z
UID:10002610-1716465600-1716470100@iccie.org
SUMMARY:An Introduction to Alternative Risk Financing Mechanisms
DESCRIPTION:see course details
URL:https://iccie.org/course/an-introduction-to-alternative-risk-financing-mechanisms-13/2024-05-23/
CATEGORIES:Core Courses
END:VEVENT
BEGIN:VEVENT
DTSTART;TZID=America/New_York:20240522T120000
DTEND;TZID=America/New_York:20240522T131500
DTSTAMP:20260421T092219
CREATED:20231004T173132Z
LAST-MODIFIED:20231004T173132Z
UID:10002571-1716379200-1716383700@iccie.org
SUMMARY:Captive Claims Management Best Practices and Reinsurance
DESCRIPTION:see course details
URL:https://iccie.org/course/captive-claims-management-best-practices-and-reinsurance-6/2024-05-22/
CATEGORIES:Elective Courses
END:VEVENT
BEGIN:VEVENT
DTSTART;TZID=America/New_York:20240501T120000
DTEND;TZID=America/New_York:20240501T131500
DTSTAMP:20260421T092219
CREATED:20231009T140920Z
LAST-MODIFIED:20231009T140920Z
UID:10002577-1714564800-1714569300@iccie.org
SUMMARY:Predicting Risk and an Introduction to Actuarial Science
DESCRIPTION:see course details
URL:https://iccie.org/course/predicting-risk-and-an-introduction-to-actuarial-science-10/2024-05-01/
CATEGORIES:Core Courses
END:VEVENT
BEGIN:VEVENT
DTSTART;TZID=America/New_York:20240430T120000
DTEND;TZID=America/New_York:20240430T131500
DTSTAMP:20260421T092219
CREATED:20231004T172807Z
LAST-MODIFIED:20231004T172807Z
UID:10002570-1714478400-1714482900@iccie.org
SUMMARY:Risk Retention Groups
DESCRIPTION:see course details
URL:https://iccie.org/course/risk-retention-groups-8/2024-04-30/
CATEGORIES:Elective Courses
END:VEVENT
BEGIN:VEVENT
DTSTART;TZID=America/New_York:20240425T120000
DTEND;TZID=America/New_York:20240425T131500
DTSTAMP:20260421T092219
CREATED:20231024T202735Z
LAST-MODIFIED:20231024T202735Z
UID:10002605-1714046400-1714050900@iccie.org
SUMMARY:Forming and Operating a Captive
DESCRIPTION:see course details
URL:https://iccie.org/course/forming-and-operating-a-captive-12/2024-04-25/
CATEGORIES:Core Courses
END:VEVENT
BEGIN:VEVENT
DTSTART;TZID=America/New_York:20240424T120000
DTEND;TZID=America/New_York:20240424T131500
DTSTAMP:20260421T092219
CREATED:20231009T140920Z
LAST-MODIFIED:20231009T140920Z
UID:10002576-1713960000-1713964500@iccie.org
SUMMARY:Predicting Risk and an Introduction to Actuarial Science
DESCRIPTION:see course details
URL:https://iccie.org/course/predicting-risk-and-an-introduction-to-actuarial-science-10/2024-04-24/
CATEGORIES:Core Courses
END:VEVENT
BEGIN:VEVENT
DTSTART;TZID=America/New_York:20240423T120000
DTEND;TZID=America/New_York:20240423T131500
DTSTAMP:20260421T092219
CREATED:20231004T172807Z
LAST-MODIFIED:20231004T172807Z
UID:10002569-1713873600-1713878100@iccie.org
SUMMARY:Risk Retention Groups
DESCRIPTION:see course details
URL:https://iccie.org/course/risk-retention-groups-8/2024-04-23/
CATEGORIES:Elective Courses
END:VEVENT
BEGIN:VEVENT
DTSTART;TZID=America/New_York:20240422T120000
DTEND;TZID=America/New_York:20240422T131500
DTSTAMP:20260421T092219
CREATED:20231211T165723Z
LAST-MODIFIED:20231211T165723Z
UID:10002609-1713787200-1713791700@iccie.org
SUMMARY:Investment Basics for Captives
DESCRIPTION:see course details
URL:https://iccie.org/course/investment-basics-for-captives-7/2024-04-22/
CATEGORIES:Core Courses
END:VEVENT
BEGIN:VEVENT
DTSTART;TZID=America/New_York:20240418T120000
DTEND;TZID=America/New_York:20240418T131500
DTSTAMP:20260421T092219
CREATED:20231024T202735Z
LAST-MODIFIED:20231024T202735Z
UID:10002604-1713441600-1713446100@iccie.org
SUMMARY:Forming and Operating a Captive
DESCRIPTION:see course details
URL:https://iccie.org/course/forming-and-operating-a-captive-12/2024-04-18/
CATEGORIES:Core Courses
END:VEVENT
BEGIN:VEVENT
DTSTART;TZID=America/New_York:20240417T120000
DTEND;TZID=America/New_York:20240417T131500
DTSTAMP:20260421T092219
CREATED:20231009T140920Z
LAST-MODIFIED:20231009T140920Z
UID:10002575-1713355200-1713359700@iccie.org
SUMMARY:Predicting Risk and an Introduction to Actuarial Science
DESCRIPTION:see course details
URL:https://iccie.org/course/predicting-risk-and-an-introduction-to-actuarial-science-10/2024-04-17/
CATEGORIES:Core Courses
END:VEVENT
BEGIN:VEVENT
DTSTART;TZID=America/New_York:20240416T120000
DTEND;TZID=America/New_York:20240416T131500
DTSTAMP:20260421T092219
CREATED:20231004T172807Z
LAST-MODIFIED:20231004T172807Z
UID:10002568-1713268800-1713273300@iccie.org
SUMMARY:Risk Retention Groups
DESCRIPTION:see course details
URL:https://iccie.org/course/risk-retention-groups-8/2024-04-16/
CATEGORIES:Elective Courses
END:VEVENT
BEGIN:VEVENT
DTSTART;TZID=America/New_York:20240415T120000
DTEND;TZID=America/New_York:20240415T131500
DTSTAMP:20260421T092219
CREATED:20231211T165723Z
LAST-MODIFIED:20231211T165723Z
UID:10002608-1713182400-1713186900@iccie.org
SUMMARY:Investment Basics for Captives
DESCRIPTION:see course details
URL:https://iccie.org/course/investment-basics-for-captives-7/2024-04-15/
CATEGORIES:Core Courses
END:VEVENT
BEGIN:VEVENT
DTSTART;TZID=America/New_York:20240411T120000
DTEND;TZID=America/New_York:20240411T131500
DTSTAMP:20260421T092219
CREATED:20231024T202735Z
LAST-MODIFIED:20231024T202735Z
UID:10002603-1712836800-1712841300@iccie.org
SUMMARY:Forming and Operating a Captive
DESCRIPTION:see course details
URL:https://iccie.org/course/forming-and-operating-a-captive-12/2024-04-11/
CATEGORIES:Core Courses
END:VEVENT
BEGIN:VEVENT
DTSTART;TZID=America/New_York:20240410T120000
DTEND;TZID=America/New_York:20240410T131500
DTSTAMP:20260421T092219
CREATED:20231010T161431Z
LAST-MODIFIED:20231010T161431Z
UID:10002581-1712750400-1712754900@iccie.org
SUMMARY:Healthcare Captives Overview
DESCRIPTION:see course details
URL:https://iccie.org/course/healthcare-captives-overview-7/2024-04-10/
CATEGORIES:Elective Courses
END:VEVENT
BEGIN:VEVENT
DTSTART;TZID=America/New_York:20240409T120000
DTEND;TZID=America/New_York:20240409T131500
DTSTAMP:20260421T092219
CREATED:20231004T172807Z
LAST-MODIFIED:20231004T172807Z
UID:10002567-1712664000-1712668500@iccie.org
SUMMARY:Risk Retention Groups
DESCRIPTION:see course details
URL:https://iccie.org/course/risk-retention-groups-8/2024-04-09/
CATEGORIES:Elective Courses
END:VEVENT
BEGIN:VEVENT
DTSTART;TZID=America/New_York:20240404T120000
DTEND;TZID=America/New_York:20240404T131500
DTSTAMP:20260421T092219
CREATED:20231024T202735Z
LAST-MODIFIED:20231024T202735Z
UID:10002602-1712232000-1712236500@iccie.org
SUMMARY:Forming and Operating a Captive
DESCRIPTION:see course details
URL:https://iccie.org/course/forming-and-operating-a-captive-12/2024-04-04/
CATEGORIES:Core Courses
END:VEVENT
BEGIN:VEVENT
DTSTART;TZID=America/New_York:20240403T120000
DTEND;TZID=America/New_York:20240403T131500
DTSTAMP:20260421T092219
CREATED:20231010T161431Z
LAST-MODIFIED:20231010T161431Z
UID:10002580-1712145600-1712150100@iccie.org
SUMMARY:Healthcare Captives Overview
DESCRIPTION:see course details
URL:https://iccie.org/course/healthcare-captives-overview-7/2024-04-03/
CATEGORIES:Elective Courses
END:VEVENT
BEGIN:VEVENT
DTSTART;TZID=America/New_York:20240402T120000
DTEND;TZID=America/New_York:20240402T131500
DTSTAMP:20260421T092219
CREATED:20231016T135911Z
LAST-MODIFIED:20231016T135911Z
UID:10002588-1712059200-1712063700@iccie.org
SUMMARY:Reinsurance and Other Risk Transfer Mechanisms
DESCRIPTION:see course details
URL:https://iccie.org/course/reinsurance-and-other-risk-transfer-mechanisms-12/2024-04-02/
CATEGORIES:Core Courses
END:VEVENT
BEGIN:VEVENT
DTSTART;TZID=America/New_York:20240401T120000
DTEND;TZID=America/New_York:20240401T131500
DTSTAMP:20260421T092219
CREATED:20231211T165723Z
LAST-MODIFIED:20231211T165723Z
UID:10002607-1711972800-1711977300@iccie.org
SUMMARY:Investment Basics for Captives
DESCRIPTION:see course details
URL:https://iccie.org/course/investment-basics-for-captives-7/2024-04-01/
CATEGORIES:Core Courses
END:VEVENT
BEGIN:VEVENT
DTSTART;TZID=America/New_York:20240328T120000
DTEND;TZID=America/New_York:20240328T131500
DTSTAMP:20260421T092219
CREATED:20231024T202735Z
LAST-MODIFIED:20231024T202735Z
UID:10002601-1711627200-1711631700@iccie.org
SUMMARY:Forming and Operating a Captive
DESCRIPTION:see course details
URL:https://iccie.org/course/forming-and-operating-a-captive-12/2024-03-28/
CATEGORIES:Core Courses
END:VEVENT
BEGIN:VEVENT
DTSTART;TZID=America/New_York:20240327T120000
DTEND;TZID=America/New_York:20240327T131500
DTSTAMP:20260421T092219
CREATED:20231010T161431Z
LAST-MODIFIED:20231010T161431Z
UID:10002579-1711540800-1711545300@iccie.org
SUMMARY:Healthcare Captives Overview
DESCRIPTION:see course details
URL:https://iccie.org/course/healthcare-captives-overview-7/2024-03-27/
CATEGORIES:Elective Courses
END:VEVENT
END:VCALENDAR