BEGIN:VCALENDAR
VERSION:2.0
PRODID:-//ICCIE - ECPv6.15.20//NONSGML v1.0//EN
CALSCALE:GREGORIAN
METHOD:PUBLISH
X-WR-CALNAME:ICCIE
X-ORIGINAL-URL:https://iccie.org
X-WR-CALDESC:Events for ICCIE
REFRESH-INTERVAL;VALUE=DURATION:PT1H
X-Robots-Tag:noindex
X-PUBLISHED-TTL:PT1H
BEGIN:VTIMEZONE
TZID:America/New_York
BEGIN:DAYLIGHT
TZOFFSETFROM:-0500
TZOFFSETTO:-0400
TZNAME:EDT
DTSTART:20240310T070000
END:DAYLIGHT
BEGIN:STANDARD
TZOFFSETFROM:-0400
TZOFFSETTO:-0500
TZNAME:EST
DTSTART:20241103T060000
END:STANDARD
BEGIN:DAYLIGHT
TZOFFSETFROM:-0500
TZOFFSETTO:-0400
TZNAME:EDT
DTSTART:20250309T070000
END:DAYLIGHT
BEGIN:STANDARD
TZOFFSETFROM:-0400
TZOFFSETTO:-0500
TZNAME:EST
DTSTART:20251102T060000
END:STANDARD
BEGIN:DAYLIGHT
TZOFFSETFROM:-0500
TZOFFSETTO:-0400
TZNAME:EDT
DTSTART:20260308T070000
END:DAYLIGHT
BEGIN:STANDARD
TZOFFSETFROM:-0400
TZOFFSETTO:-0500
TZNAME:EST
DTSTART:20261101T060000
END:STANDARD
BEGIN:DAYLIGHT
TZOFFSETFROM:-0500
TZOFFSETTO:-0400
TZNAME:EDT
DTSTART:20270314T070000
END:DAYLIGHT
BEGIN:STANDARD
TZOFFSETFROM:-0400
TZOFFSETTO:-0500
TZNAME:EST
DTSTART:20271107T060000
END:STANDARD
END:VTIMEZONE
BEGIN:VEVENT
DTSTART;TZID=America/New_York:20251211T120000
DTEND;TZID=America/New_York:20251211T131500
DTSTAMP:20260425T074949
CREATED:20250519T172047Z
LAST-MODIFIED:20250519T172047Z
UID:10002862-1765454400-1765458900@iccie.org
SUMMARY:Captive Board Governance
DESCRIPTION:see course details
URL:https://iccie.org/course/captive-board-governance-11/2025-12-11/
CATEGORIES:Elective Courses
END:VEVENT
BEGIN:VEVENT
DTSTART;TZID=America/New_York:20251216T120000
DTEND;TZID=America/New_York:20251216T131500
DTSTAMP:20260425T074949
CREATED:20250508T204728Z
LAST-MODIFIED:20250508T204728Z
UID:10002845-1765886400-1765890900@iccie.org
SUMMARY:Business Ethics in the Captive Insurance Industry
DESCRIPTION:see course details
URL:https://iccie.org/course/business-ethics-in-the-captive-insurance-industry-14/2025-12-16/
CATEGORIES:Core Courses
END:VEVENT
BEGIN:VEVENT
DTSTART;TZID=America/New_York:20251217T120000
DTEND;TZID=America/New_York:20251217T131500
DTSTAMP:20260425T074949
CREATED:20250508T205313Z
LAST-MODIFIED:20250519T175923Z
UID:10002856-1765972800-1765977300@iccie.org
SUMMARY:Predicting Risk and an Introduction to Actuarial Science
DESCRIPTION:see course details
URL:https://iccie.org/course/predicting-risk-and-an-introduction-to-actuarial-science-13/2025-12-17/
CATEGORIES:Core Courses
END:VEVENT
BEGIN:VEVENT
DTSTART;TZID=America/New_York:20251218T120000
DTEND;TZID=America/New_York:20251218T131500
DTSTAMP:20260425T074949
CREATED:20250519T172047Z
LAST-MODIFIED:20250519T172047Z
UID:10002863-1766059200-1766063700@iccie.org
SUMMARY:Captive Board Governance
DESCRIPTION:see course details
URL:https://iccie.org/course/captive-board-governance-11/2025-12-18/
CATEGORIES:Elective Courses
END:VEVENT
BEGIN:VEVENT
DTSTART;TZID=America/New_York:20260107T120000
DTEND;TZID=America/New_York:20260107T131500
DTSTAMP:20260425T074949
CREATED:20251215T174601Z
LAST-MODIFIED:20251215T185109Z
UID:10002872-1767787200-1767791700@iccie.org
SUMMARY:An Introduction to Alternative Risk Financing Mechanisms
DESCRIPTION:see course details
URL:https://iccie.org/course/an-introduction-to-alternative-risk-financing-mechanisms-18/2026-01-07/
CATEGORIES:Core Courses
END:VEVENT
BEGIN:VEVENT
DTSTART;TZID=America/New_York:20260108T120000
DTEND;TZID=America/New_York:20260108T131500
DTSTAMP:20260425T074949
CREATED:20251215T175755Z
LAST-MODIFIED:20251215T185016Z
UID:10002877-1767873600-1767878100@iccie.org
SUMMARY:Taxation of Captive Insurance Arrangements
DESCRIPTION:see course details
URL:https://iccie.org/course/taxation-of-captive-insurance-arrangements/2026-01-08/
CATEGORIES:Elective Courses
END:VEVENT
BEGIN:VEVENT
DTSTART;TZID=America/New_York:20260114T120000
DTEND;TZID=America/New_York:20260114T131500
DTSTAMP:20260425T074949
CREATED:20251215T174601Z
LAST-MODIFIED:20251215T185109Z
UID:10002975-1768392000-1768396500@iccie.org
SUMMARY:An Introduction to Alternative Risk Financing Mechanisms
DESCRIPTION:see course details
URL:https://iccie.org/course/an-introduction-to-alternative-risk-financing-mechanisms-18/2026-01-14/
CATEGORIES:Core Courses
END:VEVENT
BEGIN:VEVENT
DTSTART;TZID=America/New_York:20260115T120000
DTEND;TZID=America/New_York:20260115T131500
DTSTAMP:20260425T074949
CREATED:20251215T175755Z
LAST-MODIFIED:20251215T185016Z
UID:10002972-1768478400-1768482900@iccie.org
SUMMARY:Taxation of Captive Insurance Arrangements
DESCRIPTION:see course details
URL:https://iccie.org/course/taxation-of-captive-insurance-arrangements/2026-01-15/
CATEGORIES:Elective Courses
END:VEVENT
BEGIN:VEVENT
DTSTART;TZID=America/New_York:20260121T120000
DTEND;TZID=America/New_York:20260121T131500
DTSTAMP:20260425T074949
CREATED:20251215T174601Z
LAST-MODIFIED:20251215T185109Z
UID:10002976-1768996800-1769001300@iccie.org
SUMMARY:An Introduction to Alternative Risk Financing Mechanisms
DESCRIPTION:see course details
URL:https://iccie.org/course/an-introduction-to-alternative-risk-financing-mechanisms-18/2026-01-21/
CATEGORIES:Core Courses
END:VEVENT
BEGIN:VEVENT
DTSTART;TZID=America/New_York:20260122T120000
DTEND;TZID=America/New_York:20260122T131500
DTSTAMP:20260425T074949
CREATED:20251215T175755Z
LAST-MODIFIED:20251215T185016Z
UID:10002973-1769083200-1769087700@iccie.org
SUMMARY:Taxation of Captive Insurance Arrangements
DESCRIPTION:see course details
URL:https://iccie.org/course/taxation-of-captive-insurance-arrangements/2026-01-22/
CATEGORIES:Elective Courses
END:VEVENT
BEGIN:VEVENT
DTSTART;TZID=America/New_York:20260127T120000
DTEND;TZID=America/New_York:20260127T131500
DTSTAMP:20260425T074949
CREATED:20251215T175944Z
LAST-MODIFIED:20251215T184826Z
UID:10002883-1769515200-1769519700@iccie.org
SUMMARY:Understanding Risk and Risk Retention Mechanisms
DESCRIPTION:see course details
URL:https://iccie.org/course/understanding-risk-and-risk-retention-mechanisms-20/2026-01-27/
CATEGORIES:Core Courses
END:VEVENT
BEGIN:VEVENT
DTSTART;TZID=America/New_York:20260128T120000
DTEND;TZID=America/New_York:20260128T131500
DTSTAMP:20260425T074949
CREATED:20251215T174601Z
LAST-MODIFIED:20251215T185109Z
UID:10002977-1769601600-1769606100@iccie.org
SUMMARY:An Introduction to Alternative Risk Financing Mechanisms
DESCRIPTION:see course details
URL:https://iccie.org/course/an-introduction-to-alternative-risk-financing-mechanisms-18/2026-01-28/
CATEGORIES:Core Courses
END:VEVENT
BEGIN:VEVENT
DTSTART;TZID=America/New_York:20260129T120000
DTEND;TZID=America/New_York:20260129T131500
DTSTAMP:20260425T074949
CREATED:20251215T175755Z
LAST-MODIFIED:20251215T185016Z
UID:10002974-1769688000-1769692500@iccie.org
SUMMARY:Taxation of Captive Insurance Arrangements
DESCRIPTION:see course details
URL:https://iccie.org/course/taxation-of-captive-insurance-arrangements/2026-01-29/
CATEGORIES:Elective Courses
END:VEVENT
BEGIN:VEVENT
DTSTART;TZID=America/New_York:20260203T120000
DTEND;TZID=America/New_York:20260203T131500
DTSTAMP:20260425T074949
CREATED:20251215T175944Z
LAST-MODIFIED:20251215T184826Z
UID:10002968-1770120000-1770124500@iccie.org
SUMMARY:Understanding Risk and Risk Retention Mechanisms
DESCRIPTION:see course details
URL:https://iccie.org/course/understanding-risk-and-risk-retention-mechanisms-20/2026-02-03/
CATEGORIES:Core Courses
END:VEVENT
BEGIN:VEVENT
DTSTART;TZID=America/New_York:20260204T120000
DTEND;TZID=America/New_York:20260204T131500
DTSTAMP:20260425T074949
CREATED:20251215T180609Z
LAST-MODIFIED:20251215T185912Z
UID:10002888-1770206400-1770210900@iccie.org
SUMMARY:Understanding the Intricacies of Cell Captives
DESCRIPTION:see course details
URL:https://iccie.org/course/understanding-the-intricacies-of-cell-captives-7/2026-02-04/
CATEGORIES:Elective Courses
END:VEVENT
BEGIN:VEVENT
DTSTART;TZID=America/New_York:20260205T120000
DTEND;TZID=America/New_York:20260205T131500
DTSTAMP:20260425T074949
CREATED:20251215T180851Z
LAST-MODIFIED:20251215T184504Z
UID:10002892-1770292800-1770297300@iccie.org
SUMMARY:Accounting for Captives:  Financial Reporting and Analysis
DESCRIPTION:see course details
URL:https://iccie.org/course/accounting-for-captives-financial-reporting-and-analysis-8/2026-02-05/
CATEGORIES:Elective Courses
END:VEVENT
BEGIN:VEVENT
DTSTART;TZID=America/New_York:20260210T120000
DTEND;TZID=America/New_York:20260210T131500
DTSTAMP:20260425T074949
CREATED:20251215T175944Z
LAST-MODIFIED:20251215T184826Z
UID:10002969-1770724800-1770729300@iccie.org
SUMMARY:Understanding Risk and Risk Retention Mechanisms
DESCRIPTION:see course details
URL:https://iccie.org/course/understanding-risk-and-risk-retention-mechanisms-20/2026-02-10/
CATEGORIES:Core Courses
END:VEVENT
BEGIN:VEVENT
DTSTART;TZID=America/New_York:20260211T120000
DTEND;TZID=America/New_York:20260211T131500
DTSTAMP:20260425T074949
CREATED:20251215T180609Z
LAST-MODIFIED:20251215T185912Z
UID:10002978-1770811200-1770815700@iccie.org
SUMMARY:Understanding the Intricacies of Cell Captives
DESCRIPTION:see course details
URL:https://iccie.org/course/understanding-the-intricacies-of-cell-captives-7/2026-02-11/
CATEGORIES:Elective Courses
END:VEVENT
BEGIN:VEVENT
DTSTART;TZID=America/New_York:20260212T120000
DTEND;TZID=America/New_York:20260212T131500
DTSTAMP:20260425T074949
CREATED:20251215T180851Z
LAST-MODIFIED:20251215T184504Z
UID:10002965-1770897600-1770902100@iccie.org
SUMMARY:Accounting for Captives:  Financial Reporting and Analysis
DESCRIPTION:see course details
URL:https://iccie.org/course/accounting-for-captives-financial-reporting-and-analysis-8/2026-02-12/
CATEGORIES:Elective Courses
END:VEVENT
BEGIN:VEVENT
DTSTART;TZID=America/New_York:20260217T120000
DTEND;TZID=America/New_York:20260217T131500
DTSTAMP:20260425T074949
CREATED:20251215T175944Z
LAST-MODIFIED:20251215T184826Z
UID:10002970-1771329600-1771334100@iccie.org
SUMMARY:Understanding Risk and Risk Retention Mechanisms
DESCRIPTION:see course details
URL:https://iccie.org/course/understanding-risk-and-risk-retention-mechanisms-20/2026-02-17/
CATEGORIES:Core Courses
END:VEVENT
BEGIN:VEVENT
DTSTART;TZID=America/New_York:20260218T120000
DTEND;TZID=America/New_York:20260218T131500
DTSTAMP:20260425T074949
CREATED:20251215T180609Z
LAST-MODIFIED:20251215T185912Z
UID:10002979-1771416000-1771420500@iccie.org
SUMMARY:Understanding the Intricacies of Cell Captives
DESCRIPTION:see course details
URL:https://iccie.org/course/understanding-the-intricacies-of-cell-captives-7/2026-02-18/
CATEGORIES:Elective Courses
END:VEVENT
BEGIN:VEVENT
DTSTART;TZID=America/New_York:20260219T120000
DTEND;TZID=America/New_York:20260219T131500
DTSTAMP:20260425T074949
CREATED:20251215T180851Z
LAST-MODIFIED:20251215T184504Z
UID:10002966-1771502400-1771506900@iccie.org
SUMMARY:Accounting for Captives:  Financial Reporting and Analysis
DESCRIPTION:see course details
URL:https://iccie.org/course/accounting-for-captives-financial-reporting-and-analysis-8/2026-02-19/
CATEGORIES:Elective Courses
END:VEVENT
BEGIN:VEVENT
DTSTART;TZID=America/New_York:20260224T120000
DTEND;TZID=America/New_York:20260224T131500
DTSTAMP:20260425T074949
CREATED:20251215T175944Z
LAST-MODIFIED:20251215T184826Z
UID:10002971-1771934400-1771938900@iccie.org
SUMMARY:Understanding Risk and Risk Retention Mechanisms
DESCRIPTION:see course details
URL:https://iccie.org/course/understanding-risk-and-risk-retention-mechanisms-20/2026-02-24/
CATEGORIES:Core Courses
END:VEVENT
BEGIN:VEVENT
DTSTART;TZID=America/New_York:20260225T120000
DTEND;TZID=America/New_York:20260225T131500
DTSTAMP:20260425T074949
CREATED:20251215T180609Z
LAST-MODIFIED:20251215T185912Z
UID:10002980-1772020800-1772025300@iccie.org
SUMMARY:Understanding the Intricacies of Cell Captives
DESCRIPTION:see course details
URL:https://iccie.org/course/understanding-the-intricacies-of-cell-captives-7/2026-02-25/
CATEGORIES:Elective Courses
END:VEVENT
BEGIN:VEVENT
DTSTART;TZID=America/New_York:20260226T120000
DTEND;TZID=America/New_York:20260226T131500
DTSTAMP:20260425T074949
CREATED:20251215T180851Z
LAST-MODIFIED:20251215T184504Z
UID:10002967-1772107200-1772111700@iccie.org
SUMMARY:Accounting for Captives:  Financial Reporting and Analysis
DESCRIPTION:see course details
URL:https://iccie.org/course/accounting-for-captives-financial-reporting-and-analysis-8/2026-02-26/
CATEGORIES:Elective Courses
END:VEVENT
BEGIN:VEVENT
DTSTART;TZID=America/New_York:20260316T120000
DTEND;TZID=America/New_York:20260316T131500
DTSTAMP:20260425T074949
CREATED:20251215T181036Z
LAST-MODIFIED:20251215T184356Z
UID:10002897-1773662400-1773666900@iccie.org
SUMMARY:Investment Basics for Captives
DESCRIPTION:see course details
URL:https://iccie.org/course/investment-basics-for-captives-11/2026-03-16/
CATEGORIES:Core Courses
END:VEVENT
BEGIN:VEVENT
DTSTART;TZID=America/New_York:20260317T120000
DTEND;TZID=America/New_York:20260317T131500
DTSTAMP:20260425T074949
CREATED:20251215T181353Z
LAST-MODIFIED:20260223T161836Z
UID:10002904-1773748800-1773753300@iccie.org
SUMMARY:Forming and Operating a Captive - **FULL**
DESCRIPTION:see course details
URL:https://iccie.org/course/forming-and-operating-a-captive-16/2026-03-17/
CATEGORIES:Core Courses
END:VEVENT
BEGIN:VEVENT
DTSTART;TZID=America/New_York:20260319T120000
DTEND;TZID=America/New_York:20260319T131500
DTSTAMP:20260425T074949
CREATED:20251215T181523Z
LAST-MODIFIED:20251215T184153Z
UID:10002909-1773921600-1773926100@iccie.org
SUMMARY:Healthcare Captives Overview
DESCRIPTION:see course details
URL:https://iccie.org/course/healthcare-captives-overview-9/2026-03-19/
CATEGORIES:Elective Courses
END:VEVENT
BEGIN:VEVENT
DTSTART;TZID=America/New_York:20260323T120000
DTEND;TZID=America/New_York:20260323T131500
DTSTAMP:20260425T074949
CREATED:20251215T181036Z
LAST-MODIFIED:20251215T184356Z
UID:10002962-1774267200-1774271700@iccie.org
SUMMARY:Investment Basics for Captives
DESCRIPTION:see course details
URL:https://iccie.org/course/investment-basics-for-captives-11/2026-03-23/
CATEGORIES:Core Courses
END:VEVENT
BEGIN:VEVENT
DTSTART;TZID=America/New_York:20260324T120000
DTEND;TZID=America/New_York:20260324T131500
DTSTAMP:20260425T074949
CREATED:20251215T181353Z
LAST-MODIFIED:20260223T161836Z
UID:10002957-1774353600-1774358100@iccie.org
SUMMARY:Forming and Operating a Captive - **FULL**
DESCRIPTION:see course details
URL:https://iccie.org/course/forming-and-operating-a-captive-16/2026-03-24/
CATEGORIES:Core Courses
END:VEVENT
END:VCALENDAR