BEGIN:VCALENDAR
VERSION:2.0
PRODID:-//ICCIE - ECPv6.15.20//NONSGML v1.0//EN
CALSCALE:GREGORIAN
METHOD:PUBLISH
X-WR-CALNAME:ICCIE
X-ORIGINAL-URL:https://iccie.org
X-WR-CALDESC:Events for ICCIE
REFRESH-INTERVAL;VALUE=DURATION:PT1H
X-Robots-Tag:noindex
X-PUBLISHED-TTL:PT1H
BEGIN:VTIMEZONE
TZID:America/New_York
BEGIN:DAYLIGHT
TZOFFSETFROM:-0500
TZOFFSETTO:-0400
TZNAME:EDT
DTSTART:20170312T070000
END:DAYLIGHT
BEGIN:STANDARD
TZOFFSETFROM:-0400
TZOFFSETTO:-0500
TZNAME:EST
DTSTART:20171105T060000
END:STANDARD
BEGIN:DAYLIGHT
TZOFFSETFROM:-0500
TZOFFSETTO:-0400
TZNAME:EDT
DTSTART:20180311T070000
END:DAYLIGHT
BEGIN:STANDARD
TZOFFSETFROM:-0400
TZOFFSETTO:-0500
TZNAME:EST
DTSTART:20181104T060000
END:STANDARD
BEGIN:DAYLIGHT
TZOFFSETFROM:-0500
TZOFFSETTO:-0400
TZNAME:EDT
DTSTART:20190310T070000
END:DAYLIGHT
BEGIN:STANDARD
TZOFFSETFROM:-0400
TZOFFSETTO:-0500
TZNAME:EST
DTSTART:20191103T060000
END:STANDARD
END:VTIMEZONE
BEGIN:VEVENT
DTSTART;TZID=America/New_York:20180614T120000
DTEND;TZID=America/New_York:20180614T131500
DTSTAMP:20260424T073617
CREATED:20171024T174045Z
LAST-MODIFIED:20171024T174045Z
UID:10002121-1528977600-1528982100@iccie.org
SUMMARY:Risk Retention Groups
DESCRIPTION:See Course Details
URL:https://iccie.org/course/risk-retention-groups-3/2018-06-14/
CATEGORIES:Elective Courses
END:VEVENT
BEGIN:VEVENT
DTSTART;TZID=America/New_York:20180613T120000
DTEND;TZID=America/New_York:20180613T131500
DTSTAMP:20260424T073617
CREATED:20171024T174406Z
LAST-MODIFIED:20171024T174406Z
UID:10002128-1528891200-1528895700@iccie.org
SUMMARY:An Introduction to Alternative Risk Financing Mechanisms
DESCRIPTION:See Course Details
URL:https://iccie.org/course/introduction-alternative-risk-financing-mechanisms-4/2018-06-13/
CATEGORIES:Core Courses
END:VEVENT
BEGIN:VEVENT
DTSTART;TZID=America/New_York:20180607T120000
DTEND;TZID=America/New_York:20180607T131500
DTSTAMP:20260424T073617
CREATED:20171024T174045Z
LAST-MODIFIED:20171024T174045Z
UID:10002120-1528372800-1528377300@iccie.org
SUMMARY:Risk Retention Groups
DESCRIPTION:See Course Details
URL:https://iccie.org/course/risk-retention-groups-3/2018-06-07/
CATEGORIES:Elective Courses
END:VEVENT
BEGIN:VEVENT
DTSTART;TZID=America/New_York:20180606T120000
DTEND;TZID=America/New_York:20180606T131500
DTSTAMP:20260424T073617
CREATED:20171024T174406Z
LAST-MODIFIED:20171024T174406Z
UID:10002127-1528286400-1528290900@iccie.org
SUMMARY:An Introduction to Alternative Risk Financing Mechanisms
DESCRIPTION:See Course Details
URL:https://iccie.org/course/introduction-alternative-risk-financing-mechanisms-4/2018-06-06/
CATEGORIES:Core Courses
END:VEVENT
BEGIN:VEVENT
DTSTART;TZID=America/New_York:20180531T120000
DTEND;TZID=America/New_York:20180531T131500
DTSTAMP:20260424T073617
CREATED:20171024T174045Z
LAST-MODIFIED:20171024T174045Z
UID:10002119-1527768000-1527772500@iccie.org
SUMMARY:Risk Retention Groups
DESCRIPTION:See Course Details
URL:https://iccie.org/course/risk-retention-groups-3/2018-05-31/
CATEGORIES:Elective Courses
END:VEVENT
BEGIN:VEVENT
DTSTART;TZID=America/New_York:20180530T120000
DTEND;TZID=America/New_York:20180530T131500
DTSTAMP:20260424T073617
CREATED:20171024T174406Z
LAST-MODIFIED:20171024T174406Z
UID:10002126-1527681600-1527686100@iccie.org
SUMMARY:An Introduction to Alternative Risk Financing Mechanisms
DESCRIPTION:See Course Details
URL:https://iccie.org/course/introduction-alternative-risk-financing-mechanisms-4/2018-05-30/
CATEGORIES:Core Courses
END:VEVENT
BEGIN:VEVENT
DTSTART;TZID=America/New_York:20180529T120000
DTEND;TZID=America/New_York:20180529T131500
DTSTAMP:20260424T073617
CREATED:20171024T173424Z
LAST-MODIFIED:20171024T173424Z
UID:10002110-1527595200-1527599700@iccie.org
SUMMARY:Captive Claims Management: Best Practices and Reinsurance
DESCRIPTION:See Course Details
URL:https://iccie.org/course/captive-claims-management-best-practices-reinsurance/2018-05-29/
CATEGORIES:Elective Courses
END:VEVENT
BEGIN:VEVENT
DTSTART;TZID=America/New_York:20180524T120000
DTEND;TZID=America/New_York:20180524T131500
DTSTAMP:20260424T073617
CREATED:20171024T173751Z
LAST-MODIFIED:20180423T145112Z
UID:10002113-1527163200-1527167700@iccie.org
SUMMARY:Accounting for Captives: Interpretation and Management Perspectives
DESCRIPTION:See Course Details
URL:https://iccie.org/course/accounting-captives-interpretation-management-perspectives-5/2018-05-24/
CATEGORIES:Elective Courses
END:VEVENT
BEGIN:VEVENT
DTSTART;TZID=America/New_York:20180522T120000
DTEND;TZID=America/New_York:20180522T131500
DTSTAMP:20260424T073617
CREATED:20171024T173424Z
LAST-MODIFIED:20171024T173424Z
UID:10002109-1526990400-1526994900@iccie.org
SUMMARY:Captive Claims Management: Best Practices and Reinsurance
DESCRIPTION:See Course Details
URL:https://iccie.org/course/captive-claims-management-best-practices-reinsurance/2018-05-22/
CATEGORIES:Elective Courses
END:VEVENT
BEGIN:VEVENT
DTSTART;TZID=America/New_York:20180521T120000
DTEND;TZID=America/New_York:20180521T130000
DTSTAMP:20260424T073617
CREATED:20180322T151928Z
LAST-MODIFIED:20180406T194115Z
UID:10001816-1526904000-1526907600@iccie.org
SUMMARY:Understanding the Intricacies of Cell Captives
DESCRIPTION:Office Hour
URL:https://iccie.org/course/understanding-intricacies-cell-captives-3/
CATEGORIES:Elective Courses
END:VEVENT
BEGIN:VEVENT
DTSTART;TZID=America/New_York:20180517T120000
DTEND;TZID=America/New_York:20180517T131500
DTSTAMP:20260424T073617
CREATED:20171024T173751Z
LAST-MODIFIED:20180423T145112Z
UID:10002112-1526558400-1526562900@iccie.org
SUMMARY:Accounting for Captives: Interpretation and Management Perspectives
DESCRIPTION:See Course Details
URL:https://iccie.org/course/accounting-captives-interpretation-management-perspectives-5/2018-05-17/
CATEGORIES:Elective Courses
END:VEVENT
BEGIN:VEVENT
DTSTART;TZID=America/New_York:20180516T120000
DTEND;TZID=America/New_York:20180516T131500
DTSTAMP:20260424T073617
CREATED:20180322T151644Z
LAST-MODIFIED:20180322T151644Z
UID:10001814-1526472000-1526476500@iccie.org
SUMMARY:Understanding the Intricacies of Cell Captives
DESCRIPTION:see class details
URL:https://iccie.org/course/understanding-intricacies-cell-captives-2/2018-05-16/
CATEGORIES:Elective Courses
END:VEVENT
BEGIN:VEVENT
DTSTART;TZID=America/New_York:20180515T120000
DTEND;TZID=America/New_York:20180515T131500
DTSTAMP:20260424T073617
CREATED:20171024T173424Z
LAST-MODIFIED:20171024T173424Z
UID:10002108-1526385600-1526390100@iccie.org
SUMMARY:Captive Claims Management: Best Practices and Reinsurance
DESCRIPTION:See Course Details
URL:https://iccie.org/course/captive-claims-management-best-practices-reinsurance/2018-05-15/
CATEGORIES:Elective Courses
END:VEVENT
BEGIN:VEVENT
DTSTART;TZID=America/New_York:20180509T120000
DTEND;TZID=America/New_York:20180509T131500
DTSTAMP:20260424T073617
CREATED:20180322T151644Z
LAST-MODIFIED:20180322T151644Z
UID:10001813-1525867200-1525871700@iccie.org
SUMMARY:Understanding the Intricacies of Cell Captives
DESCRIPTION:see class details
URL:https://iccie.org/course/understanding-intricacies-cell-captives-2/2018-05-09/
CATEGORIES:Elective Courses
END:VEVENT
BEGIN:VEVENT
DTSTART;TZID=America/New_York:20180508T120000
DTEND;TZID=America/New_York:20180508T131500
DTSTAMP:20260424T073617
CREATED:20171024T173424Z
LAST-MODIFIED:20171024T173424Z
UID:10002107-1525780800-1525785300@iccie.org
SUMMARY:Captive Claims Management: Best Practices and Reinsurance
DESCRIPTION:See Course Details
URL:https://iccie.org/course/captive-claims-management-best-practices-reinsurance/2018-05-08/
CATEGORIES:Elective Courses
END:VEVENT
BEGIN:VEVENT
DTSTART;TZID=America/New_York:20180507T120000
DTEND;TZID=America/New_York:20180507T131500
DTSTAMP:20260424T073617
CREATED:20180423T145417Z
LAST-MODIFIED:20180423T145417Z
UID:10002199-1525694400-1525698900@iccie.org
SUMMARY:Accounting for Captives: Interpretation and Management Perspectives
DESCRIPTION:See Course Details
URL:https://iccie.org/course/accounting-captives-interpretation-management-perspectives-6/
CATEGORIES:Elective Courses
END:VEVENT
BEGIN:VEVENT
DTSTART;TZID=America/New_York:20180503T120000
DTEND;TZID=America/New_York:20180503T131500
DTSTAMP:20260424T073617
CREATED:20171024T173751Z
LAST-MODIFIED:20180423T145112Z
UID:10002111-1525348800-1525353300@iccie.org
SUMMARY:Accounting for Captives: Interpretation and Management Perspectives
DESCRIPTION:See Course Details
URL:https://iccie.org/course/accounting-captives-interpretation-management-perspectives-5/2018-05-03/
CATEGORIES:Elective Courses
END:VEVENT
BEGIN:VEVENT
DTSTART;TZID=America/New_York:20180502T120000
DTEND;TZID=America/New_York:20180502T131500
DTSTAMP:20260424T073617
CREATED:20180322T151644Z
LAST-MODIFIED:20180322T151644Z
UID:10001812-1525262400-1525266900@iccie.org
SUMMARY:Understanding the Intricacies of Cell Captives
DESCRIPTION:see class details
URL:https://iccie.org/course/understanding-intricacies-cell-captives-2/2018-05-02/
CATEGORIES:Elective Courses
END:VEVENT
BEGIN:VEVENT
DTSTART;TZID=America/New_York:20180501T120000
DTEND;TZID=America/New_York:20180501T131500
DTSTAMP:20260424T073617
CREATED:20171024T171903Z
LAST-MODIFIED:20171024T171903Z
UID:10002037-1525176000-1525180500@iccie.org
SUMMARY:Predicting Risk and an Introduction to Actuarial Science
DESCRIPTION:See Course Details
URL:https://iccie.org/course/predicting-risk-introduction-actuarial-science-2/2018-05-01/
CATEGORIES:Core Courses
END:VEVENT
BEGIN:VEVENT
DTSTART;TZID=America/New_York:20180425T120000
DTEND;TZID=America/New_York:20180425T131500
DTSTAMP:20260424T073617
CREATED:20171010T183321Z
LAST-MODIFIED:20171010T183321Z
UID:10001798-1524657600-1524662100@iccie.org
SUMMARY:Forming and Operating a Captive
DESCRIPTION:See Course Details
URL:https://iccie.org/course/forming-operating-captive-5/2018-04-25/
CATEGORIES:Core Courses
END:VEVENT
BEGIN:VEVENT
DTSTART;TZID=America/New_York:20180424T120000
DTEND;TZID=America/New_York:20180424T131500
DTSTAMP:20260424T073617
CREATED:20171024T171903Z
LAST-MODIFIED:20171024T171903Z
UID:10002036-1524571200-1524575700@iccie.org
SUMMARY:Predicting Risk and an Introduction to Actuarial Science
DESCRIPTION:See Course Details
URL:https://iccie.org/course/predicting-risk-introduction-actuarial-science-2/2018-04-24/
CATEGORIES:Core Courses
END:VEVENT
BEGIN:VEVENT
DTSTART;TZID=America/New_York:20180419T120000
DTEND;TZID=America/New_York:20180419T131500
DTSTAMP:20260424T073617
CREATED:20171024T172212Z
LAST-MODIFIED:20171024T172212Z
UID:10002040-1524139200-1524143700@iccie.org
SUMMARY:Business Ethics in the Captive Insurance Industry
DESCRIPTION:See Course Details
URL:https://iccie.org/course/business-ethics-captive-insurance-industry-3/2018-04-19/
CATEGORIES:Core Courses
END:VEVENT
BEGIN:VEVENT
DTSTART;TZID=America/New_York:20180418T120000
DTEND;TZID=America/New_York:20180418T131500
DTSTAMP:20260424T073617
CREATED:20171010T183321Z
LAST-MODIFIED:20171010T183321Z
UID:10001797-1524052800-1524057300@iccie.org
SUMMARY:Forming and Operating a Captive
DESCRIPTION:See Course Details
URL:https://iccie.org/course/forming-operating-captive-5/2018-04-18/
CATEGORIES:Core Courses
END:VEVENT
BEGIN:VEVENT
DTSTART;TZID=America/New_York:20180417T120000
DTEND;TZID=America/New_York:20180417T131500
DTSTAMP:20260424T073617
CREATED:20171024T171903Z
LAST-MODIFIED:20171024T171903Z
UID:10002035-1523966400-1523970900@iccie.org
SUMMARY:Predicting Risk and an Introduction to Actuarial Science
DESCRIPTION:See Course Details
URL:https://iccie.org/course/predicting-risk-introduction-actuarial-science-2/2018-04-17/
CATEGORIES:Core Courses
END:VEVENT
BEGIN:VEVENT
DTSTART;TZID=America/New_York:20180412T120000
DTEND;TZID=America/New_York:20180412T131500
DTSTAMP:20260424T073617
CREATED:20171024T172212Z
LAST-MODIFIED:20171024T172212Z
UID:10002039-1523534400-1523538900@iccie.org
SUMMARY:Business Ethics in the Captive Insurance Industry
DESCRIPTION:See Course Details
URL:https://iccie.org/course/business-ethics-captive-insurance-industry-3/2018-04-12/
CATEGORIES:Core Courses
END:VEVENT
BEGIN:VEVENT
DTSTART;TZID=America/New_York:20180411T120000
DTEND;TZID=America/New_York:20180411T131500
DTSTAMP:20260424T073617
CREATED:20171010T183321Z
LAST-MODIFIED:20171010T183321Z
UID:10001796-1523448000-1523452500@iccie.org
SUMMARY:Forming and Operating a Captive
DESCRIPTION:See Course Details
URL:https://iccie.org/course/forming-operating-captive-5/2018-04-11/
CATEGORIES:Core Courses
END:VEVENT
BEGIN:VEVENT
DTSTART;TZID=America/New_York:20180409T143000
DTEND;TZID=America/New_York:20180409T153000
DTSTAMP:20260424T073617
CREATED:20180206T172244Z
LAST-MODIFIED:20180227T175759Z
UID:10001808-1523284200-1523287800@iccie.org
SUMMARY:Hot Topic Webinar - “Cyber Risk\, Patient Safety and Captives”
DESCRIPTION:Program Summary:\n\nThe current risk environment for health systems is changing quickly and includes a wide spectrum of threats – ranging from traditional intrusions designed to steal protected health information (PHI) to more novel and emerging attacks\, such as tampering with bio medical devices or blocking access to essential records systems. The changing threat environment is blurring the lines between information security and patient safety and is requiring each discipline to expand its scope.\n\n  \nObjectives:\n\n\n\nExplain how cyber and privacy risks are bleeding over into medical professional liability risks\nExplore how the Captive may serve as a potential alternative source of funding for cybersecurity risk mitigation initiatives\nEnhance a health systems risk management approach to better protect patients against new cybersecurity-related threats to patient safety\nAdopt a comprehensive\, integrated approach for managing security\, safety\, privacy\, and risk related to patient information\n\n\nModerator: Bob Chaput\, CEO of Clearwater Compliance \nSpeakers: \nMark Reynolds\, CEO\, Risk Management Foundation Harvard University\nChet Porembski\, Deputy General Counsel\, Ohio Health Corporation \n\n\nThis Webinar is sponsored by
URL:https://iccie.org/course/changing-priorities-people-strategies-managing-stakeholder-alignment-changing-landscape/
CATEGORIES:Webinars
END:VEVENT
BEGIN:VEVENT
DTSTART;TZID=America/New_York:20180405T120000
DTEND;TZID=America/New_York:20180405T131500
DTSTAMP:20260424T073617
CREATED:20171024T172212Z
LAST-MODIFIED:20171024T172212Z
UID:10002038-1522929600-1522934100@iccie.org
SUMMARY:Business Ethics in the Captive Insurance Industry
DESCRIPTION:See Course Details
URL:https://iccie.org/course/business-ethics-captive-insurance-industry-3/2018-04-05/
CATEGORIES:Core Courses
END:VEVENT
BEGIN:VEVENT
DTSTART;TZID=America/New_York:20180404T120000
DTEND;TZID=America/New_York:20180404T131500
DTSTAMP:20260424T073617
CREATED:20171010T183321Z
LAST-MODIFIED:20171010T183321Z
UID:10001795-1522843200-1522847700@iccie.org
SUMMARY:Forming and Operating a Captive
DESCRIPTION:See Course Details
URL:https://iccie.org/course/forming-operating-captive-5/2018-04-04/
CATEGORIES:Core Courses
END:VEVENT
BEGIN:VEVENT
DTSTART;TZID=America/New_York:20180328T120000
DTEND;TZID=America/New_York:20180328T131500
DTSTAMP:20260424T073617
CREATED:20171010T183321Z
LAST-MODIFIED:20171010T183321Z
UID:10001794-1522238400-1522242900@iccie.org
SUMMARY:Forming and Operating a Captive
DESCRIPTION:See Course Details
URL:https://iccie.org/course/forming-operating-captive-5/2018-03-28/
CATEGORIES:Core Courses
END:VEVENT
END:VCALENDAR