BEGIN:VCALENDAR
VERSION:2.0
PRODID:-//ICCIE - ECPv6.15.20//NONSGML v1.0//EN
CALSCALE:GREGORIAN
METHOD:PUBLISH
X-WR-CALNAME:ICCIE
X-ORIGINAL-URL:https://iccie.org
X-WR-CALDESC:Events for ICCIE
REFRESH-INTERVAL;VALUE=DURATION:PT1H
X-Robots-Tag:noindex
X-PUBLISHED-TTL:PT1H
BEGIN:VTIMEZONE
TZID:America/New_York
BEGIN:DAYLIGHT
TZOFFSETFROM:-0500
TZOFFSETTO:-0400
TZNAME:EDT
DTSTART:20210314T070000
END:DAYLIGHT
BEGIN:STANDARD
TZOFFSETFROM:-0400
TZOFFSETTO:-0500
TZNAME:EST
DTSTART:20211107T060000
END:STANDARD
BEGIN:DAYLIGHT
TZOFFSETFROM:-0500
TZOFFSETTO:-0400
TZNAME:EDT
DTSTART:20220313T070000
END:DAYLIGHT
BEGIN:STANDARD
TZOFFSETFROM:-0400
TZOFFSETTO:-0500
TZNAME:EST
DTSTART:20221106T060000
END:STANDARD
BEGIN:DAYLIGHT
TZOFFSETFROM:-0500
TZOFFSETTO:-0400
TZNAME:EDT
DTSTART:20230312T070000
END:DAYLIGHT
BEGIN:STANDARD
TZOFFSETFROM:-0400
TZOFFSETTO:-0500
TZNAME:EST
DTSTART:20231105T060000
END:STANDARD
BEGIN:DAYLIGHT
TZOFFSETFROM:-0500
TZOFFSETTO:-0400
TZNAME:EDT
DTSTART:20240310T070000
END:DAYLIGHT
BEGIN:STANDARD
TZOFFSETFROM:-0400
TZOFFSETTO:-0500
TZNAME:EST
DTSTART:20241103T060000
END:STANDARD
END:VTIMEZONE
BEGIN:VEVENT
DTSTART;TZID=America/New_York:20230202T120000
DTEND;TZID=America/New_York:20230202T131500
DTSTAMP:20260424T180958
CREATED:20221025T175524Z
LAST-MODIFIED:20221025T180359Z
UID:10002114-1675339200-1675343700@iccie.org
SUMMARY:Understanding Risk and Risk Retention Mechanisms
DESCRIPTION:See Course Details
URL:https://iccie.org/course/understanding-risk-and-risk-retention-mechanisms-14/2023-02-02/
CATEGORIES:Core Courses
END:VEVENT
BEGIN:VEVENT
DTSTART;TZID=America/New_York:20230201T120000
DTEND;TZID=America/New_York:20230201T131500
DTSTAMP:20260424T180958
CREATED:20221025T174218Z
LAST-MODIFIED:20221025T174218Z
UID:10002505-1675252800-1675257300@iccie.org
SUMMARY:An Introduction to Alternative Risk Financing Mechanisms
DESCRIPTION:See Course Details
URL:https://iccie.org/course/an-introduction-to-alternative-risk-financing-mechanisms-11/2023-02-01/
CATEGORIES:Core Courses
END:VEVENT
BEGIN:VEVENT
DTSTART;TZID=America/New_York:20230131T120000
DTEND;TZID=America/New_York:20230131T131500
DTSTAMP:20260424T180958
CREATED:20221025T173918Z
LAST-MODIFIED:20221025T173918Z
UID:10002501-1675166400-1675170900@iccie.org
SUMMARY:Employee Benefits and Captives
DESCRIPTION:See Course Details
URL:https://iccie.org/course/employee-benefits-and-captives-3/2023-01-31/
CATEGORIES:Elective Courses
END:VEVENT
BEGIN:VEVENT
DTSTART;TZID=America/New_York:20230126T120000
DTEND;TZID=America/New_York:20230126T131500
DTSTAMP:20260424T180958
CREATED:20221025T173616Z
LAST-MODIFIED:20221025T173616Z
UID:10002497-1674734400-1674738900@iccie.org
SUMMARY:Investment Basics in Captive Insurance
DESCRIPTION:See Course Details
URL:https://iccie.org/course/investment-basics-in-captive-insurance-4/2023-01-26/
CATEGORIES:Core Courses
END:VEVENT
BEGIN:VEVENT
DTSTART;TZID=America/New_York:20230125T120000
DTEND;TZID=America/New_York:20230125T131500
DTSTAMP:20260424T180958
CREATED:20221025T174218Z
LAST-MODIFIED:20221025T174218Z
UID:10002504-1674648000-1674652500@iccie.org
SUMMARY:An Introduction to Alternative Risk Financing Mechanisms
DESCRIPTION:See Course Details
URL:https://iccie.org/course/an-introduction-to-alternative-risk-financing-mechanisms-11/2023-01-25/
CATEGORIES:Core Courses
END:VEVENT
BEGIN:VEVENT
DTSTART;TZID=America/New_York:20230124T120000
DTEND;TZID=America/New_York:20230124T131500
DTSTAMP:20260424T180958
CREATED:20221025T173918Z
LAST-MODIFIED:20221025T173918Z
UID:10002500-1674561600-1674566100@iccie.org
SUMMARY:Employee Benefits and Captives
DESCRIPTION:See Course Details
URL:https://iccie.org/course/employee-benefits-and-captives-3/2023-01-24/
CATEGORIES:Elective Courses
END:VEVENT
BEGIN:VEVENT
DTSTART;TZID=America/New_York:20230119T120000
DTEND;TZID=America/New_York:20230119T131500
DTSTAMP:20260424T180958
CREATED:20221025T173616Z
LAST-MODIFIED:20221025T173616Z
UID:10002496-1674129600-1674134100@iccie.org
SUMMARY:Investment Basics in Captive Insurance
DESCRIPTION:See Course Details
URL:https://iccie.org/course/investment-basics-in-captive-insurance-4/2023-01-19/
CATEGORIES:Core Courses
END:VEVENT
BEGIN:VEVENT
DTSTART;TZID=America/New_York:20230118T120000
DTEND;TZID=America/New_York:20230118T131500
DTSTAMP:20260424T180958
CREATED:20221025T174218Z
LAST-MODIFIED:20221025T174218Z
UID:10002503-1674043200-1674047700@iccie.org
SUMMARY:An Introduction to Alternative Risk Financing Mechanisms
DESCRIPTION:See Course Details
URL:https://iccie.org/course/an-introduction-to-alternative-risk-financing-mechanisms-11/2023-01-18/
CATEGORIES:Core Courses
END:VEVENT
BEGIN:VEVENT
DTSTART;TZID=America/New_York:20230117T120000
DTEND;TZID=America/New_York:20230117T131500
DTSTAMP:20260424T180958
CREATED:20221025T173918Z
LAST-MODIFIED:20221025T173918Z
UID:10002499-1673956800-1673961300@iccie.org
SUMMARY:Employee Benefits and Captives
DESCRIPTION:See Course Details
URL:https://iccie.org/course/employee-benefits-and-captives-3/2023-01-17/
CATEGORIES:Elective Courses
END:VEVENT
BEGIN:VEVENT
DTSTART;VALUE=DATE:20230116
DTEND;VALUE=DATE:20230117
DTSTAMP:20260424T180958
CREATED:20221025T182304Z
LAST-MODIFIED:20221025T182304Z
UID:10002179-1673827200-1673913599@iccie.org
SUMMARY:Martin Luther King Jr Day
DESCRIPTION:ICCIE Office Closed
URL:https://iccie.org/course/martin-luther-king-jr-day/
CATEGORIES:Holidays
END:VEVENT
BEGIN:VEVENT
DTSTART;TZID=America/New_York:20230112T120000
DTEND;TZID=America/New_York:20230112T131500
DTSTAMP:20260424T180958
CREATED:20221025T173616Z
LAST-MODIFIED:20221025T173616Z
UID:10002495-1673524800-1673529300@iccie.org
SUMMARY:Investment Basics in Captive Insurance
DESCRIPTION:See Course Details
URL:https://iccie.org/course/investment-basics-in-captive-insurance-4/2023-01-12/
CATEGORIES:Core Courses
END:VEVENT
BEGIN:VEVENT
DTSTART;TZID=America/New_York:20230111T120000
DTEND;TZID=America/New_York:20230111T131500
DTSTAMP:20260424T180958
CREATED:20221025T174218Z
LAST-MODIFIED:20221025T174218Z
UID:10002502-1673438400-1673442900@iccie.org
SUMMARY:An Introduction to Alternative Risk Financing Mechanisms
DESCRIPTION:See Course Details
URL:https://iccie.org/course/an-introduction-to-alternative-risk-financing-mechanisms-11/2023-01-11/
CATEGORIES:Core Courses
END:VEVENT
BEGIN:VEVENT
DTSTART;TZID=America/New_York:20230110T120000
DTEND;TZID=America/New_York:20230110T131500
DTSTAMP:20260424T180958
CREATED:20221025T173918Z
LAST-MODIFIED:20221025T173918Z
UID:10002498-1673352000-1673356500@iccie.org
SUMMARY:Employee Benefits and Captives
DESCRIPTION:See Course Details
URL:https://iccie.org/course/employee-benefits-and-captives-3/2023-01-10/
CATEGORIES:Elective Courses
END:VEVENT
BEGIN:VEVENT
DTSTART;TZID=America/New_York:20230105T120000
DTEND;TZID=America/New_York:20230105T131500
DTSTAMP:20260424T180958
CREATED:20221025T173616Z
LAST-MODIFIED:20221025T173616Z
UID:10002494-1672920000-1672924500@iccie.org
SUMMARY:Investment Basics in Captive Insurance
DESCRIPTION:See Course Details
URL:https://iccie.org/course/investment-basics-in-captive-insurance-4/2023-01-05/
CATEGORIES:Core Courses
END:VEVENT
BEGIN:VEVENT
DTSTART;TZID=America/New_York:20221215T120000
DTEND;TZID=America/New_York:20221215T131500
DTSTAMP:20260424T180958
CREATED:20220614T201311Z
LAST-MODIFIED:20220614T201311Z
UID:10002483-1671105600-1671110100@iccie.org
SUMMARY:Captive Board Governance
DESCRIPTION:see course details
URL:https://iccie.org/course/captive-board-governance-8/2022-12-15/
CATEGORIES:Elective Courses
END:VEVENT
BEGIN:VEVENT
DTSTART;TZID=America/New_York:20221214T120000
DTEND;TZID=America/New_York:20221214T131500
DTSTAMP:20260424T180958
CREATED:20220614T202148Z
LAST-MODIFIED:20220614T202148Z
UID:10002486-1671019200-1671023700@iccie.org
SUMMARY:Reinsurance and Other Risk Transfer Mechanisms
DESCRIPTION:see course details
URL:https://iccie.org/course/reinsurance-and-other-risk-transfer-mechanisms-9/2022-12-14/
CATEGORIES:Core Courses
END:VEVENT
BEGIN:VEVENT
DTSTART;TZID=America/New_York:20221213T120000
DTEND;TZID=America/New_York:20221213T131500
DTSTAMP:20260424T180958
CREATED:20220614T200547Z
LAST-MODIFIED:20220614T200547Z
UID:10002480-1670932800-1670937300@iccie.org
SUMMARY:Predicting Risk and an Introduction to Actuarial Science
DESCRIPTION:see course details
URL:https://iccie.org/course/predicting-risk-and-an-introduction-to-actuarial-science-7/2022-12-13/
CATEGORIES:Core Courses
END:VEVENT
BEGIN:VEVENT
DTSTART;TZID=America/New_York:20221208T120000
DTEND;TZID=America/New_York:20221208T131500
DTSTAMP:20260424T180958
CREATED:20220614T201311Z
LAST-MODIFIED:20220614T201311Z
UID:10002482-1670500800-1670505300@iccie.org
SUMMARY:Captive Board Governance
DESCRIPTION:see course details
URL:https://iccie.org/course/captive-board-governance-8/2022-12-08/
CATEGORIES:Elective Courses
END:VEVENT
BEGIN:VEVENT
DTSTART;TZID=America/New_York:20221207T120000
DTEND;TZID=America/New_York:20221207T131500
DTSTAMP:20260424T180958
CREATED:20220614T202148Z
LAST-MODIFIED:20220614T202148Z
UID:10002485-1670414400-1670418900@iccie.org
SUMMARY:Reinsurance and Other Risk Transfer Mechanisms
DESCRIPTION:see course details
URL:https://iccie.org/course/reinsurance-and-other-risk-transfer-mechanisms-9/2022-12-07/
CATEGORIES:Core Courses
END:VEVENT
BEGIN:VEVENT
DTSTART;TZID=America/New_York:20221206T120000
DTEND;TZID=America/New_York:20221206T131500
DTSTAMP:20260424T180958
CREATED:20220614T200547Z
LAST-MODIFIED:20220614T200547Z
UID:10002479-1670328000-1670332500@iccie.org
SUMMARY:Predicting Risk and an Introduction to Actuarial Science
DESCRIPTION:see course details
URL:https://iccie.org/course/predicting-risk-and-an-introduction-to-actuarial-science-7/2022-12-06/
CATEGORIES:Core Courses
END:VEVENT
BEGIN:VEVENT
DTSTART;TZID=America/New_York:20221201T120000
DTEND;TZID=America/New_York:20221201T131500
DTSTAMP:20260424T180958
CREATED:20220614T201311Z
LAST-MODIFIED:20220614T201311Z
UID:10002481-1669896000-1669900500@iccie.org
SUMMARY:Captive Board Governance
DESCRIPTION:see course details
URL:https://iccie.org/course/captive-board-governance-8/2022-12-01/
CATEGORIES:Elective Courses
END:VEVENT
BEGIN:VEVENT
DTSTART;TZID=America/New_York:20221130T120000
DTEND;TZID=America/New_York:20221130T131500
DTSTAMP:20260424T180958
CREATED:20220614T202148Z
LAST-MODIFIED:20220614T202148Z
UID:10002484-1669809600-1669814100@iccie.org
SUMMARY:Reinsurance and Other Risk Transfer Mechanisms
DESCRIPTION:see course details
URL:https://iccie.org/course/reinsurance-and-other-risk-transfer-mechanisms-9/2022-11-30/
CATEGORIES:Core Courses
END:VEVENT
BEGIN:VEVENT
DTSTART;TZID=America/New_York:20221130T101500
DTEND;TZID=America/New_York:20221130T111000
DTSTAMP:20260424T180958
CREATED:20221026T170323Z
LAST-MODIFIED:20221026T170323Z
UID:10002507-1669803300-1669806600@iccie.org
SUMMARY:Defending the Caregivers: Criminalizing the Clinical Defendant
DESCRIPTION:
URL:https://iccie.org/course/defending-the-caregivers-criminalizing-the-clinical-defendant/
CATEGORIES:Webinars
END:VEVENT
BEGIN:VEVENT
DTSTART;TZID=America/New_York:20221129T120000
DTEND;TZID=America/New_York:20221129T131500
DTSTAMP:20260424T180958
CREATED:20220614T200547Z
LAST-MODIFIED:20220614T200547Z
UID:10002478-1669723200-1669727700@iccie.org
SUMMARY:Predicting Risk and an Introduction to Actuarial Science
DESCRIPTION:see course details
URL:https://iccie.org/course/predicting-risk-and-an-introduction-to-actuarial-science-7/2022-11-29/
CATEGORIES:Core Courses
END:VEVENT
BEGIN:VEVENT
DTSTART;VALUE=DATE:20221125
DTEND;VALUE=DATE:20221126
DTSTAMP:20260424T180958
CREATED:20220614T202542Z
LAST-MODIFIED:20220614T202542Z
UID:10002488-1669334400-1669420799@iccie.org
SUMMARY:ICCIE Office Closed
DESCRIPTION:
URL:https://iccie.org/course/iccie-office-closed/
CATEGORIES:Holidays
END:VEVENT
BEGIN:VEVENT
DTSTART;VALUE=DATE:20221124
DTEND;VALUE=DATE:20221125
DTSTAMP:20260424T180958
CREATED:20220614T202441Z
LAST-MODIFIED:20220614T202441Z
UID:10002487-1669248000-1669334399@iccie.org
SUMMARY:Thanksgiving
DESCRIPTION:
URL:https://iccie.org/course/thanksgiving-2/
CATEGORIES:Holidays
END:VEVENT
BEGIN:VEVENT
DTSTART;TZID=America/New_York:20221117T120000
DTEND;TZID=America/New_York:20221117T131500
DTSTAMP:20260424T180958
CREATED:20220614T200245Z
LAST-MODIFIED:20220614T200245Z
UID:10002106-1668686400-1668690900@iccie.org
SUMMARY:An Introduction to Alternative Risk Financing Mechanisms
DESCRIPTION:see course details
URL:https://iccie.org/course/an-introduction-to-alternative-risk-financing-mechanisms-10/2022-11-17/
CATEGORIES:Core Courses
END:VEVENT
BEGIN:VEVENT
DTSTART;TZID=America/New_York:20221116T120000
DTEND;TZID=America/New_York:20221116T131500
DTSTAMP:20260424T180958
CREATED:20220614T200004Z
LAST-MODIFIED:20220614T200004Z
UID:10002102-1668600000-1668604500@iccie.org
SUMMARY:Forming and Operating a Captive
DESCRIPTION:see course details
URL:https://iccie.org/course/forming-and-operating-a-captive-9/2022-11-16/
CATEGORIES:Core Courses
END:VEVENT
BEGIN:VEVENT
DTSTART;TZID=America/New_York:20221110T120000
DTEND;TZID=America/New_York:20221110T131500
DTSTAMP:20260424T180958
CREATED:20220614T200245Z
LAST-MODIFIED:20220614T200245Z
UID:10002105-1668081600-1668086100@iccie.org
SUMMARY:An Introduction to Alternative Risk Financing Mechanisms
DESCRIPTION:see course details
URL:https://iccie.org/course/an-introduction-to-alternative-risk-financing-mechanisms-10/2022-11-10/
CATEGORIES:Core Courses
END:VEVENT
BEGIN:VEVENT
DTSTART;TZID=America/New_York:20221109T120000
DTEND;TZID=America/New_York:20221109T131500
DTSTAMP:20260424T180958
CREATED:20220614T200004Z
LAST-MODIFIED:20220614T200004Z
UID:10002101-1667995200-1667999700@iccie.org
SUMMARY:Forming and Operating a Captive
DESCRIPTION:see course details
URL:https://iccie.org/course/forming-and-operating-a-captive-9/2022-11-09/
CATEGORIES:Core Courses
END:VEVENT
END:VCALENDAR