BEGIN:VCALENDAR
VERSION:2.0
PRODID:-//ICCIE - ECPv6.15.20//NONSGML v1.0//EN
CALSCALE:GREGORIAN
METHOD:PUBLISH
X-WR-CALNAME:ICCIE
X-ORIGINAL-URL:https://iccie.org
X-WR-CALDESC:Events for ICCIE
REFRESH-INTERVAL;VALUE=DURATION:PT1H
X-Robots-Tag:noindex
X-PUBLISHED-TTL:PT1H
BEGIN:VTIMEZONE
TZID:America/New_York
BEGIN:DAYLIGHT
TZOFFSETFROM:-0500
TZOFFSETTO:-0400
TZNAME:EDT
DTSTART:20230312T070000
END:DAYLIGHT
BEGIN:STANDARD
TZOFFSETFROM:-0400
TZOFFSETTO:-0500
TZNAME:EST
DTSTART:20231105T060000
END:STANDARD
BEGIN:DAYLIGHT
TZOFFSETFROM:-0500
TZOFFSETTO:-0400
TZNAME:EDT
DTSTART:20240310T070000
END:DAYLIGHT
BEGIN:STANDARD
TZOFFSETFROM:-0400
TZOFFSETTO:-0500
TZNAME:EST
DTSTART:20241103T060000
END:STANDARD
BEGIN:DAYLIGHT
TZOFFSETFROM:-0500
TZOFFSETTO:-0400
TZNAME:EDT
DTSTART:20250309T070000
END:DAYLIGHT
BEGIN:STANDARD
TZOFFSETFROM:-0400
TZOFFSETTO:-0500
TZNAME:EST
DTSTART:20251102T060000
END:STANDARD
BEGIN:DAYLIGHT
TZOFFSETFROM:-0500
TZOFFSETTO:-0400
TZNAME:EDT
DTSTART:20260308T070000
END:DAYLIGHT
BEGIN:STANDARD
TZOFFSETFROM:-0400
TZOFFSETTO:-0500
TZNAME:EST
DTSTART:20261101T060000
END:STANDARD
END:VTIMEZONE
BEGIN:VEVENT
DTSTART;TZID=America/New_York:20241001T120000
DTEND;TZID=America/New_York:20241001T131500
DTSTAMP:20260421T080658
CREATED:20240429T185918Z
LAST-MODIFIED:20240731T163317Z
UID:10002629-1727784000-1727788500@iccie.org
SUMMARY:Understanding Risk and Risk Retention Mechanisms - *FULL*
DESCRIPTION:see course description for details
URL:https://iccie.org/course/understanding-risk-and-risk-retention-mechanisms-17/2024-10-01/
CATEGORIES:Core Courses
END:VEVENT
BEGIN:VEVENT
DTSTART;TZID=America/New_York:20241002T120000
DTEND;TZID=America/New_York:20241002T131500
DTSTAMP:20260421T080658
CREATED:20240429T180758Z
LAST-MODIFIED:20240709T125458Z
UID:10002622-1727870400-1727874900@iccie.org
SUMMARY:Forming and Operating a Captive - *FULL*
DESCRIPTION:The Fall 2024 offering of this course is *FULL*.  We are no longer accepting registrations. \nThe course will be offered again in Spring 2025.
URL:https://iccie.org/course/forming-and-operating-a-captive-13/2024-10-02/
CATEGORIES:Core Courses
END:VEVENT
BEGIN:VEVENT
DTSTART;TZID=America/New_York:20241003T120000
DTEND;TZID=America/New_York:20241003T131500
DTSTAMP:20260421T080658
CREATED:20240617T163635Z
LAST-MODIFIED:20240617T163635Z
UID:10002707-1727956800-1727961300@iccie.org
SUMMARY:An Introduction to Alternative Risk Financing Mechanisms
DESCRIPTION:see course details
URL:https://iccie.org/course/an-introduction-to-alternative-risk-financing-mechanisms-14/2024-10-03/
CATEGORIES:Core Courses
END:VEVENT
BEGIN:VEVENT
DTSTART;TZID=America/New_York:20241007T120000
DTEND;TZID=America/New_York:20241007T131500
DTSTAMP:20260421T080658
CREATED:20240514T145807Z
LAST-MODIFIED:20240514T145807Z
UID:10002702-1728302400-1728306900@iccie.org
SUMMARY:Investment Basics for Captives
DESCRIPTION:see course description for details
URL:https://iccie.org/course/investment-basics-for-captives-8/2024-10-07/
CATEGORIES:Core Courses
END:VEVENT
BEGIN:VEVENT
DTSTART;TZID=America/New_York:20241008T120000
DTEND;TZID=America/New_York:20241008T131500
DTSTAMP:20260421T080658
CREATED:20240429T191042Z
LAST-MODIFIED:20240429T191042Z
UID:10002685-1728388800-1728393300@iccie.org
SUMMARY:Regulation of Captives
DESCRIPTION:see course description for details
URL:https://iccie.org/course/regulation-of-captives-9/2024-10-08/
CATEGORIES:Elective Courses
END:VEVENT
BEGIN:VEVENT
DTSTART;TZID=America/New_York:20241009T120000
DTEND;TZID=America/New_York:20241009T131500
DTSTAMP:20260421T080658
CREATED:20240429T180758Z
LAST-MODIFIED:20240709T125458Z
UID:10002624-1728475200-1728479700@iccie.org
SUMMARY:Forming and Operating a Captive - *FULL*
DESCRIPTION:The Fall 2024 offering of this course is *FULL*.  We are no longer accepting registrations. \nThe course will be offered again in Spring 2025.
URL:https://iccie.org/course/forming-and-operating-a-captive-13/2024-10-09/
CATEGORIES:Core Courses
END:VEVENT
BEGIN:VEVENT
DTSTART;TZID=America/New_York:20241010T120000
DTEND;TZID=America/New_York:20241010T131500
DTSTAMP:20260421T080658
CREATED:20240617T163635Z
LAST-MODIFIED:20240617T163635Z
UID:10002708-1728561600-1728566100@iccie.org
SUMMARY:An Introduction to Alternative Risk Financing Mechanisms
DESCRIPTION:see course details
URL:https://iccie.org/course/an-introduction-to-alternative-risk-financing-mechanisms-14/2024-10-10/
CATEGORIES:Core Courses
END:VEVENT
BEGIN:VEVENT
DTSTART;VALUE=DATE:20241014
DTEND;VALUE=DATE:20241019
DTSTAMP:20260421T080658
CREATED:20240429T191306Z
LAST-MODIFIED:20240429T191350Z
UID:10002689-1728864000-1729295999@iccie.org
SUMMARY:No ICCIE Classes October 14-18
DESCRIPTION:
URL:https://iccie.org/course/no-iccie-classes-october-14-17/
END:VEVENT
BEGIN:VEVENT
DTSTART;TZID=America/New_York:20241021T120000
DTEND;TZID=America/New_York:20241021T131500
DTSTAMP:20260421T080658
CREATED:20240514T145807Z
LAST-MODIFIED:20240514T145807Z
UID:10002703-1729512000-1729516500@iccie.org
SUMMARY:Investment Basics for Captives
DESCRIPTION:see course description for details
URL:https://iccie.org/course/investment-basics-for-captives-8/2024-10-21/
CATEGORIES:Core Courses
END:VEVENT
BEGIN:VEVENT
DTSTART;TZID=America/New_York:20241022T120000
DTEND;TZID=America/New_York:20241022T131500
DTSTAMP:20260421T080658
CREATED:20240429T191042Z
LAST-MODIFIED:20240429T191042Z
UID:10002686-1729598400-1729602900@iccie.org
SUMMARY:Regulation of Captives
DESCRIPTION:see course description for details
URL:https://iccie.org/course/regulation-of-captives-9/2024-10-22/
CATEGORIES:Elective Courses
END:VEVENT
BEGIN:VEVENT
DTSTART;TZID=America/New_York:20241023T120000
DTEND;TZID=America/New_York:20241023T131500
DTSTAMP:20260421T080658
CREATED:20240429T192236Z
LAST-MODIFIED:20240916T171310Z
UID:10002690-1729684800-1729689300@iccie.org
SUMMARY:Business Ethics in the Captive Insurance Industry - *FULL*
DESCRIPTION:see course description for details
URL:https://iccie.org/course/business-ethics-in-the-captive-insurance-industry-12/2024-10-23/
CATEGORIES:Core Courses
END:VEVENT
BEGIN:VEVENT
DTSTART;TZID=America/New_York:20241024T120000
DTEND;TZID=America/New_York:20241024T131500
DTSTAMP:20260421T080658
CREATED:20240617T163635Z
LAST-MODIFIED:20240617T163635Z
UID:10002709-1729771200-1729775700@iccie.org
SUMMARY:An Introduction to Alternative Risk Financing Mechanisms
DESCRIPTION:see course details
URL:https://iccie.org/course/an-introduction-to-alternative-risk-financing-mechanisms-14/2024-10-24/
CATEGORIES:Core Courses
END:VEVENT
BEGIN:VEVENT
DTSTART;TZID=America/New_York:20241028T120000
DTEND;TZID=America/New_York:20241028T131500
DTSTAMP:20260421T080658
CREATED:20240514T145807Z
LAST-MODIFIED:20240514T145807Z
UID:10002704-1730116800-1730121300@iccie.org
SUMMARY:Investment Basics for Captives
DESCRIPTION:see course description for details
URL:https://iccie.org/course/investment-basics-for-captives-8/2024-10-28/
CATEGORIES:Core Courses
END:VEVENT
BEGIN:VEVENT
DTSTART;TZID=America/New_York:20241029T120000
DTEND;TZID=America/New_York:20241029T131500
DTSTAMP:20260421T080658
CREATED:20240429T191042Z
LAST-MODIFIED:20240429T191042Z
UID:10002687-1730203200-1730207700@iccie.org
SUMMARY:Regulation of Captives
DESCRIPTION:see course description for details
URL:https://iccie.org/course/regulation-of-captives-9/2024-10-29/
CATEGORIES:Elective Courses
END:VEVENT
BEGIN:VEVENT
DTSTART;TZID=America/New_York:20241030T120000
DTEND;TZID=America/New_York:20241030T131500
DTSTAMP:20260421T080658
CREATED:20240429T192236Z
LAST-MODIFIED:20240916T171310Z
UID:10002691-1730289600-1730294100@iccie.org
SUMMARY:Business Ethics in the Captive Insurance Industry - *FULL*
DESCRIPTION:see course description for details
URL:https://iccie.org/course/business-ethics-in-the-captive-insurance-industry-12/2024-10-30/
CATEGORIES:Core Courses
END:VEVENT
BEGIN:VEVENT
DTSTART;TZID=America/New_York:20241104T120000
DTEND;TZID=America/New_York:20241104T131500
DTSTAMP:20260421T080658
CREATED:20240514T145807Z
LAST-MODIFIED:20240514T145807Z
UID:10002705-1730721600-1730726100@iccie.org
SUMMARY:Investment Basics for Captives
DESCRIPTION:see course description for details
URL:https://iccie.org/course/investment-basics-for-captives-8/2024-11-04/
CATEGORIES:Core Courses
END:VEVENT
BEGIN:VEVENT
DTSTART;TZID=America/New_York:20241105T120000
DTEND;TZID=America/New_York:20241105T131500
DTSTAMP:20260421T080658
CREATED:20240429T191042Z
LAST-MODIFIED:20240429T191042Z
UID:10002688-1730808000-1730812500@iccie.org
SUMMARY:Regulation of Captives
DESCRIPTION:see course description for details
URL:https://iccie.org/course/regulation-of-captives-9/2024-11-05/
CATEGORIES:Elective Courses
END:VEVENT
BEGIN:VEVENT
DTSTART;TZID=America/New_York:20241106T120000
DTEND;TZID=America/New_York:20241106T131500
DTSTAMP:20260421T080658
CREATED:20240429T192236Z
LAST-MODIFIED:20240916T171310Z
UID:10002692-1730894400-1730898900@iccie.org
SUMMARY:Business Ethics in the Captive Insurance Industry - *FULL*
DESCRIPTION:see course description for details
URL:https://iccie.org/course/business-ethics-in-the-captive-insurance-industry-12/2024-11-06/
CATEGORIES:Core Courses
END:VEVENT
BEGIN:VEVENT
DTSTART;TZID=America/New_York:20241203T120000
DTEND;TZID=America/New_York:20241203T131500
DTSTAMP:20260421T080658
CREATED:20240429T192550Z
LAST-MODIFIED:20241024T174543Z
UID:10002693-1733227200-1733231700@iccie.org
SUMMARY:Predicting Risk and an Introduction to Actuarial Science - *FULL*
DESCRIPTION:see course description for details
URL:https://iccie.org/course/predicting-risk-and-an-introduction-to-actuarial-science-11/2024-12-03/
CATEGORIES:Core Courses
END:VEVENT
BEGIN:VEVENT
DTSTART;TZID=America/New_York:20241203T160000
DTEND;TZID=America/New_York:20241203T165500
DTSTAMP:20260421T080658
CREATED:20241021T151940Z
LAST-MODIFIED:20241021T151940Z
UID:10002711-1733241600-1733244900@iccie.org
SUMMARY:Insurance Provisions – Considerations When Selecting Your Recorded Reserve
DESCRIPTION:See Webinar Details
URL:https://iccie.org/course/insurance-provisions-considerations-when-selecting-your-recorded-reserve/
CATEGORIES:Webinars
END:VEVENT
BEGIN:VEVENT
DTSTART;TZID=America/New_York:20241204T120000
DTEND;TZID=America/New_York:20241204T131500
DTSTAMP:20260421T080658
CREATED:20240507T123318Z
LAST-MODIFIED:20241024T174627Z
UID:10002699-1733313600-1733318100@iccie.org
SUMMARY:Reinsurance and Other Risk Transfer Mechanisms - *FULL*
DESCRIPTION:see course description for details
URL:https://iccie.org/course/reinsurance-and-other-risk-transfer-mechanisms-13/2024-12-04/
CATEGORIES:Core Courses
END:VEVENT
BEGIN:VEVENT
DTSTART;TZID=America/New_York:20241205T120000
DTEND;TZID=America/New_York:20241205T131500
DTSTAMP:20260421T080658
CREATED:20240429T192922Z
LAST-MODIFIED:20240429T192922Z
UID:10002696-1733400000-1733404500@iccie.org
SUMMARY:Captive Board Governance
DESCRIPTION:see course description for details
URL:https://iccie.org/course/captive-board-governance-10/2024-12-05/
CATEGORIES:Elective Courses
END:VEVENT
BEGIN:VEVENT
DTSTART;TZID=America/New_York:20241210T120000
DTEND;TZID=America/New_York:20241210T131500
DTSTAMP:20260421T080658
CREATED:20240429T192550Z
LAST-MODIFIED:20241024T174543Z
UID:10002694-1733832000-1733836500@iccie.org
SUMMARY:Predicting Risk and an Introduction to Actuarial Science - *FULL*
DESCRIPTION:see course description for details
URL:https://iccie.org/course/predicting-risk-and-an-introduction-to-actuarial-science-11/2024-12-10/
CATEGORIES:Core Courses
END:VEVENT
BEGIN:VEVENT
DTSTART;TZID=America/New_York:20241211T120000
DTEND;TZID=America/New_York:20241211T131500
DTSTAMP:20260421T080658
CREATED:20240507T123318Z
LAST-MODIFIED:20241024T174627Z
UID:10002700-1733918400-1733922900@iccie.org
SUMMARY:Reinsurance and Other Risk Transfer Mechanisms - *FULL*
DESCRIPTION:see course description for details
URL:https://iccie.org/course/reinsurance-and-other-risk-transfer-mechanisms-13/2024-12-11/
CATEGORIES:Core Courses
END:VEVENT
BEGIN:VEVENT
DTSTART;TZID=America/New_York:20241212T120000
DTEND;TZID=America/New_York:20241212T131500
DTSTAMP:20260421T080658
CREATED:20240429T192922Z
LAST-MODIFIED:20240429T192922Z
UID:10002697-1734004800-1734009300@iccie.org
SUMMARY:Captive Board Governance
DESCRIPTION:see course description for details
URL:https://iccie.org/course/captive-board-governance-10/2024-12-12/
CATEGORIES:Elective Courses
END:VEVENT
BEGIN:VEVENT
DTSTART;TZID=America/New_York:20241217T120000
DTEND;TZID=America/New_York:20241217T131500
DTSTAMP:20260421T080658
CREATED:20240429T192550Z
LAST-MODIFIED:20241024T174543Z
UID:10002695-1734436800-1734441300@iccie.org
SUMMARY:Predicting Risk and an Introduction to Actuarial Science - *FULL*
DESCRIPTION:see course description for details
URL:https://iccie.org/course/predicting-risk-and-an-introduction-to-actuarial-science-11/2024-12-17/
CATEGORIES:Core Courses
END:VEVENT
BEGIN:VEVENT
DTSTART;TZID=America/New_York:20241218T120000
DTEND;TZID=America/New_York:20241218T131500
DTSTAMP:20260421T080658
CREATED:20240507T123318Z
LAST-MODIFIED:20241024T174627Z
UID:10002701-1734523200-1734527700@iccie.org
SUMMARY:Reinsurance and Other Risk Transfer Mechanisms - *FULL*
DESCRIPTION:see course description for details
URL:https://iccie.org/course/reinsurance-and-other-risk-transfer-mechanisms-13/2024-12-18/
CATEGORIES:Core Courses
END:VEVENT
BEGIN:VEVENT
DTSTART;TZID=America/New_York:20241219T120000
DTEND;TZID=America/New_York:20241219T131500
DTSTAMP:20260421T080658
CREATED:20240429T192922Z
LAST-MODIFIED:20240429T192922Z
UID:10002698-1734609600-1734614100@iccie.org
SUMMARY:Captive Board Governance
DESCRIPTION:see course description for details
URL:https://iccie.org/course/captive-board-governance-10/2024-12-19/
CATEGORIES:Elective Courses
END:VEVENT
BEGIN:VEVENT
DTSTART;VALUE=DATE:20241224
DTEND;VALUE=DATE:20241227
DTSTAMP:20260421T080658
CREATED:20241209T181426Z
LAST-MODIFIED:20241209T181426Z
UID:10002817-1734998400-1735257599@iccie.org
SUMMARY:ICCIE Office Closed
DESCRIPTION:
URL:https://iccie.org/course/iccie-office-closed-2/
END:VEVENT
BEGIN:VEVENT
DTSTART;VALUE=DATE:20241231
DTEND;VALUE=DATE:20250102
DTSTAMP:20260421T080658
CREATED:20241209T181523Z
LAST-MODIFIED:20241209T181523Z
UID:10002818-1735603200-1735775999@iccie.org
SUMMARY:ICCIE Office Closed
DESCRIPTION:
URL:https://iccie.org/course/iccie-office-closed-3/
END:VEVENT
END:VCALENDAR